BEGIN:VCALENDAR
VERSION:2.0
PRODID:-//jEvents 2.0 for Joomla//EN
CALSCALE:GREGORIAN
METHOD:PUBLISH
BEGIN:VTIMEZONE
TZID:Europe/Paris
BEGIN:STANDARD
DTSTART:20190217T000000
RDATE:20190331T030000
TZOFFSETFROM:+0200
TZOFFSETTO:+0100
TZNAME:Europe/Paris CET
END:STANDARD
BEGIN:STANDARD
DTSTART:20191027T020000
RDATE:20200329T030000
TZOFFSETFROM:+0200
TZOFFSETTO:+0100
TZNAME:Europe/Paris CET
END:STANDARD
BEGIN:STANDARD
DTSTART:20201025T020000
RDATE:20210328T030000
TZOFFSETFROM:+0200
TZOFFSETTO:+0100
TZNAME:Europe/Paris CET
END:STANDARD
BEGIN:STANDARD
DTSTART:20211031T020000
RDATE:20220327T030000
TZOFFSETFROM:+0200
TZOFFSETTO:+0100
TZNAME:Europe/Paris CET
END:STANDARD
BEGIN:STANDARD
DTSTART:20221030T020000
RDATE:20230326T030000
TZOFFSETFROM:+0200
TZOFFSETTO:+0100
TZNAME:Europe/Paris CET
END:STANDARD
BEGIN:STANDARD
DTSTART:20231029T020000
RDATE:20240331T030000
TZOFFSETFROM:+0200
TZOFFSETTO:+0100
TZNAME:Europe/Paris CET
END:STANDARD
BEGIN:STANDARD
DTSTART:20241027T020000
RDATE:20250330T030000
TZOFFSETFROM:+0200
TZOFFSETTO:+0100
TZNAME:Europe/Paris CET
END:STANDARD
BEGIN:STANDARD
DTSTART:20251026T020000
RDATE:20260329T030000
TZOFFSETFROM:+0200
TZOFFSETTO:+0100
TZNAME:Europe/Paris CET
END:STANDARD
BEGIN:STANDARD
DTSTART:20261025T020000
RDATE:20270328T030000
TZOFFSETFROM:+0200
TZOFFSETTO:+0100
TZNAME:Europe/Paris CET
END:STANDARD
BEGIN:DAYLIGHT
DTSTART:20190331T030000
RDATE:20191027T020000
TZOFFSETFROM:+0100
TZOFFSETTO:+0200
TZNAME:Europe/Paris CEST
END:DAYLIGHT
BEGIN:DAYLIGHT
DTSTART:20200329T030000
RDATE:20201025T020000
TZOFFSETFROM:+0100
TZOFFSETTO:+0200
TZNAME:Europe/Paris CEST
END:DAYLIGHT
BEGIN:DAYLIGHT
DTSTART:20210328T030000
RDATE:20211031T020000
TZOFFSETFROM:+0100
TZOFFSETTO:+0200
TZNAME:Europe/Paris CEST
END:DAYLIGHT
BEGIN:DAYLIGHT
DTSTART:20220327T030000
RDATE:20221030T020000
TZOFFSETFROM:+0100
TZOFFSETTO:+0200
TZNAME:Europe/Paris CEST
END:DAYLIGHT
BEGIN:DAYLIGHT
DTSTART:20230326T030000
RDATE:20231029T020000
TZOFFSETFROM:+0100
TZOFFSETTO:+0200
TZNAME:Europe/Paris CEST
END:DAYLIGHT
BEGIN:DAYLIGHT
DTSTART:20240331T030000
RDATE:20241027T020000
TZOFFSETFROM:+0100
TZOFFSETTO:+0200
TZNAME:Europe/Paris CEST
END:DAYLIGHT
BEGIN:DAYLIGHT
DTSTART:20250330T030000
RDATE:20251026T020000
TZOFFSETFROM:+0100
TZOFFSETTO:+0200
TZNAME:Europe/Paris CEST
END:DAYLIGHT
BEGIN:DAYLIGHT
DTSTART:20260329T030000
RDATE:20261025T020000
TZOFFSETFROM:+0100
TZOFFSETTO:+0200
TZNAME:Europe/Paris CEST
END:DAYLIGHT
END:VTIMEZONE
BEGIN:VEVENT
UID:5f3f2edb464d3e50894b37fa5618d086
CATEGORIES:Compétition Saut
CREATED:20191111T130350
SUMMARY:Coupe des Vosges Gérardmer
URL;VALUE=URI:https://skivosges.net/agenda/a-venir/detailevenement/1405/-/coupe-des-vosge
 s-gerardmer?tmpl=component
DESCRIPTION:Coupe des Vosges Gérardmer\n - Codex évenement TMVT0040\n - Lieu : Gérardme
 r Tremplin des Bas Rupts\n - Organisateur : 14469 A.S GERARDMER SKI NORDIQU
 E\n - Courriel : RegularLabs.EmailProtector.unCloak("ep_ca969e4c");\n - Dél
 égué Technique : PIERRAT BERNARDPériode d'inscription à l'evènement du mard
 i 11 février 2020 à 00:00 au dimanche 16 février 2020 à 12:00 (Inscriptions
  impossibles).Inscriptions ouvertes aux detenteurs des titres Fédéraux vali
 des suivants : Licenciés CompétiteursEpreuves :\n - Le mardi 18 février 202
 0\n - Codex épreuve TMVM0041\n - Saut Special\n - Catégorie(s) : Toutes les
  Categories (Garçons)\n - Le mardi 18 février 2020\n - Codex épreuve TMVF00
 41\n - Saut Special\n - Catégorie(s) : Toutes les Categories (Filles)\n - V
 oir les informations dans l'agenda... (/index.php?option=com_jevents&amp;ta
 sk=icalevent.detail&amp;evid=1400&amp;Itemid=6289) Cet évènement a été impo
 rté depuis :https://skivosges.net/agenda/a-venir/detailevenement/1405/-/cou
 pe-des-vosges-gerardmer?tmpl=component
X-ALT-DESC;FMTTYPE=text/html:<!-- #gskiepreuve code généré par le plugin jevents pour GskiEpreuves. Ne p
 as modifier cette ligne, ni tout le contenu suivant  #gskiepreuve --><div c
 lass="gski-evenement_infos"><div class="gski-evenement-nom">Coupe des Vosge
 s Gérardmer</div><div class="gski-evenement-report"></div><ul class="gski-e
 venement-liste-infos"><li>Codex évenement TMVT0040</li><li>Lieu : G&eacute;
 rardmer Tremplin des Bas Rupts</li><li>Organisateur : 14469 A.S GERARDMER S
 KI NORDIQUE</li><li>Courriel : <!-- Cette adresse électronique est protégée
  contre les robots spammeurs. --><span class="cloaked_email ep_ca969e4c"><s
 pan data-ep-a="r&#101;&#103;&#105;" data-ep-b="&#46;f&#114;"><span data-ep-
 a="s.&#97;n" data-ep-b="&#97;&#100;oo"><span data-ep-b="&#64;&#119;&#97;&#1
 10;" data-ep-a="dr&#101;&#54;"></span></span></span></span><script>RegularL
 abs.EmailProtector.unCloak("ep_ca969e4c");</script></li><li><span class="gs
 ki-evenement-obs">Délégué Technique : PIERRAT BERNARD</span></li></ul><div 
 class="gski-evenement-infos-2"><div class="gski-evenement-info-inscriptions
 "><div class="gski-evenement-inscriptions-periodes">Période d'inscription à
  l'evènement du mardi 11 février 2020 à 00:00 au dimanche 16 février 2020 à
  12:00 <span class="gski-evenement-inscriptions-impossibles">(Inscriptions 
 impossibles).</span><div class="gski-evenement-inscriptions-types-titres">I
 nscriptions ouvertes aux detenteurs des titres Fédéraux valides suivants : 
 Licenciés Compétiteurs</div></div></div><div class="gski-evenement-epreuves
 "><div class="gski-evenement-epreuves-titres">Epreuves :</div><ul class="gs
 ki-evenement-epreuves-list"><li><div class="gski-epreuve-date">Le mardi 18 
 février 2020</div><ul class="gski-epreuve-liste-infos"><li>Codex épreuve TM
 VM0041</li><li>Saut Special</li><li>Catégorie(s) : Toutes les Categories (G
 arçons)</li></ul></li><li><div class="gski-epreuve-date">Le mardi 18 févrie
 r 2020</div><ul class="gski-epreuve-liste-infos"><li>Codex épreuve TMVF0041
 </li><li>Saut Special</li><li>Catégorie(s) : Toutes les Categories (Filles)
 </li></ul></li></ul></div><div class="gskiepreuves-links"><ul><li><a href="
 https://skivosges.net/index.php?option=com_jevents&task=icalevent.detail&ev
 id=1400&Itemid=6289">Voir les informations dans l'agenda...</a></li></ul></
 div></div"><!-- #/gskiepreuve fin du dode généré par le plugin jevents pour
  GskiEpreuves. . Ne pas modifier cette ligne, ni tout le contenu précedant.
   #/gskiepreuve --> <a href="https://skivosges.net/agenda/a-venir/detaileve
 nement/1405/-/coupe-des-vosges-gerardmer?tmpl=component">Cet évènement a ét
 é importé depuis :https://skivosges.net/agenda/a-venir/detailevenement/1405
 /-/coupe-des-vosges-gerardmer?tmpl=component</a>DTSTAMP:20260423T174047
DTSTART;TZID=Europe/Paris;VALUE=DATE:20200218
DTEND;TZID=Europe/Paris;VALUE=DATE:20200219
SEQUENCE:0
TRANSP:OPAQUE
END:VEVENT
END:VCALENDAR