BEGIN:VCALENDAR
VERSION:2.0
PRODID:-//jEvents 2.0 for Joomla//EN
CALSCALE:GREGORIAN
METHOD:PUBLISH
BEGIN:VTIMEZONE
TZID:Europe/Paris
BEGIN:STANDARD
DTSTART:20190218T000000
RDATE:20190331T030000
TZOFFSETFROM:+0200
TZOFFSETTO:+0100
TZNAME:Europe/Paris CET
END:STANDARD
BEGIN:STANDARD
DTSTART:20191027T020000
RDATE:20200329T030000
TZOFFSETFROM:+0200
TZOFFSETTO:+0100
TZNAME:Europe/Paris CET
END:STANDARD
BEGIN:STANDARD
DTSTART:20201025T020000
RDATE:20210328T030000
TZOFFSETFROM:+0200
TZOFFSETTO:+0100
TZNAME:Europe/Paris CET
END:STANDARD
BEGIN:STANDARD
DTSTART:20211031T020000
RDATE:20220327T030000
TZOFFSETFROM:+0200
TZOFFSETTO:+0100
TZNAME:Europe/Paris CET
END:STANDARD
BEGIN:STANDARD
DTSTART:20221030T020000
RDATE:20230326T030000
TZOFFSETFROM:+0200
TZOFFSETTO:+0100
TZNAME:Europe/Paris CET
END:STANDARD
BEGIN:STANDARD
DTSTART:20231029T020000
RDATE:20240331T030000
TZOFFSETFROM:+0200
TZOFFSETTO:+0100
TZNAME:Europe/Paris CET
END:STANDARD
BEGIN:STANDARD
DTSTART:20241027T020000
RDATE:20250330T030000
TZOFFSETFROM:+0200
TZOFFSETTO:+0100
TZNAME:Europe/Paris CET
END:STANDARD
BEGIN:STANDARD
DTSTART:20251026T020000
RDATE:20260329T030000
TZOFFSETFROM:+0200
TZOFFSETTO:+0100
TZNAME:Europe/Paris CET
END:STANDARD
BEGIN:STANDARD
DTSTART:20261025T020000
RDATE:20270328T030000
TZOFFSETFROM:+0200
TZOFFSETTO:+0100
TZNAME:Europe/Paris CET
END:STANDARD
BEGIN:DAYLIGHT
DTSTART:20190331T030000
RDATE:20191027T020000
TZOFFSETFROM:+0100
TZOFFSETTO:+0200
TZNAME:Europe/Paris CEST
END:DAYLIGHT
BEGIN:DAYLIGHT
DTSTART:20200329T030000
RDATE:20201025T020000
TZOFFSETFROM:+0100
TZOFFSETTO:+0200
TZNAME:Europe/Paris CEST
END:DAYLIGHT
BEGIN:DAYLIGHT
DTSTART:20210328T030000
RDATE:20211031T020000
TZOFFSETFROM:+0100
TZOFFSETTO:+0200
TZNAME:Europe/Paris CEST
END:DAYLIGHT
BEGIN:DAYLIGHT
DTSTART:20220327T030000
RDATE:20221030T020000
TZOFFSETFROM:+0100
TZOFFSETTO:+0200
TZNAME:Europe/Paris CEST
END:DAYLIGHT
BEGIN:DAYLIGHT
DTSTART:20230326T030000
RDATE:20231029T020000
TZOFFSETFROM:+0100
TZOFFSETTO:+0200
TZNAME:Europe/Paris CEST
END:DAYLIGHT
BEGIN:DAYLIGHT
DTSTART:20240331T030000
RDATE:20241027T020000
TZOFFSETFROM:+0100
TZOFFSETTO:+0200
TZNAME:Europe/Paris CEST
END:DAYLIGHT
BEGIN:DAYLIGHT
DTSTART:20250330T030000
RDATE:20251026T020000
TZOFFSETFROM:+0100
TZOFFSETTO:+0200
TZNAME:Europe/Paris CEST
END:DAYLIGHT
BEGIN:DAYLIGHT
DTSTART:20260329T030000
RDATE:20261025T020000
TZOFFSETFROM:+0100
TZOFFSETTO:+0200
TZNAME:Europe/Paris CEST
END:DAYLIGHT
END:VTIMEZONE
BEGIN:VEVENT
UID:246f2c24bacfacf4ab5111d2c090e596
CATEGORIES:Compétition Ski de Fond
CREATED:20191111T130350
SUMMARY:NOCTURNE DU CHAMP DU FEU Crédit Mutuel relais n°76 **REPORTE(E) au 14/03/2020**
URL;VALUE=URI:https://skivosges.net/agenda/a-venir/detailevenement/1406/-/nocturne-du-cha
 mp-du-feu-credit-mutuel-relais-n-76-reporte-e-au-14-03-2020?tmpl=component
DESCRIPTION:NOCTURNE DU CHAMP DU FEU Crédit Mutuel relais n°76 (Epreuve reportée au 14/
 03/2020)\n - Codex évenement FMVT0190\n - Station : CHAMP DU FEU\n - Organi
 sateur : 14448 MOLSHEIM SKI NORDIQUE\n - Courriel : RegularLabs.EmailProtec
 tor.unCloak("ep_afd43e2a");\n - Délégué Technique : FISCHER MARCPériode d'i
 nscription à l'evènement du mercredi 12 février 2020 à 00:00 au lundi 17 fé
 vrier 2020 à 12:00 (Inscriptions impossibles).Inscriptions ouvertes aux det
 enteurs des titres Fédéraux valides suivants : Licenciés CompétiteursEpreuv
 es :\n - Le mercredi 19 février 2020\n - Codex épreuve FMVF0191\n - KO - Sp
 rint QUALIFICATION\n - Catégorie(s) : U15 a SEN (Filles)\n - Le mercredi 19
  février 2020\n - Codex épreuve FMVM0191\n - KO - Sprint QUALIFICATION\n - 
 Catégorie(s) : U15 a SEN (Garçons)\n - Le mercredi 19 février 2020\n - Code
 x épreuve FMVF0192\n - Team Sprint ou Relais Sprint\n - Catégorie(s) : U15 
 a SEN (Filles)\n - Le mercredi 19 février 2020\n - Codex épreuve FMVM0192\n
  - Team Sprint ou Relais Sprint\n - Catégorie(s) : U15 a SEN (Garçons)\n - 
 Voir les informations dans l'agenda... (/index.php?option=com_jevents&amp;t
 ask=icalevent.detail&amp;evid=1401&amp;Itemid=6289) Cet évènement a été imp
 orté depuis :https://skivosges.net/agenda/a-venir/detailevenement/1406/-/no
 cturne-du-champ-du-feu-credit-mutuel-relais-n-76-reporte-e-au-14-03-2020?tm
 pl=component
X-ALT-DESC;FMTTYPE=text/html:<!-- #gskiepreuve code généré par le plugin jevents pour GskiEpreuves. Ne p
 as modifier cette ligne, ni tout le contenu suivant  #gskiepreuve --><div c
 lass="gski-evenement_infos"><div class="gski-evenement-nom">NOCTURNE DU CHA
 MP DU FEU Crédit Mutuel relais n°76</div><div class="gski-evenement-report"
 > <font class="gskiattention">(Epreuve reportée au 14/03/2020)</font></div>
 <ul class="gski-evenement-liste-infos"><li>Codex évenement FMVT0190</li><li
 >Station : CHAMP DU FEU</li><li>Organisateur : 14448 MOLSHEIM SKI NORDIQUE<
 /li><li>Courriel : <!-- Cette adresse électronique est protégée contre les 
 robots spammeurs. --><span class="cloaked_email ep_afd43e2a"><span data-ep-
 b="&#46;f&#114;" data-ep-a="&#112;i&#101;&#114;&#114;&#101;"><span data-ep-
 a="-&#99;&#104;&#97;&#114;&#98;" data-ep-b="&#105;c&#97;&#98;&#108;&#101;">
 <span data-ep-b="&#64;n&#117;me&#114;" data-ep-a="&#111;&#110;&#110;&#105;&
 #101;&#114;"></span></span></span></span><script>RegularLabs.EmailProtector
 .unCloak("ep_afd43e2a");</script></li><li><span class="gski-evenement-obs">
 Délégué Technique : FISCHER MARC</span></li></ul><div class="gski-evenement
 -infos-2"><div class="gski-evenement-info-inscriptions"><div class="gski-ev
 enement-inscriptions-periodes">Période d'inscription à l'evènement du mercr
 edi 12 février 2020 à 00:00 au lundi 17 février 2020 à 12:00 <span class="g
 ski-evenement-inscriptions-impossibles">(Inscriptions impossibles).</span><
 div class="gski-evenement-inscriptions-types-titres">Inscriptions ouvertes 
 aux detenteurs des titres Fédéraux valides suivants : Licenciés Compétiteur
 s</div></div></div><div class="gski-evenement-epreuves"><div class="gski-ev
 enement-epreuves-titres">Epreuves :</div><ul class="gski-evenement-epreuves
 -list"><li><div class="gski-epreuve-date">Le mercredi 19 février 2020</div>
 <ul class="gski-epreuve-liste-infos"><li>Codex épreuve FMVF0191</li><li>KO 
 - Sprint QUALIFICATION</li><li>Catégorie(s) : U15 a SEN (Filles)</li></ul><
 /li><li><div class="gski-epreuve-date">Le mercredi 19 février 2020</div><ul
  class="gski-epreuve-liste-infos"><li>Codex épreuve FMVM0191</li><li>KO - S
 print QUALIFICATION</li><li>Catégorie(s) : U15 a SEN (Garçons)</li></ul></l
 i><li><div class="gski-epreuve-date">Le mercredi 19 février 2020</div><ul c
 lass="gski-epreuve-liste-infos"><li>Codex épreuve FMVF0192</li><li>Team Spr
 int ou Relais Sprint</li><li>Catégorie(s) : U15 a SEN (Filles)</li></ul></l
 i><li><div class="gski-epreuve-date">Le mercredi 19 février 2020</div><ul c
 lass="gski-epreuve-liste-infos"><li>Codex épreuve FMVM0192</li><li>Team Spr
 int ou Relais Sprint</li><li>Catégorie(s) : U15 a SEN (Garçons)</li></ul></
 li></ul></div><div class="gskiepreuves-links"><ul><li><a href="https://skiv
 osges.net/index.php?option=com_jevents&task=icalevent.detail&evid=1401&Item
 id=6289">Voir les informations dans l'agenda...</a></li></ul></div></div"><
 !-- #/gskiepreuve fin du dode généré par le plugin jevents pour GskiEpreuve
 s. . Ne pas modifier cette ligne, ni tout le contenu précedant.  #/gskiepre
 uve --> <a href="https://skivosges.net/agenda/a-venir/detailevenement/1406/
 -/nocturne-du-champ-du-feu-credit-mutuel-relais-n-76-reporte-e-au-14-03-202
 0?tmpl=component">Cet évènement a été importé depuis :https://skivosges.net
 /agenda/a-venir/detailevenement/1406/-/nocturne-du-champ-du-feu-credit-mutu
 el-relais-n-76-reporte-e-au-14-03-2020?tmpl=component</a>DTSTAMP:20260423T175141
DTSTART;TZID=Europe/Paris;VALUE=DATE:20200219
DTEND;TZID=Europe/Paris;VALUE=DATE:20200220
SEQUENCE:0
TRANSP:OPAQUE
END:VEVENT
END:VCALENDAR