BEGIN:VCALENDAR
VERSION:2.0
PRODID:-//jEvents 2.0 for Joomla//EN
CALSCALE:GREGORIAN
METHOD:PUBLISH
BEGIN:VTIMEZONE
TZID:Europe/Paris
BEGIN:STANDARD
DTSTART:20190221T000000
RDATE:20190331T030000
TZOFFSETFROM:+0200
TZOFFSETTO:+0100
TZNAME:Europe/Paris CET
END:STANDARD
BEGIN:STANDARD
DTSTART:20191027T020000
RDATE:20200329T030000
TZOFFSETFROM:+0200
TZOFFSETTO:+0100
TZNAME:Europe/Paris CET
END:STANDARD
BEGIN:STANDARD
DTSTART:20201025T020000
RDATE:20210328T030000
TZOFFSETFROM:+0200
TZOFFSETTO:+0100
TZNAME:Europe/Paris CET
END:STANDARD
BEGIN:STANDARD
DTSTART:20211031T020000
RDATE:20220327T030000
TZOFFSETFROM:+0200
TZOFFSETTO:+0100
TZNAME:Europe/Paris CET
END:STANDARD
BEGIN:STANDARD
DTSTART:20221030T020000
RDATE:20230326T030000
TZOFFSETFROM:+0200
TZOFFSETTO:+0100
TZNAME:Europe/Paris CET
END:STANDARD
BEGIN:STANDARD
DTSTART:20231029T020000
RDATE:20240331T030000
TZOFFSETFROM:+0200
TZOFFSETTO:+0100
TZNAME:Europe/Paris CET
END:STANDARD
BEGIN:STANDARD
DTSTART:20241027T020000
RDATE:20250330T030000
TZOFFSETFROM:+0200
TZOFFSETTO:+0100
TZNAME:Europe/Paris CET
END:STANDARD
BEGIN:STANDARD
DTSTART:20251026T020000
RDATE:20260329T030000
TZOFFSETFROM:+0200
TZOFFSETTO:+0100
TZNAME:Europe/Paris CET
END:STANDARD
BEGIN:STANDARD
DTSTART:20261025T020000
RDATE:20270328T030000
TZOFFSETFROM:+0200
TZOFFSETTO:+0100
TZNAME:Europe/Paris CET
END:STANDARD
BEGIN:DAYLIGHT
DTSTART:20190331T030000
RDATE:20191027T020000
TZOFFSETFROM:+0100
TZOFFSETTO:+0200
TZNAME:Europe/Paris CEST
END:DAYLIGHT
BEGIN:DAYLIGHT
DTSTART:20200329T030000
RDATE:20201025T020000
TZOFFSETFROM:+0100
TZOFFSETTO:+0200
TZNAME:Europe/Paris CEST
END:DAYLIGHT
BEGIN:DAYLIGHT
DTSTART:20210328T030000
RDATE:20211031T020000
TZOFFSETFROM:+0100
TZOFFSETTO:+0200
TZNAME:Europe/Paris CEST
END:DAYLIGHT
BEGIN:DAYLIGHT
DTSTART:20220327T030000
RDATE:20221030T020000
TZOFFSETFROM:+0100
TZOFFSETTO:+0200
TZNAME:Europe/Paris CEST
END:DAYLIGHT
BEGIN:DAYLIGHT
DTSTART:20230326T030000
RDATE:20231029T020000
TZOFFSETFROM:+0100
TZOFFSETTO:+0200
TZNAME:Europe/Paris CEST
END:DAYLIGHT
BEGIN:DAYLIGHT
DTSTART:20240331T030000
RDATE:20241027T020000
TZOFFSETFROM:+0100
TZOFFSETTO:+0200
TZNAME:Europe/Paris CEST
END:DAYLIGHT
BEGIN:DAYLIGHT
DTSTART:20250330T030000
RDATE:20251026T020000
TZOFFSETFROM:+0100
TZOFFSETTO:+0200
TZNAME:Europe/Paris CEST
END:DAYLIGHT
BEGIN:DAYLIGHT
DTSTART:20260329T030000
RDATE:20261025T020000
TZOFFSETFROM:+0100
TZOFFSETTO:+0200
TZNAME:Europe/Paris CEST
END:DAYLIGHT
END:VTIMEZONE
BEGIN:VEVENT
UID:c3c1d1d934f5d07f8e8525c44f8557dc
CATEGORIES:Compétition Ski de Fond
CREATED:20191111T130350
SUMMARY:PROMO PRE-CLUBS
URL;VALUE=URI:https://skivosges.net/agenda/a-venir/detailevenement/1407/-/promo-pre-clubs
 ?tmpl=component
DESCRIPTION:PROMO PRE-CLUBS\n - Codex évenement FMVT0200\n - Lieu : LES TROIS FOURS\n -
  Station : GERARDMER\n - Organisateur : 14469 A.S GERARDMER SKI NORDIQUE\n 
 - Courriel : RegularLabs.EmailProtector.unCloak("ep_fd02f33a");\n - Télépho
 ne : 06.08.83.35.72\n - Délégué Technique : CUNY ANNE LAUREPériode d'inscri
 ption à l'evènement du samedi 15 février 2020 à 03:00 au vendredi 21 févrie
 r 2020 à 09:00 (Inscriptions impossibles).Inscriptions ouvertes aux detente
 urs des titres Fédéraux valides suivants : Licenciés Compétiteurs et Titres
  Loisirs et DirigeantsEpreuves :\n - Le samedi 22 février 2020\n - Codex ép
 reuve FMVF0201\n - Depart Individuel\n - Catégorie(s) : U9 (Filles)\n - Le 
 samedi 22 février 2020\n - Codex épreuve FMVM0201\n - Depart Individuel\n -
  Catégorie(s) : U9 (Garçons)\n - Le samedi 22 février 2020\n - Codex épreuv
 e FMVF0202\n - Depart Individuel\n - Catégorie(s) : U11 (Filles)\n - Le sam
 edi 22 février 2020\n - Codex épreuve FMVM0202\n - Depart Individuel\n - Ca
 tégorie(s) : U11 (Garçons)\n - Voir les informations dans l'agenda... (/ind
 ex.php?option=com_jevents&amp;task=icalevent.detail&amp;evid=1402&amp;Itemi
 d=6289)\n - Vers les résultats... (/index.php?option=com_gskiepreuves&amp;v
 iew=afficheresultats&amp;format_option=tous&amp;filter[search]=FMVT0200&amp
 ;filter[date_debut]=22-02-2020&amp;filter[date_fin]=22-02-2020&amp;code_act
 ivite=FOND&amp;Itemid=6289) Cet évènement a été importé depuis :https://ski
 vosges.net/agenda/a-venir/detailevenement/1407/-/promo-pre-clubs?tmpl=compo
 nent
X-ALT-DESC;FMTTYPE=text/html:<!-- #gskiepreuve code généré par le plugin jevents pour GskiEpreuves. Ne p
 as modifier cette ligne, ni tout le contenu suivant  #gskiepreuve --><div c
 lass="gski-evenement_infos"><div class="gski-evenement-nom">PROMO PRE-CLUBS
 </div><div class="gski-evenement-report"></div><ul class="gski-evenement-li
 ste-infos"><li>Codex évenement FMVT0200</li><li>Lieu : LES TROIS FOURS</li>
 <li>Station : GERARDMER</li><li>Organisateur : 14469 A.S GERARDMER SKI NORD
 IQUE</li><li>Courriel : <!-- Cette adresse électronique est protégée contre
  les robots spammeurs. --><span class="cloaked_email ep_fd02f33a"><span dat
 a-ep-b="&#46;&#102;&#114;" data-ep-a="&#102;r&#97;&#110;"><span data-ep-b="
 &#98;&#98;&#111;x" data-ep-a="c&#105;s."><span data-ep-a="&#107;ie&#110;" d
 ata-ep-b="t&#122;&#121;&#64;"></span></span></span></span><script>RegularLa
 bs.EmailProtector.unCloak("ep_fd02f33a");</script></li><li>Téléphone : 06.0
 8.83.35.72</li><li><span class="gski-evenement-obs">Délégué Technique : CUN
 Y ANNE LAURE</span></li></ul><div class="gski-evenement-infos-2"><div class
 ="gski-evenement-info-inscriptions"><div class="gski-evenement-inscriptions
 -periodes">Période d'inscription à l'evènement du samedi 15 février 2020 à 
 03:00 au vendredi 21 février 2020 à 09:00 <span class="gski-evenement-inscr
 iptions-impossibles">(Inscriptions impossibles).</span><div class="gski-eve
 nement-inscriptions-types-titres">Inscriptions ouvertes aux detenteurs des 
 titres Fédéraux valides suivants : Licenciés Compétiteurs et Titres Loisirs
  et Dirigeants</div></div></div><div class="gski-evenement-epreuves"><div c
 lass="gski-evenement-epreuves-titres">Epreuves :</div><ul class="gski-evene
 ment-epreuves-list"><li><div class="gski-epreuve-date">Le samedi 22 février
  2020</div><ul class="gski-epreuve-liste-infos"><li>Codex épreuve FMVF0201<
 /li><li>Depart Individuel</li><li>Catégorie(s) : U9 (Filles)</li></ul></li>
 <li><div class="gski-epreuve-date">Le samedi 22 février 2020</div><ul class
 ="gski-epreuve-liste-infos"><li>Codex épreuve FMVM0201</li><li>Depart Indiv
 iduel</li><li>Catégorie(s) : U9 (Garçons)</li></ul></li><li><div class="gsk
 i-epreuve-date">Le samedi 22 février 2020</div><ul class="gski-epreuve-list
 e-infos"><li>Codex épreuve FMVF0202</li><li>Depart Individuel</li><li>Catég
 orie(s) : U11 (Filles)</li></ul></li><li><div class="gski-epreuve-date">Le 
 samedi 22 février 2020</div><ul class="gski-epreuve-liste-infos"><li>Codex 
 épreuve FMVM0202</li><li>Depart Individuel</li><li>Catégorie(s) : U11 (Garç
 ons)</li></ul></li></ul></div><div class="gskiepreuves-links"><ul><li><a hr
 ef="https://skivosges.net/index.php?option=com_jevents&task=icalevent.detai
 l&evid=1402&Itemid=6289">Voir les informations dans l'agenda...</a></li><li
 ><a href="https://skivosges.net/index.php?option=com_gskiepreuves&view=affi
 cheresultats&format_option=tous&filter[search]=FMVT0200&filter[date_debut]=
 22-02-2020&filter[date_fin]=22-02-2020&code_activite=FOND&Itemid=6289">Vers
  les résultats...</a></li></ul></div></div"><!-- #/gskiepreuve fin du dode 
 généré par le plugin jevents pour GskiEpreuves. . Ne pas modifier cette lig
 ne, ni tout le contenu précedant.  #/gskiepreuve --> <a href="https://skivo
 sges.net/agenda/a-venir/detailevenement/1407/-/promo-pre-clubs?tmpl=compone
 nt">Cet évènement a été importé depuis :https://skivosges.net/agenda/a-veni
 r/detailevenement/1407/-/promo-pre-clubs?tmpl=component</a>DTSTAMP:20260423T175136
DTSTART;TZID=Europe/Paris;VALUE=DATE:20200222
DTEND;TZID=Europe/Paris;VALUE=DATE:20200223
SEQUENCE:0
TRANSP:OPAQUE
END:VEVENT
END:VCALENDAR