BEGIN:VCALENDAR
VERSION:2.0
PRODID:-//jEvents 2.0 for Joomla//EN
CALSCALE:GREGORIAN
METHOD:PUBLISH
BEGIN:VTIMEZONE
TZID:Europe/Paris
BEGIN:STANDARD
DTSTART:20190222T000000
RDATE:20190331T030000
TZOFFSETFROM:+0200
TZOFFSETTO:+0100
TZNAME:Europe/Paris CET
END:STANDARD
BEGIN:STANDARD
DTSTART:20191027T020000
RDATE:20200329T030000
TZOFFSETFROM:+0200
TZOFFSETTO:+0100
TZNAME:Europe/Paris CET
END:STANDARD
BEGIN:STANDARD
DTSTART:20201025T020000
RDATE:20210328T030000
TZOFFSETFROM:+0200
TZOFFSETTO:+0100
TZNAME:Europe/Paris CET
END:STANDARD
BEGIN:STANDARD
DTSTART:20211031T020000
RDATE:20220327T030000
TZOFFSETFROM:+0200
TZOFFSETTO:+0100
TZNAME:Europe/Paris CET
END:STANDARD
BEGIN:STANDARD
DTSTART:20221030T020000
RDATE:20230326T030000
TZOFFSETFROM:+0200
TZOFFSETTO:+0100
TZNAME:Europe/Paris CET
END:STANDARD
BEGIN:STANDARD
DTSTART:20231029T020000
RDATE:20240331T030000
TZOFFSETFROM:+0200
TZOFFSETTO:+0100
TZNAME:Europe/Paris CET
END:STANDARD
BEGIN:STANDARD
DTSTART:20241027T020000
RDATE:20250330T030000
TZOFFSETFROM:+0200
TZOFFSETTO:+0100
TZNAME:Europe/Paris CET
END:STANDARD
BEGIN:STANDARD
DTSTART:20251026T020000
RDATE:20260329T030000
TZOFFSETFROM:+0200
TZOFFSETTO:+0100
TZNAME:Europe/Paris CET
END:STANDARD
BEGIN:STANDARD
DTSTART:20261025T020000
RDATE:20270328T030000
TZOFFSETFROM:+0200
TZOFFSETTO:+0100
TZNAME:Europe/Paris CET
END:STANDARD
BEGIN:DAYLIGHT
DTSTART:20190331T030000
RDATE:20191027T020000
TZOFFSETFROM:+0100
TZOFFSETTO:+0200
TZNAME:Europe/Paris CEST
END:DAYLIGHT
BEGIN:DAYLIGHT
DTSTART:20200329T030000
RDATE:20201025T020000
TZOFFSETFROM:+0100
TZOFFSETTO:+0200
TZNAME:Europe/Paris CEST
END:DAYLIGHT
BEGIN:DAYLIGHT
DTSTART:20210328T030000
RDATE:20211031T020000
TZOFFSETFROM:+0100
TZOFFSETTO:+0200
TZNAME:Europe/Paris CEST
END:DAYLIGHT
BEGIN:DAYLIGHT
DTSTART:20220327T030000
RDATE:20221030T020000
TZOFFSETFROM:+0100
TZOFFSETTO:+0200
TZNAME:Europe/Paris CEST
END:DAYLIGHT
BEGIN:DAYLIGHT
DTSTART:20230326T030000
RDATE:20231029T020000
TZOFFSETFROM:+0100
TZOFFSETTO:+0200
TZNAME:Europe/Paris CEST
END:DAYLIGHT
BEGIN:DAYLIGHT
DTSTART:20240331T030000
RDATE:20241027T020000
TZOFFSETFROM:+0100
TZOFFSETTO:+0200
TZNAME:Europe/Paris CEST
END:DAYLIGHT
BEGIN:DAYLIGHT
DTSTART:20250330T030000
RDATE:20251026T020000
TZOFFSETFROM:+0100
TZOFFSETTO:+0200
TZNAME:Europe/Paris CEST
END:DAYLIGHT
BEGIN:DAYLIGHT
DTSTART:20260329T030000
RDATE:20261025T020000
TZOFFSETFROM:+0100
TZOFFSETTO:+0200
TZNAME:Europe/Paris CEST
END:DAYLIGHT
END:VTIMEZONE
BEGIN:VEVENT
UID:ad4962abe99ab4b91a39f0954be1535b
CATEGORIES:Compétition Ski de Fond
CREATED:20191111T130350
SUMMARY:LE GEROMOISE Big Mat n°10 Crédit Mutuel n°8
URL;VALUE=URI:https://skivosges.net/agenda/a-venir/detailevenement/1410/-/le-geromoise-bi
 g-mat-n-10-credit-mutuel-n-8?tmpl=component
DESCRIPTION:LE GEROMOISE Big Mat n°10 Crédit Mutuel n°8\n - Codex évenement FMVT0210\n 
 - Lieu : LES TROIS FOURS\n - Station : GERARDMER\n - Organisateur : 14469 A
 .S GERARDMER SKI NORDIQUE\n - Courriel : RegularLabs.EmailProtector.unCloak
 ("ep_7d6fff24");\n - Téléphone : 06.08.83.35.72\n - Délégué Technique : CUN
 Y ANNE LAUREPériode d'inscription à l'evènement du dimanche 16 février 2020
  à 00:00 au vendredi 21 février 2020 à 19:00 (Inscriptions impossibles).Ins
 criptions ouvertes aux detenteurs des titres Fédéraux valides suivants : Li
 cenciés CompétiteursEpreuves :\n - Le dimanche 23 février 2020\n - Codex ép
 reuve FMVF0211\n - Depart Individuel\n - Catégorie(s) : U13 (Filles)\n - Le
  dimanche 23 février 2020\n - Codex épreuve FMVM0211\n - Depart Individuel\
 n - Catégorie(s) : U13 (Garçons)\n - Le dimanche 23 février 2020\n - Codex 
 épreuve FMVF0212\n - Depart Individuel\n - Catégorie(s) : U15 (Filles)\n - 
 Le dimanche 23 février 2020\n - Codex épreuve FMVM0212\n - Depart Individue
 l\n - Catégorie(s) : U15 (Garçons)\n - Le dimanche 23 février 2020\n - Code
 x épreuve FMVF0213\n - Depart Individuel\n - Catégorie(s) : U17 (Dames)\n -
  Le dimanche 23 février 2020\n - Codex épreuve FMVM0213\n - Depart Individu
 el\n - Catégorie(s) : U17 (Hommes)\n - Le dimanche 23 février 2020\n - Code
 x épreuve FMVF0214\n - Depart Individuel\n - Catégorie(s) : U20/SEN (Dames)
 \n - Le dimanche 23 février 2020\n - Codex épreuve FMVF0215\n - Depart Indi
 viduel\n - Catégorie(s) : U20/SEN (Hommes)\n - Voir les informations dans l
 'agenda... (/index.php?option=com_jevents&amp;task=icalevent.detail&amp;evi
 d=1405&amp;Itemid=6289)\n - Vers les résultats... (/index.php?option=com_gs
 kiepreuves&amp;view=afficheresultats&amp;format_option=tous&amp;filter[sear
 ch]=FMVT0210&amp;filter[date_debut]=23-02-2020&amp;filter[date_fin]=23-02-2
 020&amp;code_activite=FOND&amp;Itemid=6289)\n - Publications concernant cet
  évènement :\n - Dimanche 23 Février 2020 à 11:44 : Le 23/02/2020 STOSSWIHR
  Résultats\n - Dimanche 23 Février 2020 à 11:44 : Le 23/02/2020 STOSSWIHR R
 ésultats\n - Vendredi 21 Février 2020 à 23:52 : Le 23/02/2020 LES TROIS FOU
 RS Liste de départs\n - Jeudi 20 Février 2020 à 10:54 : Le 23/02/2020 HAUTE
 S VANNES Informations Cet évènement a été importé depuis :https://skivosges
 .net/agenda/a-venir/detailevenement/1410/-/le-geromoise-big-mat-n-10-credit
 -mutuel-n-8?tmpl=component
X-ALT-DESC;FMTTYPE=text/html:<!-- #gskiepreuve code généré par le plugin jevents pour GskiEpreuves. Ne p
 as modifier cette ligne, ni tout le contenu suivant  #gskiepreuve --><div c
 lass="gski-evenement_infos"><div class="gski-evenement-nom">LE GEROMOISE Bi
 g Mat n°10 Crédit Mutuel n°8</div><div class="gski-evenement-report"></div>
 <ul class="gski-evenement-liste-infos"><li>Codex évenement FMVT0210</li><li
 >Lieu : LES TROIS FOURS</li><li>Station : GERARDMER</li><li>Organisateur : 
 14469 A.S GERARDMER SKI NORDIQUE</li><li>Courriel : <!-- Cette adresse élec
 tronique est protégée contre les robots spammeurs. --><span class="cloaked_
 email ep_7d6fff24"><span data-ep-b=".&#102;r" data-ep-a="&#102;r&#97;n"><sp
 an data-ep-b="&#98;&#98;&#111;&#120;" data-ep-a="cis."><span data-ep-b="t&#
 122;&#121;&#64;" data-ep-a="&#107;i&#101;n"></span></span></span></span><sc
 ript>RegularLabs.EmailProtector.unCloak("ep_7d6fff24");</script></li><li>Té
 léphone : 06.08.83.35.72</li><li><span class="gski-evenement-obs">Délégué T
 echnique : CUNY ANNE LAURE</span></li></ul><div class="gski-evenement-infos
 -2"><div class="gski-evenement-info-inscriptions"><div class="gski-evenemen
 t-inscriptions-periodes">Période d'inscription à l'evènement du dimanche 16
  février 2020 à 00:00 au vendredi 21 février 2020 à 19:00 <span class="gski
 -evenement-inscriptions-impossibles">(Inscriptions impossibles).</span><div
  class="gski-evenement-inscriptions-types-titres">Inscriptions ouvertes aux
  detenteurs des titres Fédéraux valides suivants : Licenciés Compétiteurs</
 div></div></div><div class="gski-evenement-epreuves"><div class="gski-evene
 ment-epreuves-titres">Epreuves :</div><ul class="gski-evenement-epreuves-li
 st"><li><div class="gski-epreuve-date">Le dimanche 23 février 2020</div><ul
  class="gski-epreuve-liste-infos"><li>Codex épreuve FMVF0211</li><li>Depart
  Individuel</li><li>Catégorie(s) : U13 (Filles)</li></ul></li><li><div clas
 s="gski-epreuve-date">Le dimanche 23 février 2020</div><ul class="gski-epre
 uve-liste-infos"><li>Codex épreuve FMVM0211</li><li>Depart Individuel</li><
 li>Catégorie(s) : U13 (Garçons)</li></ul></li><li><div class="gski-epreuve-
 date">Le dimanche 23 février 2020</div><ul class="gski-epreuve-liste-infos"
 ><li>Codex épreuve FMVF0212</li><li>Depart Individuel</li><li>Catégorie(s) 
 : U15 (Filles)</li></ul></li><li><div class="gski-epreuve-date">Le dimanche
  23 février 2020</div><ul class="gski-epreuve-liste-infos"><li>Codex épreuv
 e FMVM0212</li><li>Depart Individuel</li><li>Catégorie(s) : U15 (Garçons)</
 li></ul></li><li><div class="gski-epreuve-date">Le dimanche 23 février 2020
 </div><ul class="gski-epreuve-liste-infos"><li>Codex épreuve FMVF0213</li><
 li>Depart Individuel</li><li>Catégorie(s) : U17 (Dames)</li></ul></li><li><
 div class="gski-epreuve-date">Le dimanche 23 février 2020</div><ul class="g
 ski-epreuve-liste-infos"><li>Codex épreuve FMVM0213</li><li>Depart Individu
 el</li><li>Catégorie(s) : U17 (Hommes)</li></ul></li><li><div class="gski-e
 preuve-date">Le dimanche 23 février 2020</div><ul class="gski-epreuve-liste
 -infos"><li>Codex épreuve FMVF0214</li><li>Depart Individuel</li><li>Catégo
 rie(s) : U20/SEN (Dames)</li></ul></li><li><div class="gski-epreuve-date">L
 e dimanche 23 février 2020</div><ul class="gski-epreuve-liste-infos"><li>Co
 dex épreuve FMVF0215</li><li>Depart Individuel</li><li>Catégorie(s) : U20/S
 EN (Hommes)</li></ul></li></ul></div><div class="gskiepreuves-links"><ul><l
 i><a href="https://skivosges.net/index.php?option=com_jevents&task=icaleven
 t.detail&evid=1405&Itemid=6289">Voir les informations dans l'agenda...</a><
 /li><li><a href="https://skivosges.net/index.php?option=com_gskiepreuves&vi
 ew=afficheresultats&format_option=tous&filter[search]=FMVT0210&filter[date_
 debut]=23-02-2020&filter[date_fin]=23-02-2020&code_activite=FOND&Itemid=628
 9">Vers les résultats...</a></li><li>Publications concernant cet évènement 
 :<ul><li><a href="https://skivosges.net/index.php?option=com_content&view=a
 rticle&id=7113&Itemid=6289">Dimanche 23 Février 2020 à 11:44 : Le 23/02/202
 0 STOSSWIHR Résultats</a></li><li><a href="https://skivosges.net/index.php?
 option=com_content&view=article&id=7112&Itemid=6289">Dimanche 23 Février 20
 20 à 11:44 : Le 23/02/2020 STOSSWIHR Résultats</a></li><li><a href="https:/
 /skivosges.net/index.php?option=com_content&view=article&id=7109&Itemid=628
 9">Vendredi 21 Février 2020 à 23:52 : Le 23/02/2020 LES TROIS FOURS Liste d
 e départs</a></li><li><a href="https://skivosges.net/index.php?option=com_c
 ontent&view=article&id=7100&Itemid=6289">Jeudi 20 Février 2020 à 10:54 : Le
  23/02/2020 HAUTES VANNES Informations</a></li></ul></li></ul></div></div">
 <!-- #/gskiepreuve fin du dode généré par le plugin jevents pour GskiEpreuv
 es. . Ne pas modifier cette ligne, ni tout le contenu précedant.  #/gskiepr
 euve --> <a href="https://skivosges.net/agenda/a-venir/detailevenement/1410
 /-/le-geromoise-big-mat-n-10-credit-mutuel-n-8?tmpl=component">Cet évènemen
 t a été importé depuis :https://skivosges.net/agenda/a-venir/detailevenemen
 t/1410/-/le-geromoise-big-mat-n-10-credit-mutuel-n-8?tmpl=component</a>DTSTAMP:20260423T174048
DTSTART;TZID=Europe/Paris;VALUE=DATE:20200223
DTEND;TZID=Europe/Paris;VALUE=DATE:20200224
SEQUENCE:0
TRANSP:OPAQUE
END:VEVENT
END:VCALENDAR