BEGIN:VCALENDAR
VERSION:2.0
PRODID:-//jEvents 2.0 for Joomla//EN
CALSCALE:GREGORIAN
METHOD:PUBLISH
BEGIN:VTIMEZONE
TZID:Europe/Paris
BEGIN:STANDARD
DTSTART:20190310T000000
RDATE:20190331T030000
TZOFFSETFROM:+0200
TZOFFSETTO:+0100
TZNAME:Europe/Paris CET
END:STANDARD
BEGIN:STANDARD
DTSTART:20191027T020000
RDATE:20200329T030000
TZOFFSETFROM:+0200
TZOFFSETTO:+0100
TZNAME:Europe/Paris CET
END:STANDARD
BEGIN:STANDARD
DTSTART:20201025T020000
RDATE:20210328T030000
TZOFFSETFROM:+0200
TZOFFSETTO:+0100
TZNAME:Europe/Paris CET
END:STANDARD
BEGIN:STANDARD
DTSTART:20211031T020000
RDATE:20220327T030000
TZOFFSETFROM:+0200
TZOFFSETTO:+0100
TZNAME:Europe/Paris CET
END:STANDARD
BEGIN:STANDARD
DTSTART:20221030T020000
RDATE:20230326T030000
TZOFFSETFROM:+0200
TZOFFSETTO:+0100
TZNAME:Europe/Paris CET
END:STANDARD
BEGIN:STANDARD
DTSTART:20231029T020000
RDATE:20240331T030000
TZOFFSETFROM:+0200
TZOFFSETTO:+0100
TZNAME:Europe/Paris CET
END:STANDARD
BEGIN:STANDARD
DTSTART:20241027T020000
RDATE:20250330T030000
TZOFFSETFROM:+0200
TZOFFSETTO:+0100
TZNAME:Europe/Paris CET
END:STANDARD
BEGIN:STANDARD
DTSTART:20251026T020000
RDATE:20260329T030000
TZOFFSETFROM:+0200
TZOFFSETTO:+0100
TZNAME:Europe/Paris CET
END:STANDARD
BEGIN:STANDARD
DTSTART:20261025T020000
RDATE:20270328T030000
TZOFFSETFROM:+0200
TZOFFSETTO:+0100
TZNAME:Europe/Paris CET
END:STANDARD
BEGIN:DAYLIGHT
DTSTART:20190331T030000
RDATE:20191027T020000
TZOFFSETFROM:+0100
TZOFFSETTO:+0200
TZNAME:Europe/Paris CEST
END:DAYLIGHT
BEGIN:DAYLIGHT
DTSTART:20200329T030000
RDATE:20201025T020000
TZOFFSETFROM:+0100
TZOFFSETTO:+0200
TZNAME:Europe/Paris CEST
END:DAYLIGHT
BEGIN:DAYLIGHT
DTSTART:20210328T030000
RDATE:20211031T020000
TZOFFSETFROM:+0100
TZOFFSETTO:+0200
TZNAME:Europe/Paris CEST
END:DAYLIGHT
BEGIN:DAYLIGHT
DTSTART:20220327T030000
RDATE:20221030T020000
TZOFFSETFROM:+0100
TZOFFSETTO:+0200
TZNAME:Europe/Paris CEST
END:DAYLIGHT
BEGIN:DAYLIGHT
DTSTART:20230326T030000
RDATE:20231029T020000
TZOFFSETFROM:+0100
TZOFFSETTO:+0200
TZNAME:Europe/Paris CEST
END:DAYLIGHT
BEGIN:DAYLIGHT
DTSTART:20240331T030000
RDATE:20241027T020000
TZOFFSETFROM:+0100
TZOFFSETTO:+0200
TZNAME:Europe/Paris CEST
END:DAYLIGHT
BEGIN:DAYLIGHT
DTSTART:20250330T030000
RDATE:20251026T020000
TZOFFSETFROM:+0100
TZOFFSETTO:+0200
TZNAME:Europe/Paris CEST
END:DAYLIGHT
BEGIN:DAYLIGHT
DTSTART:20260329T030000
RDATE:20261025T020000
TZOFFSETFROM:+0100
TZOFFSETTO:+0200
TZNAME:Europe/Paris CEST
END:DAYLIGHT
END:VTIMEZONE
BEGIN:VEVENT
UID:ecf82e2e530ea9201e8bef09cacd0f3f
CATEGORIES:Compétition Ski Alpin
CREATED:20191111T130350
SUMMARY:Ski Chrono Samse Tour Technique **REPORTE**
URL;VALUE=URI:https://skivosges.net/agenda/a-venir/detailevenement/1436/-/ski-chrono-sams
 e-tour-technique-reporte?tmpl=component
DESCRIPTION:Ski Chrono Samse Tour Technique (Epreuve reportée, date à determiner)\n - C
 odex évenement FRA0821\n - Lieu : Gerardmer\n - Organisateur : 14089 GERARD
 MER SKI ALPIN\n - Courriel : RegularLabs.EmailProtector.unCloak("ep_a714f11
 8");\n - Téléphone : 03 29 60 98 04Période d'inscription à l'evènement du m
 ardi 03 mars 2020 à 00:00 au dimanche 08 mars 2020 à 12:00 (Inscriptions im
 possibles).Inscriptions ouvertes aux detenteurs des titres Fédéraux valides
  suivants : Licenciés CompétiteursEpreuves :\n - Le mardi 10 mars 2020\n - 
 Codex épreuve 821\n - (GS)\n - Le mercredi 11 mars 2020\n - Codex épreuve 8
 22\n - (GS)\n - Voir les informations dans l'agenda... (/index.php?option=c
 om_jevents&amp;task=icalevent.detail&amp;evid=1431&amp;Itemid=6289) Cet évè
 nement a été importé depuis :https://skivosges.net/agenda/a-venir/detaileve
 nement/1436/-/ski-chrono-samse-tour-technique-reporte?tmpl=component
X-ALT-DESC;FMTTYPE=text/html:<!-- #gskiepreuve code généré par le plugin jevents pour GskiEpreuves. Ne p
 as modifier cette ligne, ni tout le contenu suivant  #gskiepreuve --><div c
 lass="gski-evenement_infos"><div class="gski-evenement-nom">Ski Chrono Sams
 e Tour Technique</div><div class="gski-evenement-report"> <font class="gski
 attention">(Epreuve reportée, date à determiner)</font></div><ul class="gsk
 i-evenement-liste-infos"><li>Codex évenement FRA0821</li><li>Lieu : Gerardm
 er</li><li>Organisateur : 14089 GERARDMER SKI ALPIN</li><li>Courriel : <!--
  Cette adresse électronique est protégée contre les robots spammeurs. --><s
 pan class="cloaked_email ep_a714f118"><span data-ep-a="&#103;&#101;r&#97;&#
 114;" data-ep-b="&#101;&#46;&#102;&#114;"><span data-ep-b="or&#97;&#110;g" 
 data-ep-a="d&#109;e&#114;-"><span data-ep-a="&#115;ki&#45;&#97;" data-ep-b=
 "l&#112;&#105;&#110;&#64;"></span></span></span></span><script>RegularLabs.
 EmailProtector.unCloak("ep_a714f118");</script></li><li>Téléphone : 03 29 6
 0 98 04</li></ul><div class="gski-evenement-infos-2"><div class="gski-evene
 ment-info-inscriptions"><div class="gski-evenement-inscriptions-periodes">P
 ériode d'inscription à l'evènement du mardi 03 mars 2020 à 00:00 au dimanch
 e 08 mars 2020 à 12:00 <span class="gski-evenement-inscriptions-impossibles
 ">(Inscriptions impossibles).</span><div class="gski-evenement-inscriptions
 -types-titres">Inscriptions ouvertes aux detenteurs des titres Fédéraux val
 ides suivants : Licenciés Compétiteurs</div></div></div><div class="gski-ev
 enement-epreuves"><div class="gski-evenement-epreuves-titres">Epreuves :</d
 iv><ul class="gski-evenement-epreuves-list"><li><div class="gski-epreuve-da
 te">Le mardi 10 mars 2020</div><ul class="gski-epreuve-liste-infos"><li>Cod
 ex épreuve 821</li><li>(GS)</li></ul></li><li><div class="gski-epreuve-date
 ">Le mercredi 11 mars 2020</div><ul class="gski-epreuve-liste-infos"><li>Co
 dex épreuve 822</li><li>(GS)</li></ul></li></ul></div><div class="gskiepreu
 ves-links"><ul><li><a href="https://skivosges.net/index.php?option=com_jeve
 nts&task=icalevent.detail&evid=1431&Itemid=6289">Voir les informations dans
  l'agenda...</a></li></ul></div></div"><!-- #/gskiepreuve fin du dode génér
 é par le plugin jevents pour GskiEpreuves. . Ne pas modifier cette ligne, n
 i tout le contenu précedant.  #/gskiepreuve --> <a href="https://skivosges.
 net/agenda/a-venir/detailevenement/1436/-/ski-chrono-samse-tour-technique-r
 eporte?tmpl=component">Cet évènement a été importé depuis :https://skivosge
 s.net/agenda/a-venir/detailevenement/1436/-/ski-chrono-samse-tour-technique
 -reporte?tmpl=component</a>DTSTAMP:20260421T051312
DTSTART;TZID=Europe/Paris;VALUE=DATE:20200310
DTEND;TZID=Europe/Paris;VALUE=DATE:20200312
SEQUENCE:0
TRANSP:OPAQUE
END:VEVENT
END:VCALENDAR