BEGIN:VCALENDAR
VERSION:2.0
PRODID:-//jEvents 2.0 for Joomla//EN
CALSCALE:GREGORIAN
METHOD:PUBLISH
BEGIN:VTIMEZONE
TZID:Europe/Paris
BEGIN:STANDARD
DTSTART:20190315T000000
RDATE:20190331T030000
TZOFFSETFROM:+0200
TZOFFSETTO:+0100
TZNAME:Europe/Paris CET
END:STANDARD
BEGIN:STANDARD
DTSTART:20191027T020000
RDATE:20200329T030000
TZOFFSETFROM:+0200
TZOFFSETTO:+0100
TZNAME:Europe/Paris CET
END:STANDARD
BEGIN:STANDARD
DTSTART:20201025T020000
RDATE:20210328T030000
TZOFFSETFROM:+0200
TZOFFSETTO:+0100
TZNAME:Europe/Paris CET
END:STANDARD
BEGIN:STANDARD
DTSTART:20211031T020000
RDATE:20220327T030000
TZOFFSETFROM:+0200
TZOFFSETTO:+0100
TZNAME:Europe/Paris CET
END:STANDARD
BEGIN:STANDARD
DTSTART:20221030T020000
RDATE:20230326T030000
TZOFFSETFROM:+0200
TZOFFSETTO:+0100
TZNAME:Europe/Paris CET
END:STANDARD
BEGIN:STANDARD
DTSTART:20231029T020000
RDATE:20240331T030000
TZOFFSETFROM:+0200
TZOFFSETTO:+0100
TZNAME:Europe/Paris CET
END:STANDARD
BEGIN:STANDARD
DTSTART:20241027T020000
RDATE:20250330T030000
TZOFFSETFROM:+0200
TZOFFSETTO:+0100
TZNAME:Europe/Paris CET
END:STANDARD
BEGIN:STANDARD
DTSTART:20251026T020000
RDATE:20260329T030000
TZOFFSETFROM:+0200
TZOFFSETTO:+0100
TZNAME:Europe/Paris CET
END:STANDARD
BEGIN:STANDARD
DTSTART:20261025T020000
RDATE:20270328T030000
TZOFFSETFROM:+0200
TZOFFSETTO:+0100
TZNAME:Europe/Paris CET
END:STANDARD
BEGIN:DAYLIGHT
DTSTART:20190331T030000
RDATE:20191027T020000
TZOFFSETFROM:+0100
TZOFFSETTO:+0200
TZNAME:Europe/Paris CEST
END:DAYLIGHT
BEGIN:DAYLIGHT
DTSTART:20200329T030000
RDATE:20201025T020000
TZOFFSETFROM:+0100
TZOFFSETTO:+0200
TZNAME:Europe/Paris CEST
END:DAYLIGHT
BEGIN:DAYLIGHT
DTSTART:20210328T030000
RDATE:20211031T020000
TZOFFSETFROM:+0100
TZOFFSETTO:+0200
TZNAME:Europe/Paris CEST
END:DAYLIGHT
BEGIN:DAYLIGHT
DTSTART:20220327T030000
RDATE:20221030T020000
TZOFFSETFROM:+0100
TZOFFSETTO:+0200
TZNAME:Europe/Paris CEST
END:DAYLIGHT
BEGIN:DAYLIGHT
DTSTART:20230326T030000
RDATE:20231029T020000
TZOFFSETFROM:+0100
TZOFFSETTO:+0200
TZNAME:Europe/Paris CEST
END:DAYLIGHT
BEGIN:DAYLIGHT
DTSTART:20240331T030000
RDATE:20241027T020000
TZOFFSETFROM:+0100
TZOFFSETTO:+0200
TZNAME:Europe/Paris CEST
END:DAYLIGHT
BEGIN:DAYLIGHT
DTSTART:20250330T030000
RDATE:20251026T020000
TZOFFSETFROM:+0100
TZOFFSETTO:+0200
TZNAME:Europe/Paris CEST
END:DAYLIGHT
BEGIN:DAYLIGHT
DTSTART:20260329T030000
RDATE:20261025T020000
TZOFFSETFROM:+0100
TZOFFSETTO:+0200
TZNAME:Europe/Paris CEST
END:DAYLIGHT
END:VTIMEZONE
BEGIN:VEVENT
UID:0f9a44ac04fef390fae1dd887071d038
CATEGORIES:Circuit Massif D2 (alpin)
CREATED:20191111T130350
SUMMARY:CD2 Prix Décobois **REPORTE**
URL;VALUE=URI:https://skivosges.net/agenda/a-venir/detailevenement/1442/-/cd2-prix-decobo
 is-reporte?tmpl=component
DESCRIPTION:<!-- #gskiepreuve code généré par le plugin jevents pour GskiEpreuves. Ne p
 as modifier cette ligne, ni tout le contenu suivant  #gskiepreuve --><div c
 lass="gski-evenement_infos"><div class="gski-evenement-nom">CD2 Prix Décobo
 is</div><div class="gski-evenement-report"> <font class="gskiattention">(Ep
 reuve reportée, date à determiner)</font></div><ul class="gski-evenement-li
 ste-infos"><li>Codex évenement AMVT0660</li><li>Station : FRERE JOSEPH</li>
 <li>Organisateur : 14083 U.S VENTRON</li><li>Courriel : <!-- Cette adresse 
 électronique est protégée contre les robots spammeurs. --><span class="cloa
 ked_email ep_54ef610d"><span data-ep-b="&#108;e.f&#114;" data-ep-a="&#115;&
 #116;e&#112;h"><span data-ep-a="&#97;&#110;e&#46;g" data-ep-b="&#114;&#105;
 c&#97;&#98;"><span data-ep-a="i&#103;&#97;&#110;&#116;" data-ep-b="&#64;&#1
 10;&#117;m&#101;"></span></span></span></span><script>RegularLabs.EmailProt
 ector.unCloak("ep_54ef610d");</script></li><li><span class="gski-evenement-
 obs">Délégué Technique : VAXELAIRE LAURENT</span></li></ul><div class="gski
 -evenement-infos-2"><div class="gski-evenement-info-inscriptions"><div clas
 s="gski-evenement-inscriptions-periodes">Période d'inscription à l'evènemen
 t du dimanche 08 mars 2020 à 00:00 au vendredi 13 mars 2020 à 12:00 <span c
 lass="gski-evenement-inscriptions-impossibles">(Inscriptions impossibles).<
 /span><div class="gski-evenement-inscriptions-types-titres">Inscriptions ou
 vertes aux detenteurs des titres Fédéraux valides suivants : Licenciés Comp
 étiteurs</div></div></div><div class="gski-evenement-epreuves"><div class="
 gski-evenement-epreuves-titres">Epreuves :</div><ul class="gski-evenement-e
 preuves-list"><li><div class="gski-epreuve-date">Le dimanche 15 mars 2020</
 div><ul class="gski-epreuve-liste-infos"><li>Codex épreuve AMVM0661</li><li
 >Slalom</li><li>Catégorie(s) : U16 (Garçons)</li></ul></li><li><div class="
 gski-epreuve-date">Le dimanche 15 mars 2020</div><ul class="gski-epreuve-li
 ste-infos"><li>Codex épreuve AMVF0661</li><li>Slalom</li><li>Catégorie(s) :
  U16 (Filles)</li></ul></li><li><div class="gski-epreuve-date">Le dimanche 
 15 mars 2020</div><ul class="gski-epreuve-liste-infos"><li>Codex épreuve AM
 VM0662</li><li>Slalom</li><li>Catégorie(s) : U18 a Masters (Hommes)</li></u
 l></li><li><div class="gski-epreuve-date">Le dimanche 15 mars 2020</div><ul
  class="gski-epreuve-liste-infos"><li>Codex épreuve AMVF0662</li><li>Slalom
 </li><li>Catégorie(s) : U18 a Masters (Dames)</li></ul></li></ul></div><div
  class="gskiepreuves-links"><ul><li><a href="/index.php?option=com_jevents&
 task=icalevent.detail&evid=1437&Itemid=6289">Voir les informations dans l'a
 genda...</a></li></ul></div></div"><!-- #/gskiepreuve fin du dode généré pa
 r le plugin jevents pour GskiEpreuves. . Ne pas modifier cette ligne, ni to
 ut le contenu précedant.  #/gskiepreuve --> <a href="https://skivosges.net/
 agenda/a-venir/detailevenement/1442/-/cd2-prix-decobois-reporte?tmpl=compon
 ent">Cet évènement a été importé depuis :https://skivosges.net/agenda/a-ven
 ir/detailevenement/1442/-/cd2-prix-decobois-reporte?tmpl=component</a>
X-ALT-DESC;FMTTYPE=text/html:<!-- #gskiepreuve code généré par le plugin jevents pour GskiEpreuves. Ne p
 as modifier cette ligne, ni tout le contenu suivant  #gskiepreuve --><div c
 lass="gski-evenement_infos"><div class="gski-evenement-nom">CD2 Prix Décobo
 is</div><div class="gski-evenement-report"> <font class="gskiattention">(Ep
 reuve reportée, date à determiner)</font></div><ul class="gski-evenement-li
 ste-infos"><li>Codex évenement AMVT0660</li><li>Station : FRERE JOSEPH</li>
 <li>Organisateur : 14083 U.S VENTRON</li><li>Courriel : <!-- Cette adresse 
 électronique est protégée contre les robots spammeurs. --><span class="cloa
 ked_email ep_54ef610d"><span data-ep-b="&#108;e.f&#114;" data-ep-a="&#115;&
 #116;e&#112;h"><span data-ep-a="&#97;&#110;e&#46;g" data-ep-b="&#114;&#105;
 c&#97;&#98;"><span data-ep-a="i&#103;&#97;&#110;&#116;" data-ep-b="&#64;&#1
 10;&#117;m&#101;"></span></span></span></span><script>RegularLabs.EmailProt
 ector.unCloak("ep_54ef610d");</script></li><li><span class="gski-evenement-
 obs">Délégué Technique : VAXELAIRE LAURENT</span></li></ul><div class="gski
 -evenement-infos-2"><div class="gski-evenement-info-inscriptions"><div clas
 s="gski-evenement-inscriptions-periodes">Période d'inscription à l'evènemen
 t du dimanche 08 mars 2020 à 00:00 au vendredi 13 mars 2020 à 12:00 <span c
 lass="gski-evenement-inscriptions-impossibles">(Inscriptions impossibles).<
 /span><div class="gski-evenement-inscriptions-types-titres">Inscriptions ou
 vertes aux detenteurs des titres Fédéraux valides suivants : Licenciés Comp
 étiteurs</div></div></div><div class="gski-evenement-epreuves"><div class="
 gski-evenement-epreuves-titres">Epreuves :</div><ul class="gski-evenement-e
 preuves-list"><li><div class="gski-epreuve-date">Le dimanche 15 mars 2020</
 div><ul class="gski-epreuve-liste-infos"><li>Codex épreuve AMVM0661</li><li
 >Slalom</li><li>Catégorie(s) : U16 (Garçons)</li></ul></li><li><div class="
 gski-epreuve-date">Le dimanche 15 mars 2020</div><ul class="gski-epreuve-li
 ste-infos"><li>Codex épreuve AMVF0661</li><li>Slalom</li><li>Catégorie(s) :
  U16 (Filles)</li></ul></li><li><div class="gski-epreuve-date">Le dimanche 
 15 mars 2020</div><ul class="gski-epreuve-liste-infos"><li>Codex épreuve AM
 VM0662</li><li>Slalom</li><li>Catégorie(s) : U18 a Masters (Hommes)</li></u
 l></li><li><div class="gski-epreuve-date">Le dimanche 15 mars 2020</div><ul
  class="gski-epreuve-liste-infos"><li>Codex épreuve AMVF0662</li><li>Slalom
 </li><li>Catégorie(s) : U18 a Masters (Dames)</li></ul></li></ul></div><div
  class="gskiepreuves-links"><ul><li><a href="https://skivosges.net/index.ph
 p?option=com_jevents&task=icalevent.detail&evid=1437&Itemid=6289">Voir les 
 informations dans l'agenda...</a></li></ul></div></div"><!-- #/gskiepreuve 
 fin du dode généré par le plugin jevents pour GskiEpreuves. . Ne pas modifi
 er cette ligne, ni tout le contenu précedant.  #/gskiepreuve --> <a href="h
 ttps://skivosges.net/agenda/a-venir/detailevenement/1442/-/cd2-prix-decoboi
 s-reporte?tmpl=component">Cet évènement a été importé depuis :https://skivo
 sges.net/agenda/a-venir/detailevenement/1442/-/cd2-prix-decobois-reporte?tm
 pl=component</a>DTSTAMP:20260421T051504
DTSTART;TZID=Europe/Paris;VALUE=DATE:20200315
DTEND;TZID=Europe/Paris;VALUE=DATE:20200316
SEQUENCE:0
TRANSP:OPAQUE
END:VEVENT
END:VCALENDAR