BEGIN:VCALENDAR
VERSION:2.0
PRODID:-//jEvents 2.0 for Joomla//EN
CALSCALE:GREGORIAN
METHOD:PUBLISH
BEGIN:VTIMEZONE
TZID:Europe/Paris
BEGIN:STANDARD
DTSTART:20191027T020000
RDATE:20200329T030000
TZOFFSETFROM:+0200
TZOFFSETTO:+0100
TZNAME:Europe/Paris CET
END:STANDARD
BEGIN:STANDARD
DTSTART:20201025T020000
RDATE:20210328T030000
TZOFFSETFROM:+0200
TZOFFSETTO:+0100
TZNAME:Europe/Paris CET
END:STANDARD
BEGIN:STANDARD
DTSTART:20211031T020000
RDATE:20220327T030000
TZOFFSETFROM:+0200
TZOFFSETTO:+0100
TZNAME:Europe/Paris CET
END:STANDARD
BEGIN:STANDARD
DTSTART:20221030T020000
RDATE:20230326T030000
TZOFFSETFROM:+0200
TZOFFSETTO:+0100
TZNAME:Europe/Paris CET
END:STANDARD
BEGIN:STANDARD
DTSTART:20231029T020000
RDATE:20240331T030000
TZOFFSETFROM:+0200
TZOFFSETTO:+0100
TZNAME:Europe/Paris CET
END:STANDARD
BEGIN:STANDARD
DTSTART:20241027T020000
RDATE:20250330T030000
TZOFFSETFROM:+0200
TZOFFSETTO:+0100
TZNAME:Europe/Paris CET
END:STANDARD
BEGIN:STANDARD
DTSTART:20251026T020000
RDATE:20260329T030000
TZOFFSETFROM:+0200
TZOFFSETTO:+0100
TZNAME:Europe/Paris CET
END:STANDARD
BEGIN:STANDARD
DTSTART:20261025T020000
RDATE:20270328T030000
TZOFFSETFROM:+0200
TZOFFSETTO:+0100
TZNAME:Europe/Paris CET
END:STANDARD
BEGIN:DAYLIGHT
DTSTART:20190413T000000
RDATE:20191027T020000
TZOFFSETFROM:+0100
TZOFFSETTO:+0200
TZNAME:Europe/Paris CEST
END:DAYLIGHT
BEGIN:DAYLIGHT
DTSTART:20200329T030000
RDATE:20201025T020000
TZOFFSETFROM:+0100
TZOFFSETTO:+0200
TZNAME:Europe/Paris CEST
END:DAYLIGHT
BEGIN:DAYLIGHT
DTSTART:20210328T030000
RDATE:20211031T020000
TZOFFSETFROM:+0100
TZOFFSETTO:+0200
TZNAME:Europe/Paris CEST
END:DAYLIGHT
BEGIN:DAYLIGHT
DTSTART:20220327T030000
RDATE:20221030T020000
TZOFFSETFROM:+0100
TZOFFSETTO:+0200
TZNAME:Europe/Paris CEST
END:DAYLIGHT
BEGIN:DAYLIGHT
DTSTART:20230326T030000
RDATE:20231029T020000
TZOFFSETFROM:+0100
TZOFFSETTO:+0200
TZNAME:Europe/Paris CEST
END:DAYLIGHT
BEGIN:DAYLIGHT
DTSTART:20240331T030000
RDATE:20241027T020000
TZOFFSETFROM:+0100
TZOFFSETTO:+0200
TZNAME:Europe/Paris CEST
END:DAYLIGHT
BEGIN:DAYLIGHT
DTSTART:20250330T030000
RDATE:20251026T020000
TZOFFSETFROM:+0100
TZOFFSETTO:+0200
TZNAME:Europe/Paris CEST
END:DAYLIGHT
BEGIN:DAYLIGHT
DTSTART:20260329T030000
RDATE:20261025T020000
TZOFFSETFROM:+0100
TZOFFSETTO:+0200
TZNAME:Europe/Paris CEST
END:DAYLIGHT
END:VTIMEZONE
BEGIN:VEVENT
UID:d75e64b37eecef41317fec871d38aa9d
CATEGORIES:Opens et Promos (alpin)
CREATED:20191111T130350
SUMMARY:OPEN MELLAU 33 ème Journées Françaises *** ANNULE(E) ***
URL;VALUE=URI:https://skivosges.net/agenda/a-venir/detailevenement/1463/-/open-mellau-33-
 eme-journees-francaises-annule-e?tmpl=component
DESCRIPTION:OPEN MELLAU 33 ème Journées Françaises (Epreuve annulée)\n - Codex évenemen
 t AMVT0810\n - Lieu : Mellau (AUT)\n - Station : ROOSTELLE\n - Organisateur
  : 14434 ALSACE SKI PLUS COLMAR\n - Courriel : RegularLabs.EmailProtector.u
 nCloak("ep_64befc11");\n - Téléphone : 03 89 27 22 34\n - Délégué Technique
  : MULLER JEAN CLAUDEPériode d'inscription à l'evènement du dimanche 01 mar
 s 2020 à 00:00 au dimanche 22 mars 2020 à 12:00 (Inscriptions impossibles).
 Inscriptions ouvertes aux detenteurs des titres Fédéraux valides suivants :
  Licenciés CompétiteursEpreuves :\n - Le lundi 13 avril 2020\n - Codex épre
 uve AMVM0811\n - Slalom\n - Catégorie(s) : U10 (Garçons)\n - Le lundi 13 av
 ril 2020\n - Codex épreuve AMVF0811\n - Slalom\n - Catégorie(s) : U10 (Fill
 es)\n - Le lundi 13 avril 2020\n - Codex épreuve AMVM0812\n - Slalom\n - Ca
 tégorie(s) : U12/U14 (Garçons)\n - Le lundi 13 avril 2020\n - Codex épreuve
  AMVF0812\n - Slalom\n - Catégorie(s) : U12/U14 (Filles)\n - Voir les infor
 mations dans l'agenda... (/index.php?option=com_jevents&amp;task=icalevent.
 detail&amp;evid=1458&amp;Itemid=6289) Cet évènement a été importé depuis :h
 ttps://skivosges.net/agenda/a-venir/detailevenement/1463/-/open-mellau-33-e
 me-journees-francaises-annule-e?tmpl=component
X-ALT-DESC;FMTTYPE=text/html:<!-- #gskiepreuve code généré par le plugin jevents pour GskiEpreuves. Ne p
 as modifier cette ligne, ni tout le contenu suivant  #gskiepreuve --><div c
 lass="gski-evenement_infos"><div class="gski-evenement-nom">OPEN MELLAU 33 
 ème Journées Françaises</div><div class="gski-evenement-report"> <font clas
 s="gskiattention">(Epreuve annulée)</font></div><ul class="gski-evenement-l
 iste-infos"><li>Codex évenement AMVT0810</li><li>Lieu : Mellau (AUT)</li><l
 i>Station : ROOSTELLE</li><li>Organisateur : 14434 ALSACE SKI PLUS COLMAR</
 li><li>Courriel : <!-- Cette adresse électronique est protégée contre les r
 obots spammeurs. --><span class="cloaked_email ep_64befc11"><span data-ep-b
 ="" data-ep-a="&#118;&#116;&#110;"><span data-ep-a="&#64;w&#97;" data-ep-b=
 "&#102;&#114;"><span data-ep-b="&#111;&#111;." data-ep-a="nad"></span></spa
 n></span></span><script>RegularLabs.EmailProtector.unCloak("ep_64befc11");<
 /script></li><li>Téléphone : 03 89 27 22 34</li><li><span class="gski-evene
 ment-obs">Délégué Technique : MULLER JEAN CLAUDE</span></li></ul><div class
 ="gski-evenement-infos-2"><div class="gski-evenement-info-inscriptions"><di
 v class="gski-evenement-inscriptions-periodes">Période d'inscription à l'ev
 ènement du dimanche 01 mars 2020 à 00:00 au dimanche 22 mars 2020 à 12:00 <
 span class="gski-evenement-inscriptions-impossibles">(Inscriptions impossib
 les).</span><div class="gski-evenement-inscriptions-types-titres">Inscripti
 ons ouvertes aux detenteurs des titres Fédéraux valides suivants : Licencié
 s Compétiteurs</div></div></div><div class="gski-evenement-epreuves"><div c
 lass="gski-evenement-epreuves-titres">Epreuves :</div><ul class="gski-evene
 ment-epreuves-list"><li><div class="gski-epreuve-date">Le lundi 13 avril 20
 20</div><ul class="gski-epreuve-liste-infos"><li>Codex épreuve AMVM0811</li
 ><li>Slalom</li><li>Catégorie(s) : U10 (Garçons)</li></ul></li><li><div cla
 ss="gski-epreuve-date">Le lundi 13 avril 2020</div><ul class="gski-epreuve-
 liste-infos"><li>Codex épreuve AMVF0811</li><li>Slalom</li><li>Catégorie(s)
  : U10 (Filles)</li></ul></li><li><div class="gski-epreuve-date">Le lundi 1
 3 avril 2020</div><ul class="gski-epreuve-liste-infos"><li>Codex épreuve AM
 VM0812</li><li>Slalom</li><li>Catégorie(s) : U12/U14 (Garçons)</li></ul></l
 i><li><div class="gski-epreuve-date">Le lundi 13 avril 2020</div><ul class=
 "gski-epreuve-liste-infos"><li>Codex épreuve AMVF0812</li><li>Slalom</li><l
 i>Catégorie(s) : U12/U14 (Filles)</li></ul></li></ul></div><div class="gski
 epreuves-links"><ul><li><a href="https://skivosges.net/index.php?option=com
 _jevents&task=icalevent.detail&evid=1458&Itemid=6289">Voir les informations
  dans l'agenda...</a></li></ul></div></div"><!-- #/gskiepreuve fin du dode 
 généré par le plugin jevents pour GskiEpreuves. . Ne pas modifier cette lig
 ne, ni tout le contenu précedant.  #/gskiepreuve --> <a href="https://skivo
 sges.net/agenda/a-venir/detailevenement/1463/-/open-mellau-33-eme-journees-
 francaises-annule-e?tmpl=component">Cet évènement a été importé depuis :htt
 ps://skivosges.net/agenda/a-venir/detailevenement/1463/-/open-mellau-33-eme
 -journees-francaises-annule-e?tmpl=component</a>DTSTAMP:20260421T015603
DTSTART;TZID=Europe/Paris;VALUE=DATE:20200413
DTEND;TZID=Europe/Paris;VALUE=DATE:20200414
SEQUENCE:0
TRANSP:OPAQUE
END:VEVENT
END:VCALENDAR