BEGIN:VCALENDAR
VERSION:2.0
PRODID:-//jEvents 2.0 for Joomla//EN
CALSCALE:GREGORIAN
METHOD:PUBLISH
BEGIN:VTIMEZONE
TZID:Europe/Paris
BEGIN:STANDARD
DTSTART:20190111T000000
RDATE:20190331T030000
TZOFFSETFROM:+0200
TZOFFSETTO:+0100
TZNAME:Europe/Paris CET
END:STANDARD
BEGIN:STANDARD
DTSTART:20191027T020000
RDATE:20200329T030000
TZOFFSETFROM:+0200
TZOFFSETTO:+0100
TZNAME:Europe/Paris CET
END:STANDARD
BEGIN:STANDARD
DTSTART:20201025T020000
RDATE:20210328T030000
TZOFFSETFROM:+0200
TZOFFSETTO:+0100
TZNAME:Europe/Paris CET
END:STANDARD
BEGIN:STANDARD
DTSTART:20211031T020000
RDATE:20220327T030000
TZOFFSETFROM:+0200
TZOFFSETTO:+0100
TZNAME:Europe/Paris CET
END:STANDARD
BEGIN:STANDARD
DTSTART:20221030T020000
RDATE:20230326T030000
TZOFFSETFROM:+0200
TZOFFSETTO:+0100
TZNAME:Europe/Paris CET
END:STANDARD
BEGIN:STANDARD
DTSTART:20231029T020000
RDATE:20240331T030000
TZOFFSETFROM:+0200
TZOFFSETTO:+0100
TZNAME:Europe/Paris CET
END:STANDARD
BEGIN:STANDARD
DTSTART:20241027T020000
RDATE:20250330T030000
TZOFFSETFROM:+0200
TZOFFSETTO:+0100
TZNAME:Europe/Paris CET
END:STANDARD
BEGIN:STANDARD
DTSTART:20251026T020000
RDATE:20260329T030000
TZOFFSETFROM:+0200
TZOFFSETTO:+0100
TZNAME:Europe/Paris CET
END:STANDARD
BEGIN:STANDARD
DTSTART:20261025T020000
RDATE:20270328T030000
TZOFFSETFROM:+0200
TZOFFSETTO:+0100
TZNAME:Europe/Paris CET
END:STANDARD
BEGIN:DAYLIGHT
DTSTART:20190331T030000
RDATE:20191027T020000
TZOFFSETFROM:+0100
TZOFFSETTO:+0200
TZNAME:Europe/Paris CEST
END:DAYLIGHT
BEGIN:DAYLIGHT
DTSTART:20200329T030000
RDATE:20201025T020000
TZOFFSETFROM:+0100
TZOFFSETTO:+0200
TZNAME:Europe/Paris CEST
END:DAYLIGHT
BEGIN:DAYLIGHT
DTSTART:20210328T030000
RDATE:20211031T020000
TZOFFSETFROM:+0100
TZOFFSETTO:+0200
TZNAME:Europe/Paris CEST
END:DAYLIGHT
BEGIN:DAYLIGHT
DTSTART:20220327T030000
RDATE:20221030T020000
TZOFFSETFROM:+0100
TZOFFSETTO:+0200
TZNAME:Europe/Paris CEST
END:DAYLIGHT
BEGIN:DAYLIGHT
DTSTART:20230326T030000
RDATE:20231029T020000
TZOFFSETFROM:+0100
TZOFFSETTO:+0200
TZNAME:Europe/Paris CEST
END:DAYLIGHT
BEGIN:DAYLIGHT
DTSTART:20240331T030000
RDATE:20241027T020000
TZOFFSETFROM:+0100
TZOFFSETTO:+0200
TZNAME:Europe/Paris CEST
END:DAYLIGHT
BEGIN:DAYLIGHT
DTSTART:20250330T030000
RDATE:20251026T020000
TZOFFSETFROM:+0100
TZOFFSETTO:+0200
TZNAME:Europe/Paris CEST
END:DAYLIGHT
BEGIN:DAYLIGHT
DTSTART:20260329T030000
RDATE:20261025T020000
TZOFFSETFROM:+0100
TZOFFSETTO:+0200
TZNAME:Europe/Paris CEST
END:DAYLIGHT
END:VTIMEZONE
BEGIN:VEVENT
UID:820d1e44c3a2ae9055b0c3648202c47c
CATEGORIES:Circuit Alsace Jeunes (alpin)
CREATED:20191123T154305
SUMMARY:CJA Coupe Bronze U12 /U14 Mémorial Jean-Pierre Bentzinger **REPORTE**
URL;VALUE=URI:https://skivosges.net/agenda/a-venir/detailevenement/1465/-/cja-coupe-bronz
 e-u12-u14-memorial-jean-pierre-bentzinger-reporte?tmpl=component
DESCRIPTION:<!-- #gskiepreuve code généré par le plugin jevents pour GskiEpreuves. Ne p
 as modifier cette ligne, ni tout le contenu suivant  #gskiepreuve --><div c
 lass="gski-evenement_infos"><div class="gski-evenement-nom">CJA Coupe Bronz
 e U12 /U14 Mémorial Jean-Pierre Bentzinger</div><div class="gski-evenement-
 report"> <font class="gskiattention">(Epreuve reportée, date à determiner)<
 /font></div><ul class="gski-evenement-liste-infos"><li>Codex évenement AMVT
 0860</li><li>Station : LAC BLANC</li><li>Organisateur : 14343 SKI TEAM AVEN
 IR VALLEE DE WEISS</li><li><span class="gski-evenement-obs">Délégué Techniq
 ue : SCHLOSSER FRANCK</span></li></ul><div class="gski-evenement-infos-2"><
 div class="gski-evenement-info-inscriptions"><div class="gski-evenement-ins
 criptions-periodes">Période d'inscription à l'evènement du dimanche 05 janv
 ier 2020 à 00:00 au vendredi 10 janvier 2020 à 12:00 <span class="gski-even
 ement-inscriptions-impossibles">(Inscriptions impossibles).</span><div clas
 s="gski-evenement-inscriptions-types-titres">Inscriptions ouvertes aux dete
 nteurs des titres Fédéraux valides suivants : Licenciés Compétiteurs</div><
 /div></div><div class="gski-evenement-epreuves"><div class="gski-evenement-
 epreuves-titres">Epreuves :</div><ul class="gski-evenement-epreuves-list"><
 li><div class="gski-epreuve-date">Le dimanche 12 janvier 2020</div><ul clas
 s="gski-epreuve-liste-infos"><li>Codex épreuve AMVM0861</li><li>Slalom Gean
 t</li><li>Catégorie(s) : U8/U10 (Garçons)</li></ul></li><li><div class="gsk
 i-epreuve-date">Le dimanche 12 janvier 2020</div><ul class="gski-epreuve-li
 ste-infos"><li>Codex épreuve AMVF0861</li><li>Slalom Geant</li><li>Catégori
 e(s) : U8/U10 (Filles)</li></ul></li><li><div class="gski-epreuve-date">Le 
 dimanche 12 janvier 2020</div><ul class="gski-epreuve-liste-infos"><li>Code
 x épreuve AMVM0862</li><li>Slalom Geant</li><li>Catégorie(s) : U12/U14 (Gar
 çons)</li></ul></li><li><div class="gski-epreuve-date">Le dimanche 12 janvi
 er 2020</div><ul class="gski-epreuve-liste-infos"><li>Codex épreuve AMVF086
 2</li><li>Slalom Geant</li><li>Catégorie(s) : U12/U14 (Filles)</li></ul></l
 i></ul></div><div class="gskiepreuves-links"><ul><li><a href="/index.php?op
 tion=com_jevents&task=icalevent.detail&evid=1460&Itemid=6289">Voir les info
 rmations dans l'agenda...</a></li></ul></div></div"><!-- #/gskiepreuve fin 
 du dode généré par le plugin jevents pour GskiEpreuves. . Ne pas modifier c
 ette ligne, ni tout le contenu précedant.  #/gskiepreuve --> <a href="https
 ://skivosges.net/agenda/a-venir/detailevenement/1465/-/cja-coupe-bronze-u12
 -u14-memorial-jean-pierre-bentzinger-reporte?tmpl=component">Cet évènement 
 a été importé depuis :https://skivosges.net/agenda/a-venir/detailevenement/
 1465/-/cja-coupe-bronze-u12-u14-memorial-jean-pierre-bentzinger-reporte?tmp
 l=component</a>
X-ALT-DESC;FMTTYPE=text/html:<!-- #gskiepreuve code généré par le plugin jevents pour GskiEpreuves. Ne p
 as modifier cette ligne, ni tout le contenu suivant  #gskiepreuve --><div c
 lass="gski-evenement_infos"><div class="gski-evenement-nom">CJA Coupe Bronz
 e U12 /U14 Mémorial Jean-Pierre Bentzinger</div><div class="gski-evenement-
 report"> <font class="gskiattention">(Epreuve reportée, date à determiner)<
 /font></div><ul class="gski-evenement-liste-infos"><li>Codex évenement AMVT
 0860</li><li>Station : LAC BLANC</li><li>Organisateur : 14343 SKI TEAM AVEN
 IR VALLEE DE WEISS</li><li><span class="gski-evenement-obs">Délégué Techniq
 ue : SCHLOSSER FRANCK</span></li></ul><div class="gski-evenement-infos-2"><
 div class="gski-evenement-info-inscriptions"><div class="gski-evenement-ins
 criptions-periodes">Période d'inscription à l'evènement du dimanche 05 janv
 ier 2020 à 00:00 au vendredi 10 janvier 2020 à 12:00 <span class="gski-even
 ement-inscriptions-impossibles">(Inscriptions impossibles).</span><div clas
 s="gski-evenement-inscriptions-types-titres">Inscriptions ouvertes aux dete
 nteurs des titres Fédéraux valides suivants : Licenciés Compétiteurs</div><
 /div></div><div class="gski-evenement-epreuves"><div class="gski-evenement-
 epreuves-titres">Epreuves :</div><ul class="gski-evenement-epreuves-list"><
 li><div class="gski-epreuve-date">Le dimanche 12 janvier 2020</div><ul clas
 s="gski-epreuve-liste-infos"><li>Codex épreuve AMVM0861</li><li>Slalom Gean
 t</li><li>Catégorie(s) : U8/U10 (Garçons)</li></ul></li><li><div class="gsk
 i-epreuve-date">Le dimanche 12 janvier 2020</div><ul class="gski-epreuve-li
 ste-infos"><li>Codex épreuve AMVF0861</li><li>Slalom Geant</li><li>Catégori
 e(s) : U8/U10 (Filles)</li></ul></li><li><div class="gski-epreuve-date">Le 
 dimanche 12 janvier 2020</div><ul class="gski-epreuve-liste-infos"><li>Code
 x épreuve AMVM0862</li><li>Slalom Geant</li><li>Catégorie(s) : U12/U14 (Gar
 çons)</li></ul></li><li><div class="gski-epreuve-date">Le dimanche 12 janvi
 er 2020</div><ul class="gski-epreuve-liste-infos"><li>Codex épreuve AMVF086
 2</li><li>Slalom Geant</li><li>Catégorie(s) : U12/U14 (Filles)</li></ul></l
 i></ul></div><div class="gskiepreuves-links"><ul><li><a href="https://skivo
 sges.net/index.php?option=com_jevents&task=icalevent.detail&evid=1460&Itemi
 d=6289">Voir les informations dans l'agenda...</a></li></ul></div></div"><!
 -- #/gskiepreuve fin du dode généré par le plugin jevents pour GskiEpreuves
 . . Ne pas modifier cette ligne, ni tout le contenu précedant.  #/gskiepreu
 ve --> <a href="https://skivosges.net/agenda/a-venir/detailevenement/1465/-
 /cja-coupe-bronze-u12-u14-memorial-jean-pierre-bentzinger-reporte?tmpl=comp
 onent">Cet évènement a été importé depuis :https://skivosges.net/agenda/a-v
 enir/detailevenement/1465/-/cja-coupe-bronze-u12-u14-memorial-jean-pierre-b
 entzinger-reporte?tmpl=component</a>DTSTAMP:20260423T144718
DTSTART;TZID=Europe/Paris;VALUE=DATE:20200112
DTEND;TZID=Europe/Paris;VALUE=DATE:20200113
SEQUENCE:0
TRANSP:OPAQUE
END:VEVENT
END:VCALENDAR