BEGIN:VCALENDAR
VERSION:2.0
PRODID:-//jEvents 2.0 for Joomla//EN
CALSCALE:GREGORIAN
METHOD:PUBLISH
BEGIN:VTIMEZONE
TZID:Europe/Paris
BEGIN:STANDARD
DTSTART:20190118T000000
RDATE:20190331T030000
TZOFFSETFROM:+0200
TZOFFSETTO:+0100
TZNAME:Europe/Paris CET
END:STANDARD
BEGIN:STANDARD
DTSTART:20191027T020000
RDATE:20200329T030000
TZOFFSETFROM:+0200
TZOFFSETTO:+0100
TZNAME:Europe/Paris CET
END:STANDARD
BEGIN:STANDARD
DTSTART:20201025T020000
RDATE:20210328T030000
TZOFFSETFROM:+0200
TZOFFSETTO:+0100
TZNAME:Europe/Paris CET
END:STANDARD
BEGIN:STANDARD
DTSTART:20211031T020000
RDATE:20220327T030000
TZOFFSETFROM:+0200
TZOFFSETTO:+0100
TZNAME:Europe/Paris CET
END:STANDARD
BEGIN:STANDARD
DTSTART:20221030T020000
RDATE:20230326T030000
TZOFFSETFROM:+0200
TZOFFSETTO:+0100
TZNAME:Europe/Paris CET
END:STANDARD
BEGIN:STANDARD
DTSTART:20231029T020000
RDATE:20240331T030000
TZOFFSETFROM:+0200
TZOFFSETTO:+0100
TZNAME:Europe/Paris CET
END:STANDARD
BEGIN:STANDARD
DTSTART:20241027T020000
RDATE:20250330T030000
TZOFFSETFROM:+0200
TZOFFSETTO:+0100
TZNAME:Europe/Paris CET
END:STANDARD
BEGIN:STANDARD
DTSTART:20251026T020000
RDATE:20260329T030000
TZOFFSETFROM:+0200
TZOFFSETTO:+0100
TZNAME:Europe/Paris CET
END:STANDARD
BEGIN:STANDARD
DTSTART:20261025T020000
RDATE:20270328T030000
TZOFFSETFROM:+0200
TZOFFSETTO:+0100
TZNAME:Europe/Paris CET
END:STANDARD
BEGIN:DAYLIGHT
DTSTART:20190331T030000
RDATE:20191027T020000
TZOFFSETFROM:+0100
TZOFFSETTO:+0200
TZNAME:Europe/Paris CEST
END:DAYLIGHT
BEGIN:DAYLIGHT
DTSTART:20200329T030000
RDATE:20201025T020000
TZOFFSETFROM:+0100
TZOFFSETTO:+0200
TZNAME:Europe/Paris CEST
END:DAYLIGHT
BEGIN:DAYLIGHT
DTSTART:20210328T030000
RDATE:20211031T020000
TZOFFSETFROM:+0100
TZOFFSETTO:+0200
TZNAME:Europe/Paris CEST
END:DAYLIGHT
BEGIN:DAYLIGHT
DTSTART:20220327T030000
RDATE:20221030T020000
TZOFFSETFROM:+0100
TZOFFSETTO:+0200
TZNAME:Europe/Paris CEST
END:DAYLIGHT
BEGIN:DAYLIGHT
DTSTART:20230326T030000
RDATE:20231029T020000
TZOFFSETFROM:+0100
TZOFFSETTO:+0200
TZNAME:Europe/Paris CEST
END:DAYLIGHT
BEGIN:DAYLIGHT
DTSTART:20240331T030000
RDATE:20241027T020000
TZOFFSETFROM:+0100
TZOFFSETTO:+0200
TZNAME:Europe/Paris CEST
END:DAYLIGHT
BEGIN:DAYLIGHT
DTSTART:20250330T030000
RDATE:20251026T020000
TZOFFSETFROM:+0100
TZOFFSETTO:+0200
TZNAME:Europe/Paris CEST
END:DAYLIGHT
BEGIN:DAYLIGHT
DTSTART:20260329T030000
RDATE:20261025T020000
TZOFFSETFROM:+0100
TZOFFSETTO:+0200
TZNAME:Europe/Paris CEST
END:DAYLIGHT
END:VTIMEZONE
BEGIN:VEVENT
UID:18db17fa10deceff11598874c63da661
CATEGORIES:Opens et Promos (alpin)
CREATED:20200101T180222
SUMMARY:PROMO **REPORTE**
URL;VALUE=URI:https://skivosges.net/agenda/a-venir/detailevenement/1481/-/promo-reporte?t
 mpl=component
DESCRIPTION:PROMO (Epreuve reportée, date à determiner)\n - Codex évenement AMVT0040\n 
 - Station : MARKSTEIN\n - Organisateur : 14186 S.C VALLEE DE WESSERLING\n -
  Courriel : RegularLabs.EmailProtector.unCloak("ep_cadb876e");\n - Téléphon
 e : 03 89 82 78 08Période d'inscription à l'evènement du dimanche 12 janvie
 r 2020 à 00:00 au vendredi 17 janvier 2020 à 12:00 (Inscriptions impossible
 s).Inscriptions ouvertes aux detenteurs des titres Fédéraux valides suivant
 s : Licenciés Compétiteurs et Titres Loisirs et DirigeantsEpreuves :\n - Le
  dimanche 19 janvier 2020\n - Codex épreuve AMVM0041\n - Slalom\n - Catégor
 ie(s) : U8/U10 (Garçons)\n - Le dimanche 19 janvier 2020\n - Codex épreuve 
 AMVF0041\n - Slalom\n - Catégorie(s) : U8/U10 (Filles)\n - Le dimanche 19 j
 anvier 2020\n - Codex épreuve AMVM0042\n - Slalom\n - Catégorie(s) : U12/U1
 4 (Garçons)\n - Le dimanche 19 janvier 2020\n - Codex épreuve AMVF0042\n - 
 Slalom\n - Catégorie(s) : U12/U14 (Filles)\n - Voir les informations dans l
 'agenda... (/index.php?option=com_jevents&amp;task=icalevent.detail&amp;evi
 d=1476&amp;Itemid=6289) Cet évènement a été importé depuis :https://skivosg
 es.net/agenda/a-venir/detailevenement/1481/-/promo-reporte?tmpl=component
X-ALT-DESC;FMTTYPE=text/html:<!-- #gskiepreuve code généré par le plugin jevents pour GskiEpreuves. Ne p
 as modifier cette ligne, ni tout le contenu suivant  #gskiepreuve --><div c
 lass="gski-evenement_infos"><div class="gski-evenement-nom">PROMO</div><div
  class="gski-evenement-report"> <font class="gskiattention">(Epreuve report
 ée, date à determiner)</font></div><ul class="gski-evenement-liste-infos"><
 li>Codex évenement AMVT0040</li><li>Station : MARKSTEIN</li><li>Organisateu
 r : 14186 S.C VALLEE DE WESSERLING</li><li>Courriel : <!-- Cette adresse él
 ectronique est protégée contre les robots spammeurs. --><span class="cloake
 d_email ep_cadb876e"><span data-ep-b="m" data-ep-a="s&#99;v&#119;"><span da
 ta-ep-a="e&#115;se" data-ep-b="&#108;&#46;&#99;o"><span data-ep-b="&#103;&#
 64;&#97;&#111;" data-ep-a="r&#108;i&#110;"></span></span></span></span><scr
 ipt>RegularLabs.EmailProtector.unCloak("ep_cadb876e");</script></li><li>Tél
 éphone : 03 89 82 78 08</li></ul><div class="gski-evenement-infos-2"><div c
 lass="gski-evenement-info-inscriptions"><div class="gski-evenement-inscript
 ions-periodes">Période d'inscription à l'evènement du dimanche 12 janvier 2
 020 à 00:00 au vendredi 17 janvier 2020 à 12:00 <span class="gski-evenement
 -inscriptions-impossibles">(Inscriptions impossibles).</span><div class="gs
 ki-evenement-inscriptions-types-titres">Inscriptions ouvertes aux detenteur
 s des titres Fédéraux valides suivants : Licenciés Compétiteurs et Titres L
 oisirs et Dirigeants</div></div></div><div class="gski-evenement-epreuves">
 <div class="gski-evenement-epreuves-titres">Epreuves :</div><ul class="gski
 -evenement-epreuves-list"><li><div class="gski-epreuve-date">Le dimanche 19
  janvier 2020</div><ul class="gski-epreuve-liste-infos"><li>Codex épreuve A
 MVM0041</li><li>Slalom</li><li>Catégorie(s) : U8/U10 (Garçons)</li></ul></l
 i><li><div class="gski-epreuve-date">Le dimanche 19 janvier 2020</div><ul c
 lass="gski-epreuve-liste-infos"><li>Codex épreuve AMVF0041</li><li>Slalom</
 li><li>Catégorie(s) : U8/U10 (Filles)</li></ul></li><li><div class="gski-ep
 reuve-date">Le dimanche 19 janvier 2020</div><ul class="gski-epreuve-liste-
 infos"><li>Codex épreuve AMVM0042</li><li>Slalom</li><li>Catégorie(s) : U12
 /U14 (Garçons)</li></ul></li><li><div class="gski-epreuve-date">Le dimanche
  19 janvier 2020</div><ul class="gski-epreuve-liste-infos"><li>Codex épreuv
 e AMVF0042</li><li>Slalom</li><li>Catégorie(s) : U12/U14 (Filles)</li></ul>
 </li></ul></div><div class="gskiepreuves-links"><ul><li><a href="https://sk
 ivosges.net/index.php?option=com_jevents&task=icalevent.detail&evid=1476&It
 emid=6289">Voir les informations dans l'agenda...</a></li></ul></div></div"
 ><!-- #/gskiepreuve fin du dode généré par le plugin jevents pour GskiEpreu
 ves. . Ne pas modifier cette ligne, ni tout le contenu précedant.  #/gskiep
 reuve --> <a href="https://skivosges.net/agenda/a-venir/detailevenement/148
 1/-/promo-reporte?tmpl=component">Cet évènement a été importé depuis :https
 ://skivosges.net/agenda/a-venir/detailevenement/1481/-/promo-reporte?tmpl=c
 omponent</a>DTSTAMP:20260423T144639
DTSTART;TZID=Europe/Paris;VALUE=DATE:20200119
DTEND;TZID=Europe/Paris;VALUE=DATE:20200120
SEQUENCE:0
TRANSP:OPAQUE
END:VEVENT
END:VCALENDAR