BEGIN:VCALENDAR
VERSION:2.0
PRODID:-//jEvents 2.0 for Joomla//EN
CALSCALE:GREGORIAN
METHOD:PUBLISH
BEGIN:VTIMEZONE
TZID:Europe/Paris
BEGIN:STANDARD
DTSTART:20190214T000000
RDATE:20190331T030000
TZOFFSETFROM:+0200
TZOFFSETTO:+0100
TZNAME:Europe/Paris CET
END:STANDARD
BEGIN:STANDARD
DTSTART:20191027T020000
RDATE:20200329T030000
TZOFFSETFROM:+0200
TZOFFSETTO:+0100
TZNAME:Europe/Paris CET
END:STANDARD
BEGIN:STANDARD
DTSTART:20201025T020000
RDATE:20210328T030000
TZOFFSETFROM:+0200
TZOFFSETTO:+0100
TZNAME:Europe/Paris CET
END:STANDARD
BEGIN:STANDARD
DTSTART:20211031T020000
RDATE:20220327T030000
TZOFFSETFROM:+0200
TZOFFSETTO:+0100
TZNAME:Europe/Paris CET
END:STANDARD
BEGIN:STANDARD
DTSTART:20221030T020000
RDATE:20230326T030000
TZOFFSETFROM:+0200
TZOFFSETTO:+0100
TZNAME:Europe/Paris CET
END:STANDARD
BEGIN:STANDARD
DTSTART:20231029T020000
RDATE:20240331T030000
TZOFFSETFROM:+0200
TZOFFSETTO:+0100
TZNAME:Europe/Paris CET
END:STANDARD
BEGIN:STANDARD
DTSTART:20241027T020000
RDATE:20250330T030000
TZOFFSETFROM:+0200
TZOFFSETTO:+0100
TZNAME:Europe/Paris CET
END:STANDARD
BEGIN:STANDARD
DTSTART:20251026T020000
RDATE:20260329T030000
TZOFFSETFROM:+0200
TZOFFSETTO:+0100
TZNAME:Europe/Paris CET
END:STANDARD
BEGIN:STANDARD
DTSTART:20261025T020000
RDATE:20270328T030000
TZOFFSETFROM:+0200
TZOFFSETTO:+0100
TZNAME:Europe/Paris CET
END:STANDARD
BEGIN:DAYLIGHT
DTSTART:20190331T030000
RDATE:20191027T020000
TZOFFSETFROM:+0100
TZOFFSETTO:+0200
TZNAME:Europe/Paris CEST
END:DAYLIGHT
BEGIN:DAYLIGHT
DTSTART:20200329T030000
RDATE:20201025T020000
TZOFFSETFROM:+0100
TZOFFSETTO:+0200
TZNAME:Europe/Paris CEST
END:DAYLIGHT
BEGIN:DAYLIGHT
DTSTART:20210328T030000
RDATE:20211031T020000
TZOFFSETFROM:+0100
TZOFFSETTO:+0200
TZNAME:Europe/Paris CEST
END:DAYLIGHT
BEGIN:DAYLIGHT
DTSTART:20220327T030000
RDATE:20221030T020000
TZOFFSETFROM:+0100
TZOFFSETTO:+0200
TZNAME:Europe/Paris CEST
END:DAYLIGHT
BEGIN:DAYLIGHT
DTSTART:20230326T030000
RDATE:20231029T020000
TZOFFSETFROM:+0100
TZOFFSETTO:+0200
TZNAME:Europe/Paris CEST
END:DAYLIGHT
BEGIN:DAYLIGHT
DTSTART:20240331T030000
RDATE:20241027T020000
TZOFFSETFROM:+0100
TZOFFSETTO:+0200
TZNAME:Europe/Paris CEST
END:DAYLIGHT
BEGIN:DAYLIGHT
DTSTART:20250330T030000
RDATE:20251026T020000
TZOFFSETFROM:+0100
TZOFFSETTO:+0200
TZNAME:Europe/Paris CEST
END:DAYLIGHT
BEGIN:DAYLIGHT
DTSTART:20260329T030000
RDATE:20261025T020000
TZOFFSETFROM:+0100
TZOFFSETTO:+0200
TZNAME:Europe/Paris CEST
END:DAYLIGHT
END:VTIMEZONE
BEGIN:VEVENT
UID:f91a82bde485a582f87dc0e30b8ac33a
CATEGORIES:Combiné Nordique
CREATED:20200219T171406
SUMMARY:jeux du saut étape xonrupt et aigle d'or
URL;VALUE=URI:https://skivosges.net/agenda/a-venir/detailevenement/1485/-/jeux-du-saut-et
 ape-xonrupt-et-aigle-dor?tmpl=component
DESCRIPTION:jeux du saut étape xonrupt et aigle d'or\n - Codex évenement CMVT0020\n - L
 ieu : Les trois fours (non homologué)\n - Organisateur : 14102 SKI CLUB XON
 RUPT\n - Courriel : RegularLabs.EmailProtector.unCloak("ep_dc34885b");\n - 
 Délégué Technique : ANDRE REGISPériode d'inscription à l'evènement du samed
 i 08 février 2020 à 00:00 au jeudi 13 février 2020 à 12:00 (Inscriptions im
 possibles).Inscriptions ouvertes aux detenteurs des titres Fédéraux valides
  suivants : Licenciés CompétiteursEpreuves :\n - Le samedi 15 février 2020\
 n - Codex épreuve CMVM0021\n - Saut du Combine Nordique\n - Catégorie(s) : 
 U7 a U13 (Garçons)\n - Le samedi 15 février 2020\n - Codex épreuve CMVF0021
 \n - Saut du Combine Nordique\n - Catégorie(s) : U7 a U13 (Filles)\n - Le s
 amedi 15 février 2020\n - Codex épreuve CMVM0022\n - Combine Nordique (Saut
 -FS)\n - Catégorie(s) : U7 a U13 (Garçons)\n - Le samedi 15 février 2020\n 
 - Codex épreuve CMVF0022\n - Combine Nordique (Saut-FS)\n - Catégorie(s) : 
 U7 a U13 (Filles)\n - Voir les informations dans l'agenda... (/index.php?op
 tion=com_jevents&amp;task=icalevent.detail&amp;evid=1480&amp;Itemid=6289)\n
  - Vers les résultats... (/index.php?option=com_gskiepreuves&amp;view=affic
 heresultats&amp;format_option=tous&amp;filter[search]=CMVT0020&amp;filter[d
 ate_debut]=15-02-2020&amp;filter[date_fin]=15-02-2020&amp;code_activite=CN&
 amp;Itemid=6289) Cet évènement a été importé depuis :https://skivosges.net/
 agenda/a-venir/detailevenement/1485/-/jeux-du-saut-etape-xonrupt-et-aigle-d
 or?tmpl=component
X-ALT-DESC;FMTTYPE=text/html:<!-- #gskiepreuve code généré par le plugin jevents pour GskiEpreuves. Ne p
 as modifier cette ligne, ni tout le contenu suivant  #gskiepreuve --><div c
 lass="gski-evenement_infos"><div class="gski-evenement-nom">jeux du saut ét
 ape xonrupt et aigle d'or</div><div class="gski-evenement-report"></div><ul
  class="gski-evenement-liste-infos"><li>Codex évenement CMVT0020</li><li>Li
 eu : Les trois fours (non homologu&eacute;)</li><li>Organisateur : 14102 SK
 I CLUB XONRUPT</li><li>Courriel : <!-- Cette adresse électronique est proté
 gée contre les robots spammeurs. --><span class="cloaked_email ep_dc34885b"
 ><span data-ep-a="rob" data-ep-b="&#114;"><span data-ep-b="&#114;&#46;f" da
 ta-ep-a="&#100;&#111;&#109;"><span data-ep-a="&#101;&#100;&#105;" data-ep-b
 ="&#64;&#115;f"></span></span></span></span><script>RegularLabs.EmailProtec
 tor.unCloak("ep_dc34885b");</script></li><li><span class="gski-evenement-ob
 s">Délégué Technique : ANDRE REGIS</span></li></ul><div class="gski-eveneme
 nt-infos-2"><div class="gski-evenement-info-inscriptions"><div class="gski-
 evenement-inscriptions-periodes">Période d'inscription à l'evènement du sam
 edi 08 février 2020 à 00:00 au jeudi 13 février 2020 à 12:00 <span class="g
 ski-evenement-inscriptions-impossibles">(Inscriptions impossibles).</span><
 div class="gski-evenement-inscriptions-types-titres">Inscriptions ouvertes 
 aux detenteurs des titres Fédéraux valides suivants : Licenciés Compétiteur
 s</div></div></div><div class="gski-evenement-epreuves"><div class="gski-ev
 enement-epreuves-titres">Epreuves :</div><ul class="gski-evenement-epreuves
 -list"><li><div class="gski-epreuve-date">Le samedi 15 février 2020</div><u
 l class="gski-epreuve-liste-infos"><li>Codex épreuve CMVM0021</li><li>Saut 
 du Combine Nordique</li><li>Catégorie(s) : U7 a U13 (Garçons)</li></ul></li
 ><li><div class="gski-epreuve-date">Le samedi 15 février 2020</div><ul clas
 s="gski-epreuve-liste-infos"><li>Codex épreuve CMVF0021</li><li>Saut du Com
 bine Nordique</li><li>Catégorie(s) : U7 a U13 (Filles)</li></ul></li><li><d
 iv class="gski-epreuve-date">Le samedi 15 février 2020</div><ul class="gski
 -epreuve-liste-infos"><li>Codex épreuve CMVM0022</li><li>Combine Nordique (
 Saut-FS)</li><li>Catégorie(s) : U7 a U13 (Garçons)</li></ul></li><li><div c
 lass="gski-epreuve-date">Le samedi 15 février 2020</div><ul class="gski-epr
 euve-liste-infos"><li>Codex épreuve CMVF0022</li><li>Combine Nordique (Saut
 -FS)</li><li>Catégorie(s) : U7 a U13 (Filles)</li></ul></li></ul></div><div
  class="gskiepreuves-links"><ul><li><a href="https://skivosges.net/index.ph
 p?option=com_jevents&task=icalevent.detail&evid=1480&Itemid=6289">Voir les 
 informations dans l'agenda...</a></li><li><a href="https://skivosges.net/in
 dex.php?option=com_gskiepreuves&view=afficheresultats&format_option=tous&fi
 lter[search]=CMVT0020&filter[date_debut]=15-02-2020&filter[date_fin]=15-02-
 2020&code_activite=CN&Itemid=6289">Vers les résultats...</a></li></ul></div
 ></div"><!-- #/gskiepreuve fin du dode généré par le plugin jevents pour Gs
 kiEpreuves. . Ne pas modifier cette ligne, ni tout le contenu précedant.  #
 /gskiepreuve --> <a href="https://skivosges.net/agenda/a-venir/detailevenem
 ent/1485/-/jeux-du-saut-etape-xonrupt-et-aigle-dor?tmpl=component">Cet évèn
 ement a été importé depuis :https://skivosges.net/agenda/a-venir/detaileven
 ement/1485/-/jeux-du-saut-etape-xonrupt-et-aigle-dor?tmpl=component</a>DTSTAMP:20260423T175136
DTSTART;TZID=Europe/Paris;VALUE=DATE:20200215
DTEND;TZID=Europe/Paris;VALUE=DATE:20200216
SEQUENCE:0
TRANSP:OPAQUE
END:VEVENT
END:VCALENDAR