BEGIN:VCALENDAR
VERSION:2.0
PRODID:-//jEvents 2.0 for Joomla//EN
CALSCALE:GREGORIAN
METHOD:PUBLISH
BEGIN:VTIMEZONE
TZID:Europe/Paris
BEGIN:STANDARD
DTSTART:20190214T000000
RDATE:20190331T030000
TZOFFSETFROM:+0200
TZOFFSETTO:+0100
TZNAME:Europe/Paris CET
END:STANDARD
BEGIN:STANDARD
DTSTART:20191027T020000
RDATE:20200329T030000
TZOFFSETFROM:+0200
TZOFFSETTO:+0100
TZNAME:Europe/Paris CET
END:STANDARD
BEGIN:STANDARD
DTSTART:20201025T020000
RDATE:20210328T030000
TZOFFSETFROM:+0200
TZOFFSETTO:+0100
TZNAME:Europe/Paris CET
END:STANDARD
BEGIN:STANDARD
DTSTART:20211031T020000
RDATE:20220327T030000
TZOFFSETFROM:+0200
TZOFFSETTO:+0100
TZNAME:Europe/Paris CET
END:STANDARD
BEGIN:STANDARD
DTSTART:20221030T020000
RDATE:20230326T030000
TZOFFSETFROM:+0200
TZOFFSETTO:+0100
TZNAME:Europe/Paris CET
END:STANDARD
BEGIN:STANDARD
DTSTART:20231029T020000
RDATE:20240331T030000
TZOFFSETFROM:+0200
TZOFFSETTO:+0100
TZNAME:Europe/Paris CET
END:STANDARD
BEGIN:STANDARD
DTSTART:20241027T020000
RDATE:20250330T030000
TZOFFSETFROM:+0200
TZOFFSETTO:+0100
TZNAME:Europe/Paris CET
END:STANDARD
BEGIN:STANDARD
DTSTART:20251026T020000
RDATE:20260329T030000
TZOFFSETFROM:+0200
TZOFFSETTO:+0100
TZNAME:Europe/Paris CET
END:STANDARD
BEGIN:STANDARD
DTSTART:20261025T020000
RDATE:20270328T030000
TZOFFSETFROM:+0200
TZOFFSETTO:+0100
TZNAME:Europe/Paris CET
END:STANDARD
BEGIN:DAYLIGHT
DTSTART:20190331T030000
RDATE:20191027T020000
TZOFFSETFROM:+0100
TZOFFSETTO:+0200
TZNAME:Europe/Paris CEST
END:DAYLIGHT
BEGIN:DAYLIGHT
DTSTART:20200329T030000
RDATE:20201025T020000
TZOFFSETFROM:+0100
TZOFFSETTO:+0200
TZNAME:Europe/Paris CEST
END:DAYLIGHT
BEGIN:DAYLIGHT
DTSTART:20210328T030000
RDATE:20211031T020000
TZOFFSETFROM:+0100
TZOFFSETTO:+0200
TZNAME:Europe/Paris CEST
END:DAYLIGHT
BEGIN:DAYLIGHT
DTSTART:20220327T030000
RDATE:20221030T020000
TZOFFSETFROM:+0100
TZOFFSETTO:+0200
TZNAME:Europe/Paris CEST
END:DAYLIGHT
BEGIN:DAYLIGHT
DTSTART:20230326T030000
RDATE:20231029T020000
TZOFFSETFROM:+0100
TZOFFSETTO:+0200
TZNAME:Europe/Paris CEST
END:DAYLIGHT
BEGIN:DAYLIGHT
DTSTART:20240331T030000
RDATE:20241027T020000
TZOFFSETFROM:+0100
TZOFFSETTO:+0200
TZNAME:Europe/Paris CEST
END:DAYLIGHT
BEGIN:DAYLIGHT
DTSTART:20250330T030000
RDATE:20251026T020000
TZOFFSETFROM:+0100
TZOFFSETTO:+0200
TZNAME:Europe/Paris CEST
END:DAYLIGHT
BEGIN:DAYLIGHT
DTSTART:20260329T030000
RDATE:20261025T020000
TZOFFSETFROM:+0100
TZOFFSETTO:+0200
TZNAME:Europe/Paris CEST
END:DAYLIGHT
END:VTIMEZONE
BEGIN:VEVENT
UID:d069ee7443048df714be165652c0620f
CATEGORIES:Compétition Saut
CREATED:20200219T171406
SUMMARY:Jeux du Saut
URL;VALUE=URI:https://skivosges.net/agenda/a-venir/detailevenement/1486/-/jeux-du-saut?tm
 pl=component
DESCRIPTION:Jeux du Saut\n - Codex évenement TMVT0070\n - Station : XONRUPT\n - Organis
 ateur : 14102 SKI CLUB XONRUPTPériode d'inscription à l'evènement du samedi
  08 février 2020 à 00:00 au jeudi 13 février 2020 à 12:00 (Inscriptions imp
 ossibles).Inscriptions ouvertes aux detenteurs des titres Fédéraux valides 
 suivants : Licenciés Compétiteurs et Titres Loisirs et DirigeantsEpreuves :
 \n - Le samedi 15 février 2020\n - Codex épreuve TMVF0071\n - Saut Special\
 n - Catégorie(s) : U7 a U13 (Filles)\n - Le samedi 15 février 2020\n - Code
 x épreuve TMVM0071\n - Saut Special\n - Catégorie(s) : U7 a U13 (Garçons)\n
  - Voir les informations dans l'agenda... (/index.php?option=com_jevents&am
 p;task=icalevent.detail&amp;evid=1481&amp;Itemid=6289) Cet évènement a été 
 importé depuis :https://skivosges.net/agenda/a-venir/detailevenement/1486/-
 /jeux-du-saut?tmpl=component
X-ALT-DESC;FMTTYPE=text/html:<!-- #gskiepreuve code généré par le plugin jevents pour GskiEpreuves. Ne p
 as modifier cette ligne, ni tout le contenu suivant  #gskiepreuve --><div c
 lass="gski-evenement_infos"><div class="gski-evenement-nom">Jeux du Saut</d
 iv><div class="gski-evenement-report"></div><ul class="gski-evenement-liste
 -infos"><li>Codex évenement TMVT0070</li><li>Station : XONRUPT</li><li>Orga
 nisateur : 14102 SKI CLUB XONRUPT</li></ul><div class="gski-evenement-infos
 -2"><div class="gski-evenement-info-inscriptions"><div class="gski-evenemen
 t-inscriptions-periodes">Période d'inscription à l'evènement du samedi 08 f
 évrier 2020 à 00:00 au jeudi 13 février 2020 à 12:00 <span class="gski-even
 ement-inscriptions-impossibles">(Inscriptions impossibles).</span><div clas
 s="gski-evenement-inscriptions-types-titres">Inscriptions ouvertes aux dete
 nteurs des titres Fédéraux valides suivants : Licenciés Compétiteurs et Tit
 res Loisirs et Dirigeants</div></div></div><div class="gski-evenement-epreu
 ves"><div class="gski-evenement-epreuves-titres">Epreuves :</div><ul class=
 "gski-evenement-epreuves-list"><li><div class="gski-epreuve-date">Le samedi
  15 février 2020</div><ul class="gski-epreuve-liste-infos"><li>Codex épreuv
 e TMVF0071</li><li>Saut Special</li><li>Catégorie(s) : U7 a U13 (Filles)</l
 i></ul></li><li><div class="gski-epreuve-date">Le samedi 15 février 2020</d
 iv><ul class="gski-epreuve-liste-infos"><li>Codex épreuve TMVM0071</li><li>
 Saut Special</li><li>Catégorie(s) : U7 a U13 (Garçons)</li></ul></li></ul><
 /div><div class="gskiepreuves-links"><ul><li><a href="https://skivosges.net
 /index.php?option=com_jevents&task=icalevent.detail&evid=1481&Itemid=6289">
 Voir les informations dans l'agenda...</a></li></ul></div></div"><!-- #/gsk
 iepreuve fin du dode généré par le plugin jevents pour GskiEpreuves. . Ne p
 as modifier cette ligne, ni tout le contenu précedant.  #/gskiepreuve --> <
 a href="https://skivosges.net/agenda/a-venir/detailevenement/1486/-/jeux-du
 -saut?tmpl=component">Cet évènement a été importé depuis :https://skivosges
 .net/agenda/a-venir/detailevenement/1486/-/jeux-du-saut?tmpl=component</a>DTSTAMP:20260423T174043
DTSTART;TZID=Europe/Paris;VALUE=DATE:20200215
DTEND;TZID=Europe/Paris;VALUE=DATE:20200216
SEQUENCE:0
TRANSP:OPAQUE
END:VEVENT
END:VCALENDAR