BEGIN:VCALENDAR
VERSION:2.0
PRODID:-//jEvents 2.0 for Joomla//EN
CALSCALE:GREGORIAN
METHOD:PUBLISH
BEGIN:VTIMEZONE
TZID:Europe/Paris
BEGIN:STANDARD
DTSTART:20110316T120000
RDATE:20110327T030000
TZOFFSETFROM:+0200
TZOFFSETTO:+0100
TZNAME:Europe/Paris CET
END:STANDARD
BEGIN:STANDARD
DTSTART:20111030T020000
RDATE:20120325T030000
TZOFFSETFROM:+0200
TZOFFSETTO:+0100
TZNAME:Europe/Paris CET
END:STANDARD
BEGIN:STANDARD
DTSTART:20121028T020000
RDATE:20130331T030000
TZOFFSETFROM:+0200
TZOFFSETTO:+0100
TZNAME:Europe/Paris CET
END:STANDARD
BEGIN:STANDARD
DTSTART:20131027T020000
RDATE:20140330T030000
TZOFFSETFROM:+0200
TZOFFSETTO:+0100
TZNAME:Europe/Paris CET
END:STANDARD
BEGIN:STANDARD
DTSTART:20141026T020000
RDATE:20150329T030000
TZOFFSETFROM:+0200
TZOFFSETTO:+0100
TZNAME:Europe/Paris CET
END:STANDARD
BEGIN:STANDARD
DTSTART:20151025T020000
RDATE:20160327T030000
TZOFFSETFROM:+0200
TZOFFSETTO:+0100
TZNAME:Europe/Paris CET
END:STANDARD
BEGIN:STANDARD
DTSTART:20161030T020000
RDATE:20170326T030000
TZOFFSETFROM:+0200
TZOFFSETTO:+0100
TZNAME:Europe/Paris CET
END:STANDARD
BEGIN:STANDARD
DTSTART:20171029T020000
RDATE:20180325T030000
TZOFFSETFROM:+0200
TZOFFSETTO:+0100
TZNAME:Europe/Paris CET
END:STANDARD
BEGIN:STANDARD
DTSTART:20181028T020000
RDATE:20190331T030000
TZOFFSETFROM:+0200
TZOFFSETTO:+0100
TZNAME:Europe/Paris CET
END:STANDARD
BEGIN:STANDARD
DTSTART:20191027T020000
RDATE:20200329T030000
TZOFFSETFROM:+0200
TZOFFSETTO:+0100
TZNAME:Europe/Paris CET
END:STANDARD
BEGIN:STANDARD
DTSTART:20201025T020000
RDATE:20210328T030000
TZOFFSETFROM:+0200
TZOFFSETTO:+0100
TZNAME:Europe/Paris CET
END:STANDARD
BEGIN:STANDARD
DTSTART:20211031T020000
RDATE:20220327T030000
TZOFFSETFROM:+0200
TZOFFSETTO:+0100
TZNAME:Europe/Paris CET
END:STANDARD
BEGIN:STANDARD
DTSTART:20221030T020000
RDATE:20230326T030000
TZOFFSETFROM:+0200
TZOFFSETTO:+0100
TZNAME:Europe/Paris CET
END:STANDARD
BEGIN:STANDARD
DTSTART:20231029T020000
RDATE:20240331T030000
TZOFFSETFROM:+0200
TZOFFSETTO:+0100
TZNAME:Europe/Paris CET
END:STANDARD
BEGIN:STANDARD
DTSTART:20241027T020000
RDATE:20250330T030000
TZOFFSETFROM:+0200
TZOFFSETTO:+0100
TZNAME:Europe/Paris CET
END:STANDARD
BEGIN:STANDARD
DTSTART:20251026T020000
RDATE:20260329T030000
TZOFFSETFROM:+0200
TZOFFSETTO:+0100
TZNAME:Europe/Paris CET
END:STANDARD
BEGIN:STANDARD
DTSTART:20261025T020000
RDATE:20270328T030000
TZOFFSETFROM:+0200
TZOFFSETTO:+0100
TZNAME:Europe/Paris CET
END:STANDARD
BEGIN:DAYLIGHT
DTSTART:20110327T030000
RDATE:20111030T020000
TZOFFSETFROM:+0100
TZOFFSETTO:+0200
TZNAME:Europe/Paris CEST
END:DAYLIGHT
BEGIN:DAYLIGHT
DTSTART:20120325T030000
RDATE:20121028T020000
TZOFFSETFROM:+0100
TZOFFSETTO:+0200
TZNAME:Europe/Paris CEST
END:DAYLIGHT
BEGIN:DAYLIGHT
DTSTART:20130331T030000
RDATE:20131027T020000
TZOFFSETFROM:+0100
TZOFFSETTO:+0200
TZNAME:Europe/Paris CEST
END:DAYLIGHT
BEGIN:DAYLIGHT
DTSTART:20140330T030000
RDATE:20141026T020000
TZOFFSETFROM:+0100
TZOFFSETTO:+0200
TZNAME:Europe/Paris CEST
END:DAYLIGHT
BEGIN:DAYLIGHT
DTSTART:20150329T030000
RDATE:20151025T020000
TZOFFSETFROM:+0100
TZOFFSETTO:+0200
TZNAME:Europe/Paris CEST
END:DAYLIGHT
BEGIN:DAYLIGHT
DTSTART:20160327T030000
RDATE:20161030T020000
TZOFFSETFROM:+0100
TZOFFSETTO:+0200
TZNAME:Europe/Paris CEST
END:DAYLIGHT
BEGIN:DAYLIGHT
DTSTART:20170326T030000
RDATE:20171029T020000
TZOFFSETFROM:+0100
TZOFFSETTO:+0200
TZNAME:Europe/Paris CEST
END:DAYLIGHT
BEGIN:DAYLIGHT
DTSTART:20180325T030000
RDATE:20181028T020000
TZOFFSETFROM:+0100
TZOFFSETTO:+0200
TZNAME:Europe/Paris CEST
END:DAYLIGHT
BEGIN:DAYLIGHT
DTSTART:20190331T030000
RDATE:20191027T020000
TZOFFSETFROM:+0100
TZOFFSETTO:+0200
TZNAME:Europe/Paris CEST
END:DAYLIGHT
BEGIN:DAYLIGHT
DTSTART:20200329T030000
RDATE:20201025T020000
TZOFFSETFROM:+0100
TZOFFSETTO:+0200
TZNAME:Europe/Paris CEST
END:DAYLIGHT
BEGIN:DAYLIGHT
DTSTART:20210328T030000
RDATE:20211031T020000
TZOFFSETFROM:+0100
TZOFFSETTO:+0200
TZNAME:Europe/Paris CEST
END:DAYLIGHT
BEGIN:DAYLIGHT
DTSTART:20220327T030000
RDATE:20221030T020000
TZOFFSETFROM:+0100
TZOFFSETTO:+0200
TZNAME:Europe/Paris CEST
END:DAYLIGHT
BEGIN:DAYLIGHT
DTSTART:20230326T030000
RDATE:20231029T020000
TZOFFSETFROM:+0100
TZOFFSETTO:+0200
TZNAME:Europe/Paris CEST
END:DAYLIGHT
BEGIN:DAYLIGHT
DTSTART:20240331T030000
RDATE:20241027T020000
TZOFFSETFROM:+0100
TZOFFSETTO:+0200
TZNAME:Europe/Paris CEST
END:DAYLIGHT
BEGIN:DAYLIGHT
DTSTART:20250330T030000
RDATE:20251026T020000
TZOFFSETFROM:+0100
TZOFFSETTO:+0200
TZNAME:Europe/Paris CEST
END:DAYLIGHT
BEGIN:DAYLIGHT
DTSTART:20260329T030000
RDATE:20261025T020000
TZOFFSETFROM:+0100
TZOFFSETTO:+0200
TZNAME:Europe/Paris CEST
END:DAYLIGHT
END:VTIMEZONE
BEGIN:VEVENT
UID:0f30e716c5167e684aa748824c9552c6
CATEGORIES:Ski Loisir - Sorties CRMVS
CREATED:20120206T160201
SUMMARY:Coupe du Monde de Ski Alpin à SCHLADMING (Autriche)
URL;VALUE=URI:https://skivosges.net/agenda/a-venir/detailevenement/15/-/coupe-du-monde-de
 -ski-alpin-a-schladming-autriche?tmpl=component
DESCRIPTION: La Commission Régionale Ski Loisirs/ Développement a décidé d'organiser av
 ec l'A.D.T un déplacement à l'occasion de la Coupe du Monde de Ski Alpin à 
 SCHLADMING (Autriche).\nCe déplacement sera réservé prioritairement aux lic
 enciés.\n Vous troverez toutes les informations dans le document : Programm
 e et informations sur la sortie... (documents/2012/secretariat/Manifestatio
 ns_Sorties/120316-18_schladming/120316_programme.pdf)\n Pré-Inscription obl
 igatoire en complétant le formulaire ci-dessous.\nAprès validation vous rec
 evrez un courriel avec un lien de validation sur lequel il faudra impérativ
 ement cliquer pour reserver votre place.\nIl faudra ensuite retourner au si
 ège du CRMVS avant le 017/02/2012 imperativement :\n\n - Le formulaire d'in
 scription rempli... (documents/2012/secretariat/Manifestations_Sorties/1203
 16-18_schladming/120316_fiche_individuelle.pdf)\n - L'engagement / décharge
  rempli et signé... (documents/2012/secretariat/Manifestations_Sorties/1203
 16-18_schladming/120316_engagement_parents_decharge.pdf)\n - La Fiche sanit
 aire de liaison dûment remplie... (documents/2012/secretariat/Manifestation
 s_Sorties/fiche_sanitaire.pdf)\n - Photocopie de la carte d'identité (orign
 al à avoir sur soi lors de déplacement)\n - Photocopie de l'autorisation de
  sortie du territoire (original à presenter lors du déplacement)\n - Chèque
  de 160euros à l'ordre du CRMVS Cet évènement a été importé depuis :https:/
 /skivosges.net/agenda/a-venir/detailevenement/15/-/coupe-du-monde-de-ski-al
 pin-a-schladming-autriche?tmpl=component
X-ALT-DESC;FMTTYPE=text/html:<p> La Commission Régionale Ski Loisirs/ Développement a décidé d'organiser
  avec l'A.D.T un déplacement à l'occasion de la Coupe du Monde de Ski Alpin
  à SCHLADMING (Autriche).</p><p>Ce déplacement sera réservé <b>prioritairem
 ent</b> aux licenciés.</p><p><span><span> </span></span>Vous troverez toute
 s les informations dans le document : <a class="jcepopup" href="https://ski
 vosges.net/documents/2012/secretariat/Manifestations_Sorties/120316-18_schl
 adming/120316_programme.pdf" target="_blank">Programme et informations sur 
 la sortie...</a></p><p><span><span> </span></span><strong>Pré-Inscription o
 bligatoire en complétant le formulaire ci-dessous</strong>.<br />Après vali
 dation vous recevrez un courriel avec un lien de validation sur lequel il f
 audra impérativement cliquer pour reserver votre place.</p><p>Il faudra ens
 uite retourner au siège du CRMVS <strong>avant le 017/02/2012 imperativemen
 t</strong> :</p><ul><li>Le <a class="jcepopup" href="https://skivosges.net/
 documents/2012/secretariat/Manifestations_Sorties/120316-18_schladming/1203
 16_fiche_individuelle.pdf" target="_blank">formulaire d'inscription rempli.
 ..</a></li><li>L'<a class="jcepopup" href="https://skivosges.net/documents/
 2012/secretariat/Manifestations_Sorties/120316-18_schladming/120316_engagem
 ent_parents_decharge.pdf" target="_blank">engagement / décharge rempli et s
 igné...</a></li><li>La <a class="jcepopup" href="https://skivosges.net/docu
 ments/2012/secretariat/Manifestations_Sorties/fiche_sanitaire.pdf" target="
 _blank">Fiche sanitaire de liaison dûment remplie...</a></li><li>Photocopie
  de la carte d'identité (orignal à avoir sur soi lors de déplacement)</li><
 li>Photocopie de l'autorisation de sortie du territoire (original à present
 er lors du déplacement)</li><li>Chèque de 160euros à l'ordre du CRMVS</li><
 /ul> <a href="https://skivosges.net/agenda/a-venir/detailevenement/15/-/cou
 pe-du-monde-de-ski-alpin-a-schladming-autriche?tmpl=component">Cet évènemen
 t a été importé depuis :https://skivosges.net/agenda/a-venir/detailevenemen
 t/15/-/coupe-du-monde-de-ski-alpin-a-schladming-autriche?tmpl=component</a>DTSTAMP:20260423T222530
DTSTART;TZID=Europe/Paris:20120316T120000
DTEND;TZID=Europe/Paris:20120318T223000
SEQUENCE:0
TRANSP:OPAQUE
END:VEVENT
END:VCALENDAR