BEGIN:VCALENDAR
VERSION:2.0
PRODID:-//jEvents 2.0 for Joomla//EN
CALSCALE:GREGORIAN
METHOD:PUBLISH
BEGIN:VTIMEZONE
TZID:Europe/Paris
BEGIN:STANDARD
DTSTART:20190315T000000
RDATE:20190331T030000
TZOFFSETFROM:+0200
TZOFFSETTO:+0100
TZNAME:Europe/Paris CET
END:STANDARD
BEGIN:STANDARD
DTSTART:20191027T020000
RDATE:20200329T030000
TZOFFSETFROM:+0200
TZOFFSETTO:+0100
TZNAME:Europe/Paris CET
END:STANDARD
BEGIN:STANDARD
DTSTART:20201025T020000
RDATE:20210328T030000
TZOFFSETFROM:+0200
TZOFFSETTO:+0100
TZNAME:Europe/Paris CET
END:STANDARD
BEGIN:STANDARD
DTSTART:20211031T020000
RDATE:20220327T030000
TZOFFSETFROM:+0200
TZOFFSETTO:+0100
TZNAME:Europe/Paris CET
END:STANDARD
BEGIN:STANDARD
DTSTART:20221030T020000
RDATE:20230326T030000
TZOFFSETFROM:+0200
TZOFFSETTO:+0100
TZNAME:Europe/Paris CET
END:STANDARD
BEGIN:STANDARD
DTSTART:20231029T020000
RDATE:20240331T030000
TZOFFSETFROM:+0200
TZOFFSETTO:+0100
TZNAME:Europe/Paris CET
END:STANDARD
BEGIN:STANDARD
DTSTART:20241027T020000
RDATE:20250330T030000
TZOFFSETFROM:+0200
TZOFFSETTO:+0100
TZNAME:Europe/Paris CET
END:STANDARD
BEGIN:STANDARD
DTSTART:20251026T020000
RDATE:20260329T030000
TZOFFSETFROM:+0200
TZOFFSETTO:+0100
TZNAME:Europe/Paris CET
END:STANDARD
BEGIN:STANDARD
DTSTART:20261025T020000
RDATE:20270328T030000
TZOFFSETFROM:+0200
TZOFFSETTO:+0100
TZNAME:Europe/Paris CET
END:STANDARD
BEGIN:DAYLIGHT
DTSTART:20190331T030000
RDATE:20191027T020000
TZOFFSETFROM:+0100
TZOFFSETTO:+0200
TZNAME:Europe/Paris CEST
END:DAYLIGHT
BEGIN:DAYLIGHT
DTSTART:20200329T030000
RDATE:20201025T020000
TZOFFSETFROM:+0100
TZOFFSETTO:+0200
TZNAME:Europe/Paris CEST
END:DAYLIGHT
BEGIN:DAYLIGHT
DTSTART:20210328T030000
RDATE:20211031T020000
TZOFFSETFROM:+0100
TZOFFSETTO:+0200
TZNAME:Europe/Paris CEST
END:DAYLIGHT
BEGIN:DAYLIGHT
DTSTART:20220327T030000
RDATE:20221030T020000
TZOFFSETFROM:+0100
TZOFFSETTO:+0200
TZNAME:Europe/Paris CEST
END:DAYLIGHT
BEGIN:DAYLIGHT
DTSTART:20230326T030000
RDATE:20231029T020000
TZOFFSETFROM:+0100
TZOFFSETTO:+0200
TZNAME:Europe/Paris CEST
END:DAYLIGHT
BEGIN:DAYLIGHT
DTSTART:20240331T030000
RDATE:20241027T020000
TZOFFSETFROM:+0100
TZOFFSETTO:+0200
TZNAME:Europe/Paris CEST
END:DAYLIGHT
BEGIN:DAYLIGHT
DTSTART:20250330T030000
RDATE:20251026T020000
TZOFFSETFROM:+0100
TZOFFSETTO:+0200
TZNAME:Europe/Paris CEST
END:DAYLIGHT
BEGIN:DAYLIGHT
DTSTART:20260329T030000
RDATE:20261025T020000
TZOFFSETFROM:+0100
TZOFFSETTO:+0200
TZNAME:Europe/Paris CEST
END:DAYLIGHT
END:VTIMEZONE
BEGIN:VEVENT
UID:305e0396c1bdfe6fbeeb8ac3ef86c09f
CATEGORIES:Opens et Promos (alpin)
CREATED:20200326T200953
SUMMARY:PROMO U8 - 14
URL;VALUE=URI:https://skivosges.net/agenda/a-venir/detailevenement/1500/-/promo-u8-14?tmp
 l=component
DESCRIPTION:<!-- #gskiepreuve code généré par le plugin jevents pour GskiEpreuves. Ne p
 as modifier cette ligne, ni tout le contenu suivant  #gskiepreuve --><div c
 lass="gski-evenement_infos"><div class="gski-evenement-nom">PROMO U8 - 14</
 div><div class="gski-evenement-report"></div><ul class="gski-evenement-list
 e-infos"><li>Codex évenement AMVT0960</li><li>Station : ROUGE GAZON</li><li
 >Organisateur : 14063 SKIEURS DE ST MAURICE/MOSELLE</li><li>Courriel : <!--
  Cette adresse électronique est protégée contre les robots spammeurs. --><s
 pan class="cloaked_email ep_a26677bb"><span data-ep-b="" data-ep-a="&#100;&
 #97;&#110;&#105;"><span data-ep-a="el&#46;&#109;" data-ep-b="r&#46;f&#114;"
 ><span data-ep-b="5&#64;&#115;f" data-ep-a="o&#114;&#101;l"></span></span><
 /span></span><script>RegularLabs.EmailProtector.unCloak("ep_a26677bb");</sc
 ript></li></ul><div class="gski-evenement-infos-2"><div class="gski-eveneme
 nt-info-inscriptions"><div class="gski-evenement-inscriptions-periodes">Pér
 iode d'inscription à l'evènement du dimanche 08 mars 2020 à 00:00 au vendre
 di 13 mars 2020 à 12:00 <span class="gski-evenement-inscriptions-impossible
 s">(Inscriptions impossibles).</span><div class="gski-evenement-inscription
 s-types-titres">Inscriptions ouvertes aux detenteurs des titres Fédéraux va
 lides suivants : Licenciés Compétiteurs et Titres Loisirs et Dirigeants</di
 v></div></div><div class="gski-evenement-epreuves"><div class="gski-eveneme
 nt-epreuves-titres">Epreuves :</div><ul class="gski-evenement-epreuves-list
 "><li><div class="gski-epreuve-date">Le dimanche 15 mars 2020</div><ul clas
 s="gski-epreuve-liste-infos"><li>Codex épreuve AMVM0961</li><li>Slalom Gean
 t</li><li>Catégorie(s) : U8/U10 (Garçons)</li></ul></li><li><div class="gsk
 i-epreuve-date">Le dimanche 15 mars 2020</div><ul class="gski-epreuve-liste
 -infos"><li>Codex épreuve AMVF0961</li><li>Slalom Geant</li><li>Catégorie(s
 ) : U8/U10 (Filles)</li></ul></li><li><div class="gski-epreuve-date">Le dim
 anche 15 mars 2020</div><ul class="gski-epreuve-liste-infos"><li>Codex épre
 uve AMVM0962</li><li>Slalom Geant</li><li>Catégorie(s) : U12/U14 (Garçons)<
 /li></ul></li><li><div class="gski-epreuve-date">Le dimanche 15 mars 2020</
 div><ul class="gski-epreuve-liste-infos"><li>Codex épreuve AMVF0962</li><li
 >Slalom Geant</li><li>Catégorie(s) : U12/U14 (Filles)</li></ul></li></ul></
 div><div class="gskiepreuves-links"><ul><li><a href="/index.php?option=com_
 jevents&task=icalevent.detail&evid=1495&Itemid=6289">Voir les informations 
 dans l'agenda...</a></li></ul></div></div"><!-- #/gskiepreuve fin du dode g
 énéré par le plugin jevents pour GskiEpreuves. . Ne pas modifier cette lign
 e, ni tout le contenu précedant.  #/gskiepreuve --> <a href="https://skivos
 ges.net/agenda/a-venir/detailevenement/1500/-/promo-u8-14?tmpl=component">C
 et évènement a été importé depuis :https://skivosges.net/agenda/a-venir/det
 ailevenement/1500/-/promo-u8-14?tmpl=component</a>
X-ALT-DESC;FMTTYPE=text/html:<!-- #gskiepreuve code généré par le plugin jevents pour GskiEpreuves. Ne p
 as modifier cette ligne, ni tout le contenu suivant  #gskiepreuve --><div c
 lass="gski-evenement_infos"><div class="gski-evenement-nom">PROMO U8 - 14</
 div><div class="gski-evenement-report"></div><ul class="gski-evenement-list
 e-infos"><li>Codex évenement AMVT0960</li><li>Station : ROUGE GAZON</li><li
 >Organisateur : 14063 SKIEURS DE ST MAURICE/MOSELLE</li><li>Courriel : <!--
  Cette adresse électronique est protégée contre les robots spammeurs. --><s
 pan class="cloaked_email ep_a26677bb"><span data-ep-b="" data-ep-a="&#100;&
 #97;&#110;&#105;"><span data-ep-a="el&#46;&#109;" data-ep-b="r&#46;f&#114;"
 ><span data-ep-b="5&#64;&#115;f" data-ep-a="o&#114;&#101;l"></span></span><
 /span></span><script>RegularLabs.EmailProtector.unCloak("ep_a26677bb");</sc
 ript></li></ul><div class="gski-evenement-infos-2"><div class="gski-eveneme
 nt-info-inscriptions"><div class="gski-evenement-inscriptions-periodes">Pér
 iode d'inscription à l'evènement du dimanche 08 mars 2020 à 00:00 au vendre
 di 13 mars 2020 à 12:00 <span class="gski-evenement-inscriptions-impossible
 s">(Inscriptions impossibles).</span><div class="gski-evenement-inscription
 s-types-titres">Inscriptions ouvertes aux detenteurs des titres Fédéraux va
 lides suivants : Licenciés Compétiteurs et Titres Loisirs et Dirigeants</di
 v></div></div><div class="gski-evenement-epreuves"><div class="gski-eveneme
 nt-epreuves-titres">Epreuves :</div><ul class="gski-evenement-epreuves-list
 "><li><div class="gski-epreuve-date">Le dimanche 15 mars 2020</div><ul clas
 s="gski-epreuve-liste-infos"><li>Codex épreuve AMVM0961</li><li>Slalom Gean
 t</li><li>Catégorie(s) : U8/U10 (Garçons)</li></ul></li><li><div class="gsk
 i-epreuve-date">Le dimanche 15 mars 2020</div><ul class="gski-epreuve-liste
 -infos"><li>Codex épreuve AMVF0961</li><li>Slalom Geant</li><li>Catégorie(s
 ) : U8/U10 (Filles)</li></ul></li><li><div class="gski-epreuve-date">Le dim
 anche 15 mars 2020</div><ul class="gski-epreuve-liste-infos"><li>Codex épre
 uve AMVM0962</li><li>Slalom Geant</li><li>Catégorie(s) : U12/U14 (Garçons)<
 /li></ul></li><li><div class="gski-epreuve-date">Le dimanche 15 mars 2020</
 div><ul class="gski-epreuve-liste-infos"><li>Codex épreuve AMVF0962</li><li
 >Slalom Geant</li><li>Catégorie(s) : U12/U14 (Filles)</li></ul></li></ul></
 div><div class="gskiepreuves-links"><ul><li><a href="https://skivosges.net/
 index.php?option=com_jevents&task=icalevent.detail&evid=1495&Itemid=6289">V
 oir les informations dans l'agenda...</a></li></ul></div></div"><!-- #/gski
 epreuve fin du dode généré par le plugin jevents pour GskiEpreuves. . Ne pa
 s modifier cette ligne, ni tout le contenu précedant.  #/gskiepreuve --> <a
  href="https://skivosges.net/agenda/a-venir/detailevenement/1500/-/promo-u8
 -14?tmpl=component">Cet évènement a été importé depuis :https://skivosges.n
 et/agenda/a-venir/detailevenement/1500/-/promo-u8-14?tmpl=component</a>DTSTAMP:20260421T051501
DTSTART;TZID=Europe/Paris;VALUE=DATE:20200315
DTEND;TZID=Europe/Paris;VALUE=DATE:20200316
SEQUENCE:0
TRANSP:OPAQUE
END:VEVENT
END:VCALENDAR