BEGIN:VCALENDAR
VERSION:2.0
PRODID:-//jEvents 2.0 for Joomla//EN
CALSCALE:GREGORIAN
METHOD:PUBLISH
BEGIN:VTIMEZONE
TZID:Europe/Paris
BEGIN:STANDARD
DTSTART:20190315T000000
RDATE:20190331T030000
TZOFFSETFROM:+0200
TZOFFSETTO:+0100
TZNAME:Europe/Paris CET
END:STANDARD
BEGIN:STANDARD
DTSTART:20191027T020000
RDATE:20200329T030000
TZOFFSETFROM:+0200
TZOFFSETTO:+0100
TZNAME:Europe/Paris CET
END:STANDARD
BEGIN:STANDARD
DTSTART:20201025T020000
RDATE:20210328T030000
TZOFFSETFROM:+0200
TZOFFSETTO:+0100
TZNAME:Europe/Paris CET
END:STANDARD
BEGIN:STANDARD
DTSTART:20211031T020000
RDATE:20220327T030000
TZOFFSETFROM:+0200
TZOFFSETTO:+0100
TZNAME:Europe/Paris CET
END:STANDARD
BEGIN:STANDARD
DTSTART:20221030T020000
RDATE:20230326T030000
TZOFFSETFROM:+0200
TZOFFSETTO:+0100
TZNAME:Europe/Paris CET
END:STANDARD
BEGIN:STANDARD
DTSTART:20231029T020000
RDATE:20240331T030000
TZOFFSETFROM:+0200
TZOFFSETTO:+0100
TZNAME:Europe/Paris CET
END:STANDARD
BEGIN:STANDARD
DTSTART:20241027T020000
RDATE:20250330T030000
TZOFFSETFROM:+0200
TZOFFSETTO:+0100
TZNAME:Europe/Paris CET
END:STANDARD
BEGIN:STANDARD
DTSTART:20251026T020000
RDATE:20260329T030000
TZOFFSETFROM:+0200
TZOFFSETTO:+0100
TZNAME:Europe/Paris CET
END:STANDARD
BEGIN:STANDARD
DTSTART:20261025T020000
RDATE:20270328T030000
TZOFFSETFROM:+0200
TZOFFSETTO:+0100
TZNAME:Europe/Paris CET
END:STANDARD
BEGIN:DAYLIGHT
DTSTART:20190331T030000
RDATE:20191027T020000
TZOFFSETFROM:+0100
TZOFFSETTO:+0200
TZNAME:Europe/Paris CEST
END:DAYLIGHT
BEGIN:DAYLIGHT
DTSTART:20200329T030000
RDATE:20201025T020000
TZOFFSETFROM:+0100
TZOFFSETTO:+0200
TZNAME:Europe/Paris CEST
END:DAYLIGHT
BEGIN:DAYLIGHT
DTSTART:20210328T030000
RDATE:20211031T020000
TZOFFSETFROM:+0100
TZOFFSETTO:+0200
TZNAME:Europe/Paris CEST
END:DAYLIGHT
BEGIN:DAYLIGHT
DTSTART:20220327T030000
RDATE:20221030T020000
TZOFFSETFROM:+0100
TZOFFSETTO:+0200
TZNAME:Europe/Paris CEST
END:DAYLIGHT
BEGIN:DAYLIGHT
DTSTART:20230326T030000
RDATE:20231029T020000
TZOFFSETFROM:+0100
TZOFFSETTO:+0200
TZNAME:Europe/Paris CEST
END:DAYLIGHT
BEGIN:DAYLIGHT
DTSTART:20240331T030000
RDATE:20241027T020000
TZOFFSETFROM:+0100
TZOFFSETTO:+0200
TZNAME:Europe/Paris CEST
END:DAYLIGHT
BEGIN:DAYLIGHT
DTSTART:20250330T030000
RDATE:20251026T020000
TZOFFSETFROM:+0100
TZOFFSETTO:+0200
TZNAME:Europe/Paris CEST
END:DAYLIGHT
BEGIN:DAYLIGHT
DTSTART:20260329T030000
RDATE:20261025T020000
TZOFFSETFROM:+0100
TZOFFSETTO:+0200
TZNAME:Europe/Paris CEST
END:DAYLIGHT
END:VTIMEZONE
BEGIN:VEVENT
UID:947b6954867cf6b5bd9ff472aacd0262
CATEGORIES:Circuit Lorraine Jeunes (alpin)
CREATED:20200326T200953
SUMMARY:CJL Coupe de Bronze
URL;VALUE=URI:https://skivosges.net/agenda/a-venir/detailevenement/1501/-/cjl-coupe-de-br
 onze?tmpl=component
DESCRIPTION:<!-- #gskiepreuve code généré par le plugin jevents pour GskiEpreuves. Ne p
 as modifier cette ligne, ni tout le contenu suivant  #gskiepreuve --><div c
 lass="gski-evenement_infos"><div class="gski-evenement-nom">CJL Coupe de Br
 onze</div><div class="gski-evenement-report"></div><ul class="gski-evenemen
 t-liste-infos"><li>Codex évenement AMVT0970</li><li>Station : ROUGE GAZON</
 li><li>Organisateur : 14063 SKIEURS DE ST MAURICE/MOSELLE</li><li>Courriel 
 : <!-- Cette adresse électronique est protégée contre les robots spammeurs.
  --><span class="cloaked_email ep_5860766f"><span data-ep-a="&#100;a&#110;&
 #105;" data-ep-b=""><span data-ep-a="el.&#109;" data-ep-b="&#114;&#46;&#102
 ;r"><span data-ep-a="&#111;&#114;&#101;&#108;" data-ep-b="&#53;&#64;s&#102;
 "></span></span></span></span><script>RegularLabs.EmailProtector.unCloak("e
 p_5860766f");</script></li></ul><div class="gski-evenement-infos-2"><div cl
 ass="gski-evenement-info-inscriptions"><div class="gski-evenement-inscripti
 ons-periodes">Période d'inscription à l'evènement du dimanche 08 mars 2020 
 à 00:00 au vendredi 13 mars 2020 à 12:00 <span class="gski-evenement-inscri
 ptions-impossibles">(Inscriptions impossibles).</span><div class="gski-even
 ement-inscriptions-types-titres">Inscriptions ouvertes aux detenteurs des t
 itres Fédéraux valides suivants : Licenciés Compétiteurs</div></div></div><
 div class="gski-evenement-epreuves"><div class="gski-evenement-epreuves-tit
 res">Epreuves :</div><ul class="gski-evenement-epreuves-list"><li><div clas
 s="gski-epreuve-date">Le dimanche 15 mars 2020</div><ul class="gski-epreuve
 -liste-infos"><li>Codex épreuve AMVM0971</li><li>Slalom Geant</li><li>Catég
 orie(s) : U8/U10 (Garçons)</li></ul></li><li><div class="gski-epreuve-date"
 >Le dimanche 15 mars 2020</div><ul class="gski-epreuve-liste-infos"><li>Cod
 ex épreuve AMVF0971</li><li>Slalom Geant</li><li>Catégorie(s) : U8/U10 (Fil
 les)</li></ul></li><li><div class="gski-epreuve-date">Le dimanche 15 mars 2
 020</div><ul class="gski-epreuve-liste-infos"><li>Codex épreuve AMVM0972</l
 i><li>Slalom Geant</li><li>Catégorie(s) : U12/U14 (Garçons)</li></ul></li><
 li><div class="gski-epreuve-date">Le dimanche 15 mars 2020</div><ul class="
 gski-epreuve-liste-infos"><li>Codex épreuve AMVF0972</li><li>Slalom Geant</
 li><li>Catégorie(s) : U12/U14 (Filles)</li></ul></li></ul></div><div class=
 "gskiepreuves-links"><ul><li><a href="/index.php?option=com_jevents&task=ic
 alevent.detail&evid=1496&Itemid=6289">Voir les informations dans l'agenda..
 .</a></li></ul></div></div"><!-- #/gskiepreuve fin du dode généré par le pl
 ugin jevents pour GskiEpreuves. . Ne pas modifier cette ligne, ni tout le c
 ontenu précedant.  #/gskiepreuve --> <a href="https://skivosges.net/agenda/
 a-venir/detailevenement/1501/-/cjl-coupe-de-bronze?tmpl=component">Cet évèn
 ement a été importé depuis :https://skivosges.net/agenda/a-venir/detaileven
 ement/1501/-/cjl-coupe-de-bronze?tmpl=component</a>
X-ALT-DESC;FMTTYPE=text/html:<!-- #gskiepreuve code généré par le plugin jevents pour GskiEpreuves. Ne p
 as modifier cette ligne, ni tout le contenu suivant  #gskiepreuve --><div c
 lass="gski-evenement_infos"><div class="gski-evenement-nom">CJL Coupe de Br
 onze</div><div class="gski-evenement-report"></div><ul class="gski-evenemen
 t-liste-infos"><li>Codex évenement AMVT0970</li><li>Station : ROUGE GAZON</
 li><li>Organisateur : 14063 SKIEURS DE ST MAURICE/MOSELLE</li><li>Courriel 
 : <!-- Cette adresse électronique est protégée contre les robots spammeurs.
  --><span class="cloaked_email ep_5860766f"><span data-ep-a="&#100;a&#110;&
 #105;" data-ep-b=""><span data-ep-a="el.&#109;" data-ep-b="&#114;&#46;&#102
 ;r"><span data-ep-a="&#111;&#114;&#101;&#108;" data-ep-b="&#53;&#64;s&#102;
 "></span></span></span></span><script>RegularLabs.EmailProtector.unCloak("e
 p_5860766f");</script></li></ul><div class="gski-evenement-infos-2"><div cl
 ass="gski-evenement-info-inscriptions"><div class="gski-evenement-inscripti
 ons-periodes">Période d'inscription à l'evènement du dimanche 08 mars 2020 
 à 00:00 au vendredi 13 mars 2020 à 12:00 <span class="gski-evenement-inscri
 ptions-impossibles">(Inscriptions impossibles).</span><div class="gski-even
 ement-inscriptions-types-titres">Inscriptions ouvertes aux detenteurs des t
 itres Fédéraux valides suivants : Licenciés Compétiteurs</div></div></div><
 div class="gski-evenement-epreuves"><div class="gski-evenement-epreuves-tit
 res">Epreuves :</div><ul class="gski-evenement-epreuves-list"><li><div clas
 s="gski-epreuve-date">Le dimanche 15 mars 2020</div><ul class="gski-epreuve
 -liste-infos"><li>Codex épreuve AMVM0971</li><li>Slalom Geant</li><li>Catég
 orie(s) : U8/U10 (Garçons)</li></ul></li><li><div class="gski-epreuve-date"
 >Le dimanche 15 mars 2020</div><ul class="gski-epreuve-liste-infos"><li>Cod
 ex épreuve AMVF0971</li><li>Slalom Geant</li><li>Catégorie(s) : U8/U10 (Fil
 les)</li></ul></li><li><div class="gski-epreuve-date">Le dimanche 15 mars 2
 020</div><ul class="gski-epreuve-liste-infos"><li>Codex épreuve AMVM0972</l
 i><li>Slalom Geant</li><li>Catégorie(s) : U12/U14 (Garçons)</li></ul></li><
 li><div class="gski-epreuve-date">Le dimanche 15 mars 2020</div><ul class="
 gski-epreuve-liste-infos"><li>Codex épreuve AMVF0972</li><li>Slalom Geant</
 li><li>Catégorie(s) : U12/U14 (Filles)</li></ul></li></ul></div><div class=
 "gskiepreuves-links"><ul><li><a href="https://skivosges.net/index.php?optio
 n=com_jevents&task=icalevent.detail&evid=1496&Itemid=6289">Voir les informa
 tions dans l'agenda...</a></li></ul></div></div"><!-- #/gskiepreuve fin du 
 dode généré par le plugin jevents pour GskiEpreuves. . Ne pas modifier cett
 e ligne, ni tout le contenu précedant.  #/gskiepreuve --> <a href="https://
 skivosges.net/agenda/a-venir/detailevenement/1501/-/cjl-coupe-de-bronze?tmp
 l=component">Cet évènement a été importé depuis :https://skivosges.net/agen
 da/a-venir/detailevenement/1501/-/cjl-coupe-de-bronze?tmpl=component</a>DTSTAMP:20260421T051501
DTSTART;TZID=Europe/Paris;VALUE=DATE:20200315
DTEND;TZID=Europe/Paris;VALUE=DATE:20200316
SEQUENCE:0
TRANSP:OPAQUE
END:VEVENT
END:VCALENDAR