BEGIN:VCALENDAR
VERSION:2.0
PRODID:-//jEvents 2.0 for Joomla//EN
CALSCALE:GREGORIAN
METHOD:PUBLISH
BEGIN:VTIMEZONE
TZID:Europe/Paris
BEGIN:STANDARD
DTSTART:20191027T020000
RDATE:20200329T030000
TZOFFSETFROM:+0200
TZOFFSETTO:+0100
TZNAME:Europe/Paris CET
END:STANDARD
BEGIN:STANDARD
DTSTART:20201025T020000
RDATE:20210328T030000
TZOFFSETFROM:+0200
TZOFFSETTO:+0100
TZNAME:Europe/Paris CET
END:STANDARD
BEGIN:STANDARD
DTSTART:20211031T020000
RDATE:20220327T030000
TZOFFSETFROM:+0200
TZOFFSETTO:+0100
TZNAME:Europe/Paris CET
END:STANDARD
BEGIN:STANDARD
DTSTART:20221030T020000
RDATE:20230326T030000
TZOFFSETFROM:+0200
TZOFFSETTO:+0100
TZNAME:Europe/Paris CET
END:STANDARD
BEGIN:STANDARD
DTSTART:20231029T020000
RDATE:20240331T030000
TZOFFSETFROM:+0200
TZOFFSETTO:+0100
TZNAME:Europe/Paris CET
END:STANDARD
BEGIN:STANDARD
DTSTART:20241027T020000
RDATE:20250330T030000
TZOFFSETFROM:+0200
TZOFFSETTO:+0100
TZNAME:Europe/Paris CET
END:STANDARD
BEGIN:STANDARD
DTSTART:20251026T020000
RDATE:20260329T030000
TZOFFSETFROM:+0200
TZOFFSETTO:+0100
TZNAME:Europe/Paris CET
END:STANDARD
BEGIN:STANDARD
DTSTART:20261025T020000
RDATE:20270328T030000
TZOFFSETFROM:+0200
TZOFFSETTO:+0100
TZNAME:Europe/Paris CET
END:STANDARD
BEGIN:DAYLIGHT
DTSTART:20190912T000000
RDATE:20191027T020000
TZOFFSETFROM:+0100
TZOFFSETTO:+0200
TZNAME:Europe/Paris CEST
END:DAYLIGHT
BEGIN:DAYLIGHT
DTSTART:20200329T030000
RDATE:20201025T020000
TZOFFSETFROM:+0100
TZOFFSETTO:+0200
TZNAME:Europe/Paris CEST
END:DAYLIGHT
BEGIN:DAYLIGHT
DTSTART:20210328T030000
RDATE:20211031T020000
TZOFFSETFROM:+0100
TZOFFSETTO:+0200
TZNAME:Europe/Paris CEST
END:DAYLIGHT
BEGIN:DAYLIGHT
DTSTART:20220327T030000
RDATE:20221030T020000
TZOFFSETFROM:+0100
TZOFFSETTO:+0200
TZNAME:Europe/Paris CEST
END:DAYLIGHT
BEGIN:DAYLIGHT
DTSTART:20230326T030000
RDATE:20231029T020000
TZOFFSETFROM:+0100
TZOFFSETTO:+0200
TZNAME:Europe/Paris CEST
END:DAYLIGHT
BEGIN:DAYLIGHT
DTSTART:20240331T030000
RDATE:20241027T020000
TZOFFSETFROM:+0100
TZOFFSETTO:+0200
TZNAME:Europe/Paris CEST
END:DAYLIGHT
BEGIN:DAYLIGHT
DTSTART:20250330T030000
RDATE:20251026T020000
TZOFFSETFROM:+0100
TZOFFSETTO:+0200
TZNAME:Europe/Paris CEST
END:DAYLIGHT
BEGIN:DAYLIGHT
DTSTART:20260329T030000
RDATE:20261025T020000
TZOFFSETFROM:+0100
TZOFFSETTO:+0200
TZNAME:Europe/Paris CEST
END:DAYLIGHT
END:VTIMEZONE
BEGIN:VEVENT
UID:d3aca5c16b4c12cc0ed66f81678a8a16
CATEGORIES:Combiné Nordique
CREATED:20200829T093354
SUMMARY:Combiné Nordique Ventron
URL;VALUE=URI:https://skivosges.net/agenda/a-venir/detailevenement/1508/-/combine-nordiqu
 e-ventron?tmpl=component
DESCRIPTION:Combiné Nordique Ventron\n - Codex évenement CMVT0030\n - Lieu : tremplin M
 aurice Mailly  Ventron\n - Organisateur : 14083 U.S VENTRON\n - Courriel : 
 RegularLabs.EmailProtector.unCloak("ep_024daddd");Période d'inscription à l
 'evènement du samedi 05 septembre 2020 à 00:00 au jeudi 10 septembre 2020 à
  12:00 (Inscriptions impossibles).Inscriptions ouvertes aux detenteurs des 
 titres Fédéraux valides suivants : Licenciés CompétiteursEpreuves :\n - Le 
 samedi 12 septembre 2020\n - Codex épreuve CMVM0031\n - Saut du Combine Nor
 dique\n - Catégorie(s) : U7 a U15 (Garçons)\n - Le samedi 12 septembre 2020
 \n - Codex épreuve CMVF0031\n - Saut du Combine Nordique\n - Catégorie(s) :
  U7 a U15 (Filles)\n - Voir les informations dans l'agenda... (/index.php?o
 ption=com_jevents&amp;task=icalevent.detail&amp;evid=1503&amp;Itemid=6289) 
 Cet évènement a été importé depuis :https://skivosges.net/agenda/a-venir/de
 tailevenement/1508/-/combine-nordique-ventron?tmpl=component
X-ALT-DESC;FMTTYPE=text/html:<!-- #gskiepreuve code généré par le plugin jevents pour GskiEpreuves. Ne p
 as modifier cette ligne, ni tout le contenu suivant  #gskiepreuve --><div c
 lass="gski-evenement_infos"><div class="gski-evenement-nom">Combiné Nordiqu
 e Ventron</div><div class="gski-evenement-report"></div><ul class="gski-eve
 nement-liste-infos"><li>Codex évenement CMVT0030</li><li>Lieu : tremplin Ma
 urice Mailly  Ventron</li><li>Organisateur : 14083 U.S VENTRON</li><li>Cour
 riel : <!-- Cette adresse électronique est protégée contre les robots spamm
 eurs. --><span class="cloaked_email ep_024daddd"><span data-ep-a="&#99;&#10
 4;ris" data-ep-b="&#99;&#111;&#109;"><span data-ep-b="m&#97;&#105;&#108;&#4
 6;" data-ep-a="&#116;&#105;&#110;&#101;&#46;"><span data-ep-a="&#103;&#101;
 &#114;&#97;&#114;" data-ep-b="&#100;&#56;&#56;&#64;&#103;"></span></span></
 span></span><script>RegularLabs.EmailProtector.unCloak("ep_024daddd");</scr
 ipt></li></ul><div class="gski-evenement-infos-2"><div class="gski-evenemen
 t-info-inscriptions"><div class="gski-evenement-inscriptions-periodes">Péri
 ode d'inscription à l'evènement du samedi 05 septembre 2020 à 00:00 au jeud
 i 10 septembre 2020 à 12:00 <span class="gski-evenement-inscriptions-imposs
 ibles">(Inscriptions impossibles).</span><div class="gski-evenement-inscrip
 tions-types-titres">Inscriptions ouvertes aux detenteurs des titres Fédérau
 x valides suivants : Licenciés Compétiteurs</div></div></div><div class="gs
 ki-evenement-epreuves"><div class="gski-evenement-epreuves-titres">Epreuves
  :</div><ul class="gski-evenement-epreuves-list"><li><div class="gski-epreu
 ve-date">Le samedi 12 septembre 2020</div><ul class="gski-epreuve-liste-inf
 os"><li>Codex épreuve CMVM0031</li><li>Saut du Combine Nordique</li><li>Cat
 égorie(s) : U7 a U15 (Garçons)</li></ul></li><li><div class="gski-epreuve-d
 ate">Le samedi 12 septembre 2020</div><ul class="gski-epreuve-liste-infos">
 <li>Codex épreuve CMVF0031</li><li>Saut du Combine Nordique</li><li>Catégor
 ie(s) : U7 a U15 (Filles)</li></ul></li></ul></div><div class="gskiepreuves
 -links"><ul><li><a href="https://skivosges.net/index.php?option=com_jevents
 &task=icalevent.detail&evid=1503&Itemid=6289">Voir les informations dans l'
 agenda...</a></li></ul></div></div"><!-- #/gskiepreuve fin du dode généré p
 ar le plugin jevents pour GskiEpreuves. . Ne pas modifier cette ligne, ni t
 out le contenu précedant.  #/gskiepreuve --> <a href="https://skivosges.net
 /agenda/a-venir/detailevenement/1508/-/combine-nordique-ventron?tmpl=compon
 ent">Cet évènement a été importé depuis :https://skivosges.net/agenda/a-ven
 ir/detailevenement/1508/-/combine-nordique-ventron?tmpl=component</a>DTSTAMP:20260423T175139
DTSTART;TZID=Europe/Paris;VALUE=DATE:20200912
DTEND;TZID=Europe/Paris;VALUE=DATE:20200913
SEQUENCE:0
TRANSP:OPAQUE
END:VEVENT
END:VCALENDAR