BEGIN:VCALENDAR
VERSION:2.0
PRODID:-//jEvents 2.0 for Joomla//EN
CALSCALE:GREGORIAN
METHOD:PUBLISH
BEGIN:VTIMEZONE
TZID:Europe/Paris
BEGIN:STANDARD
DTSTART:20130222T080000
RDATE:20130331T030000
TZOFFSETFROM:+0200
TZOFFSETTO:+0100
TZNAME:Europe/Paris CET
END:STANDARD
BEGIN:STANDARD
DTSTART:20131027T020000
RDATE:20140330T030000
TZOFFSETFROM:+0200
TZOFFSETTO:+0100
TZNAME:Europe/Paris CET
END:STANDARD
BEGIN:STANDARD
DTSTART:20141026T020000
RDATE:20150329T030000
TZOFFSETFROM:+0200
TZOFFSETTO:+0100
TZNAME:Europe/Paris CET
END:STANDARD
BEGIN:STANDARD
DTSTART:20151025T020000
RDATE:20160327T030000
TZOFFSETFROM:+0200
TZOFFSETTO:+0100
TZNAME:Europe/Paris CET
END:STANDARD
BEGIN:STANDARD
DTSTART:20161030T020000
RDATE:20170326T030000
TZOFFSETFROM:+0200
TZOFFSETTO:+0100
TZNAME:Europe/Paris CET
END:STANDARD
BEGIN:STANDARD
DTSTART:20171029T020000
RDATE:20180325T030000
TZOFFSETFROM:+0200
TZOFFSETTO:+0100
TZNAME:Europe/Paris CET
END:STANDARD
BEGIN:STANDARD
DTSTART:20181028T020000
RDATE:20190331T030000
TZOFFSETFROM:+0200
TZOFFSETTO:+0100
TZNAME:Europe/Paris CET
END:STANDARD
BEGIN:STANDARD
DTSTART:20191027T020000
RDATE:20200329T030000
TZOFFSETFROM:+0200
TZOFFSETTO:+0100
TZNAME:Europe/Paris CET
END:STANDARD
BEGIN:STANDARD
DTSTART:20201025T020000
RDATE:20210328T030000
TZOFFSETFROM:+0200
TZOFFSETTO:+0100
TZNAME:Europe/Paris CET
END:STANDARD
BEGIN:STANDARD
DTSTART:20211031T020000
RDATE:20220327T030000
TZOFFSETFROM:+0200
TZOFFSETTO:+0100
TZNAME:Europe/Paris CET
END:STANDARD
BEGIN:STANDARD
DTSTART:20221030T020000
RDATE:20230326T030000
TZOFFSETFROM:+0200
TZOFFSETTO:+0100
TZNAME:Europe/Paris CET
END:STANDARD
BEGIN:STANDARD
DTSTART:20231029T020000
RDATE:20240331T030000
TZOFFSETFROM:+0200
TZOFFSETTO:+0100
TZNAME:Europe/Paris CET
END:STANDARD
BEGIN:STANDARD
DTSTART:20241027T020000
RDATE:20250330T030000
TZOFFSETFROM:+0200
TZOFFSETTO:+0100
TZNAME:Europe/Paris CET
END:STANDARD
BEGIN:STANDARD
DTSTART:20251026T020000
RDATE:20260329T030000
TZOFFSETFROM:+0200
TZOFFSETTO:+0100
TZNAME:Europe/Paris CET
END:STANDARD
BEGIN:STANDARD
DTSTART:20261025T020000
RDATE:20270328T030000
TZOFFSETFROM:+0200
TZOFFSETTO:+0100
TZNAME:Europe/Paris CET
END:STANDARD
BEGIN:DAYLIGHT
DTSTART:20130331T030000
RDATE:20131027T020000
TZOFFSETFROM:+0100
TZOFFSETTO:+0200
TZNAME:Europe/Paris CEST
END:DAYLIGHT
BEGIN:DAYLIGHT
DTSTART:20140330T030000
RDATE:20141026T020000
TZOFFSETFROM:+0100
TZOFFSETTO:+0200
TZNAME:Europe/Paris CEST
END:DAYLIGHT
BEGIN:DAYLIGHT
DTSTART:20150329T030000
RDATE:20151025T020000
TZOFFSETFROM:+0100
TZOFFSETTO:+0200
TZNAME:Europe/Paris CEST
END:DAYLIGHT
BEGIN:DAYLIGHT
DTSTART:20160327T030000
RDATE:20161030T020000
TZOFFSETFROM:+0100
TZOFFSETTO:+0200
TZNAME:Europe/Paris CEST
END:DAYLIGHT
BEGIN:DAYLIGHT
DTSTART:20170326T030000
RDATE:20171029T020000
TZOFFSETFROM:+0100
TZOFFSETTO:+0200
TZNAME:Europe/Paris CEST
END:DAYLIGHT
BEGIN:DAYLIGHT
DTSTART:20180325T030000
RDATE:20181028T020000
TZOFFSETFROM:+0100
TZOFFSETTO:+0200
TZNAME:Europe/Paris CEST
END:DAYLIGHT
BEGIN:DAYLIGHT
DTSTART:20190331T030000
RDATE:20191027T020000
TZOFFSETFROM:+0100
TZOFFSETTO:+0200
TZNAME:Europe/Paris CEST
END:DAYLIGHT
BEGIN:DAYLIGHT
DTSTART:20200329T030000
RDATE:20201025T020000
TZOFFSETFROM:+0100
TZOFFSETTO:+0200
TZNAME:Europe/Paris CEST
END:DAYLIGHT
BEGIN:DAYLIGHT
DTSTART:20210328T030000
RDATE:20211031T020000
TZOFFSETFROM:+0100
TZOFFSETTO:+0200
TZNAME:Europe/Paris CEST
END:DAYLIGHT
BEGIN:DAYLIGHT
DTSTART:20220327T030000
RDATE:20221030T020000
TZOFFSETFROM:+0100
TZOFFSETTO:+0200
TZNAME:Europe/Paris CEST
END:DAYLIGHT
BEGIN:DAYLIGHT
DTSTART:20230326T030000
RDATE:20231029T020000
TZOFFSETFROM:+0100
TZOFFSETTO:+0200
TZNAME:Europe/Paris CEST
END:DAYLIGHT
BEGIN:DAYLIGHT
DTSTART:20240331T030000
RDATE:20241027T020000
TZOFFSETFROM:+0100
TZOFFSETTO:+0200
TZNAME:Europe/Paris CEST
END:DAYLIGHT
BEGIN:DAYLIGHT
DTSTART:20250330T030000
RDATE:20251026T020000
TZOFFSETFROM:+0100
TZOFFSETTO:+0200
TZNAME:Europe/Paris CEST
END:DAYLIGHT
BEGIN:DAYLIGHT
DTSTART:20260329T030000
RDATE:20261025T020000
TZOFFSETFROM:+0100
TZOFFSETTO:+0200
TZNAME:Europe/Paris CEST
END:DAYLIGHT
END:VTIMEZONE
BEGIN:VEVENT
UID:6fb3ebdd417467ccac8c74c30a8c8853
CATEGORIES:Circuit Alsace Adultes (alpin)
CREATED:20131203T122100
SUMMARY:CAA        Prix du Stade Serge Lang **REPORTE**
URL;VALUE=URI:https://skivosges.net/agenda/a-venir/detailevenement/151/-/caa-prix-du-stad
 e-serge-lang-reporte?tmpl=component
DESCRIPTION:CAA        Prix du Stade Serge Lang (Epreuve reportée, date à determiner) \
 n(Coupe d'Alsace Adultes)\n\nLieu : MARKSTEIN \nOrganisateur : S.C VALLEE D
 E WESSERLING  (14186 S.C VALLEE DE WESSERLING)\nEmail : RegularLabs.EmailPr
 otector.unCloak("ep_2ba4f731");\n - AMVF0611  Slalom (Courses FFS) U16-&gt;
 Mas (Min à Mast/Vet) Dames\n  CAA        Prix du Stade Serge Lang\n - AMVM0
 611  Slalom (Courses FFS) U16-&gt;Mas (Min à Mast/Vet) Hommes\n  CAA       
  Prix du Stade Serge Lang Cet évènement a été importé depuis :https://skivo
 sges.net/agenda/a-venir/detailevenement/151/-/caa-prix-du-stade-serge-lang-
 reporte?tmpl=component
X-ALT-DESC;FMTTYPE=text/html:<strong>CAA        Prix du Stade Serge Lang</strong> <font class="attention
 4">(Epreuve reportée, date à determiner)</font> <br /><i>(Coupe d'Alsace Ad
 ultes)</i><br /><br />Lieu : MARKSTEIN <br />Organisateur : S.C VALLEE DE W
 ESSERLING  <small>(14186 S.C VALLEE DE WESSERLING)</small><br />Email : <!-
 - Cette adresse électronique est protégée contre les robots spammeurs. --><
 span class="cloaked_email ep_2ba4f731"><span data-ep-b="m" data-ep-a="s&#99
 ;&#118;&#119;"><span data-ep-b="&#108;.c&#111;" data-ep-a="e&#115;s&#101;">
 <span data-ep-a="r&#108;&#105;&#110;" data-ep-b="&#103;&#64;&#97;&#111;"></
 span></span></span></span><script>RegularLabs.EmailProtector.unCloak("ep_2b
 a4f731");</script><ul type="disc"><li>AMVF0611  Slalom <nobr><i>(Courses FF
 S)</i></nobr> <nobr>U16->Mas (Min à Mast/Vet)</nobr> Dames<br />&nbsp;&nbsp
 ;CAA        Prix du Stade Serge Lang</li><li>AMVM0611  Slalom <nobr><i>(Cou
 rses FFS)</i></nobr> <nobr>U16->Mas (Min à Mast/Vet)</nobr> Hommes<br />&nb
 sp;&nbsp;CAA        Prix du Stade Serge Lang</li></ul> <a href="https://ski
 vosges.net/agenda/a-venir/detailevenement/151/-/caa-prix-du-stade-serge-lan
 g-reporte?tmpl=component">Cet évènement a été importé depuis :https://skivo
 sges.net/agenda/a-venir/detailevenement/151/-/caa-prix-du-stade-serge-lang-
 reporte?tmpl=component</a>DTSTAMP:20260424T012416
DTSTART;TZID=Europe/Paris:20140223T080000
DTEND;TZID=Europe/Paris:20140223T170000
SEQUENCE:0
TRANSP:OPAQUE
END:VEVENT
END:VCALENDAR