BEGIN:VCALENDAR
VERSION:2.0
PRODID:-//jEvents 2.0 for Joomla//EN
CALSCALE:GREGORIAN
METHOD:PUBLISH
BEGIN:VTIMEZONE
TZID:Europe/Paris
BEGIN:STANDARD
DTSTART:20191027T020000
RDATE:20200329T030000
TZOFFSETFROM:+0200
TZOFFSETTO:+0100
TZNAME:Europe/Paris CET
END:STANDARD
BEGIN:STANDARD
DTSTART:20201025T020000
RDATE:20210328T030000
TZOFFSETFROM:+0200
TZOFFSETTO:+0100
TZNAME:Europe/Paris CET
END:STANDARD
BEGIN:STANDARD
DTSTART:20211031T020000
RDATE:20220327T030000
TZOFFSETFROM:+0200
TZOFFSETTO:+0100
TZNAME:Europe/Paris CET
END:STANDARD
BEGIN:STANDARD
DTSTART:20221030T020000
RDATE:20230326T030000
TZOFFSETFROM:+0200
TZOFFSETTO:+0100
TZNAME:Europe/Paris CET
END:STANDARD
BEGIN:STANDARD
DTSTART:20231029T020000
RDATE:20240331T030000
TZOFFSETFROM:+0200
TZOFFSETTO:+0100
TZNAME:Europe/Paris CET
END:STANDARD
BEGIN:STANDARD
DTSTART:20241027T020000
RDATE:20250330T030000
TZOFFSETFROM:+0200
TZOFFSETTO:+0100
TZNAME:Europe/Paris CET
END:STANDARD
BEGIN:STANDARD
DTSTART:20251026T020000
RDATE:20260329T030000
TZOFFSETFROM:+0200
TZOFFSETTO:+0100
TZNAME:Europe/Paris CET
END:STANDARD
BEGIN:STANDARD
DTSTART:20261025T020000
RDATE:20270328T030000
TZOFFSETFROM:+0200
TZOFFSETTO:+0100
TZNAME:Europe/Paris CET
END:STANDARD
BEGIN:DAYLIGHT
DTSTART:20191010T000000
RDATE:20191027T020000
TZOFFSETFROM:+0100
TZOFFSETTO:+0200
TZNAME:Europe/Paris CEST
END:DAYLIGHT
BEGIN:DAYLIGHT
DTSTART:20200329T030000
RDATE:20201025T020000
TZOFFSETFROM:+0100
TZOFFSETTO:+0200
TZNAME:Europe/Paris CEST
END:DAYLIGHT
BEGIN:DAYLIGHT
DTSTART:20210328T030000
RDATE:20211031T020000
TZOFFSETFROM:+0100
TZOFFSETTO:+0200
TZNAME:Europe/Paris CEST
END:DAYLIGHT
BEGIN:DAYLIGHT
DTSTART:20220327T030000
RDATE:20221030T020000
TZOFFSETFROM:+0100
TZOFFSETTO:+0200
TZNAME:Europe/Paris CEST
END:DAYLIGHT
BEGIN:DAYLIGHT
DTSTART:20230326T030000
RDATE:20231029T020000
TZOFFSETFROM:+0100
TZOFFSETTO:+0200
TZNAME:Europe/Paris CEST
END:DAYLIGHT
BEGIN:DAYLIGHT
DTSTART:20240331T030000
RDATE:20241027T020000
TZOFFSETFROM:+0100
TZOFFSETTO:+0200
TZNAME:Europe/Paris CEST
END:DAYLIGHT
BEGIN:DAYLIGHT
DTSTART:20250330T030000
RDATE:20251026T020000
TZOFFSETFROM:+0100
TZOFFSETTO:+0200
TZNAME:Europe/Paris CEST
END:DAYLIGHT
BEGIN:DAYLIGHT
DTSTART:20260329T030000
RDATE:20261025T020000
TZOFFSETFROM:+0100
TZOFFSETTO:+0200
TZNAME:Europe/Paris CEST
END:DAYLIGHT
END:VTIMEZONE
BEGIN:VEVENT
UID:0a7943ec62f8321deb4cd19870706510
CATEGORIES:Compétition Saut
CREATED:20200829T093354
SUMMARY:CHAMPIONNAT DE FRANCE
URL;VALUE=URI:https://skivosges.net/agenda/a-venir/detailevenement/1510/-/championnat-de-
 france?tmpl=component
DESCRIPTION:CHAMPIONNAT DE FRANCE\n - Codex évenement TNAT0170\n - Station : GERARDMER\
 n - Organisateur : 14469 A.S GERARDMER SKI NORDIQUEPériode d'inscription à 
 l'evènement du samedi 03 octobre 2020 à 00:00 au jeudi 08 octobre 2020 à 12
 :00 (Inscriptions impossibles).Inscriptions ouvertes aux detenteurs des tit
 res Fédéraux valides suivants : Licenciés CompétiteursEpreuves :\n - Le sam
 edi 10 octobre 2020\n - Codex épreuve TNAM0171\n - Saut Special\n - Catégor
 ie(s) : Toutes les Categories (Garçons)\n - Le samedi 10 octobre 2020\n - C
 odex épreuve TNAF0171\n - Saut Special\n - Catégorie(s) : Toutes les Catego
 ries (Filles)\n - Le samedi 10 octobre 2020\n - Codex épreuve TNAM0172\n - 
 Saut Par Equipe\n - Catégorie(s) : Toutes les Categories (Garçons)\n - Voir
  les informations dans l'agenda... (/index.php?option=com_jevents&amp;task=
 icalevent.detail&amp;evid=1505&amp;Itemid=6289) Cet évènement a été importé
  depuis :https://skivosges.net/agenda/a-venir/detailevenement/1510/-/champi
 onnat-de-france?tmpl=component
X-ALT-DESC;FMTTYPE=text/html:<!-- #gskiepreuve code généré par le plugin jevents pour GskiEpreuves. Ne p
 as modifier cette ligne, ni tout le contenu suivant  #gskiepreuve --><div c
 lass="gski-evenement_infos"><div class="gski-evenement-nom">CHAMPIONNAT DE 
 FRANCE</div><div class="gski-evenement-report"></div><ul class="gski-evenem
 ent-liste-infos"><li>Codex évenement TNAT0170</li><li>Station : GERARDMER</
 li><li>Organisateur : 14469 A.S GERARDMER SKI NORDIQUE</li></ul><div class=
 "gski-evenement-infos-2"><div class="gski-evenement-info-inscriptions"><div
  class="gski-evenement-inscriptions-periodes">Période d'inscription à l'evè
 nement du samedi 03 octobre 2020 à 00:00 au jeudi 08 octobre 2020 à 12:00 <
 span class="gski-evenement-inscriptions-impossibles">(Inscriptions impossib
 les).</span><div class="gski-evenement-inscriptions-types-titres">Inscripti
 ons ouvertes aux detenteurs des titres Fédéraux valides suivants : Licencié
 s Compétiteurs</div></div></div><div class="gski-evenement-epreuves"><div c
 lass="gski-evenement-epreuves-titres">Epreuves :</div><ul class="gski-evene
 ment-epreuves-list"><li><div class="gski-epreuve-date">Le samedi 10 octobre
  2020</div><ul class="gski-epreuve-liste-infos"><li>Codex épreuve TNAM0171<
 /li><li>Saut Special</li><li>Catégorie(s) : Toutes les Categories (Garçons)
 </li></ul></li><li><div class="gski-epreuve-date">Le samedi 10 octobre 2020
 </div><ul class="gski-epreuve-liste-infos"><li>Codex épreuve TNAF0171</li><
 li>Saut Special</li><li>Catégorie(s) : Toutes les Categories (Filles)</li><
 /ul></li><li><div class="gski-epreuve-date">Le samedi 10 octobre 2020</div>
 <ul class="gski-epreuve-liste-infos"><li>Codex épreuve TNAM0172</li><li>Sau
 t Par Equipe</li><li>Catégorie(s) : Toutes les Categories (Garçons)</li></u
 l></li></ul></div><div class="gskiepreuves-links"><ul><li><a href="https://
 skivosges.net/index.php?option=com_jevents&task=icalevent.detail&evid=1505&
 Itemid=6289">Voir les informations dans l'agenda...</a></li></ul></div></di
 v"><!-- #/gskiepreuve fin du dode généré par le plugin jevents pour GskiEpr
 euves. . Ne pas modifier cette ligne, ni tout le contenu précedant.  #/gski
 epreuve --> <a href="https://skivosges.net/agenda/a-venir/detailevenement/1
 510/-/championnat-de-france?tmpl=component">Cet évènement a été importé dep
 uis :https://skivosges.net/agenda/a-venir/detailevenement/1510/-/championna
 t-de-france?tmpl=component</a>DTSTAMP:20260423T144636
DTSTART;TZID=Europe/Paris;VALUE=DATE:20201010
DTEND;TZID=Europe/Paris;VALUE=DATE:20201012
SEQUENCE:0
TRANSP:OPAQUE
END:VEVENT
END:VCALENDAR