BEGIN:VCALENDAR
VERSION:2.0
PRODID:-//jEvents 2.0 for Joomla//EN
CALSCALE:GREGORIAN
METHOD:PUBLISH
BEGIN:VTIMEZONE
TZID:Europe/Paris
BEGIN:STANDARD
DTSTART:20130222T080000
RDATE:20130331T030000
TZOFFSETFROM:+0200
TZOFFSETTO:+0100
TZNAME:Europe/Paris CET
END:STANDARD
BEGIN:STANDARD
DTSTART:20131027T020000
RDATE:20140330T030000
TZOFFSETFROM:+0200
TZOFFSETTO:+0100
TZNAME:Europe/Paris CET
END:STANDARD
BEGIN:STANDARD
DTSTART:20141026T020000
RDATE:20150329T030000
TZOFFSETFROM:+0200
TZOFFSETTO:+0100
TZNAME:Europe/Paris CET
END:STANDARD
BEGIN:STANDARD
DTSTART:20151025T020000
RDATE:20160327T030000
TZOFFSETFROM:+0200
TZOFFSETTO:+0100
TZNAME:Europe/Paris CET
END:STANDARD
BEGIN:STANDARD
DTSTART:20161030T020000
RDATE:20170326T030000
TZOFFSETFROM:+0200
TZOFFSETTO:+0100
TZNAME:Europe/Paris CET
END:STANDARD
BEGIN:STANDARD
DTSTART:20171029T020000
RDATE:20180325T030000
TZOFFSETFROM:+0200
TZOFFSETTO:+0100
TZNAME:Europe/Paris CET
END:STANDARD
BEGIN:STANDARD
DTSTART:20181028T020000
RDATE:20190331T030000
TZOFFSETFROM:+0200
TZOFFSETTO:+0100
TZNAME:Europe/Paris CET
END:STANDARD
BEGIN:STANDARD
DTSTART:20191027T020000
RDATE:20200329T030000
TZOFFSETFROM:+0200
TZOFFSETTO:+0100
TZNAME:Europe/Paris CET
END:STANDARD
BEGIN:STANDARD
DTSTART:20201025T020000
RDATE:20210328T030000
TZOFFSETFROM:+0200
TZOFFSETTO:+0100
TZNAME:Europe/Paris CET
END:STANDARD
BEGIN:STANDARD
DTSTART:20211031T020000
RDATE:20220327T030000
TZOFFSETFROM:+0200
TZOFFSETTO:+0100
TZNAME:Europe/Paris CET
END:STANDARD
BEGIN:STANDARD
DTSTART:20221030T020000
RDATE:20230326T030000
TZOFFSETFROM:+0200
TZOFFSETTO:+0100
TZNAME:Europe/Paris CET
END:STANDARD
BEGIN:STANDARD
DTSTART:20231029T020000
RDATE:20240331T030000
TZOFFSETFROM:+0200
TZOFFSETTO:+0100
TZNAME:Europe/Paris CET
END:STANDARD
BEGIN:STANDARD
DTSTART:20241027T020000
RDATE:20250330T030000
TZOFFSETFROM:+0200
TZOFFSETTO:+0100
TZNAME:Europe/Paris CET
END:STANDARD
BEGIN:STANDARD
DTSTART:20251026T020000
RDATE:20260329T030000
TZOFFSETFROM:+0200
TZOFFSETTO:+0100
TZNAME:Europe/Paris CET
END:STANDARD
BEGIN:STANDARD
DTSTART:20261025T020000
RDATE:20270328T030000
TZOFFSETFROM:+0200
TZOFFSETTO:+0100
TZNAME:Europe/Paris CET
END:STANDARD
BEGIN:DAYLIGHT
DTSTART:20130331T030000
RDATE:20131027T020000
TZOFFSETFROM:+0100
TZOFFSETTO:+0200
TZNAME:Europe/Paris CEST
END:DAYLIGHT
BEGIN:DAYLIGHT
DTSTART:20140330T030000
RDATE:20141026T020000
TZOFFSETFROM:+0100
TZOFFSETTO:+0200
TZNAME:Europe/Paris CEST
END:DAYLIGHT
BEGIN:DAYLIGHT
DTSTART:20150329T030000
RDATE:20151025T020000
TZOFFSETFROM:+0100
TZOFFSETTO:+0200
TZNAME:Europe/Paris CEST
END:DAYLIGHT
BEGIN:DAYLIGHT
DTSTART:20160327T030000
RDATE:20161030T020000
TZOFFSETFROM:+0100
TZOFFSETTO:+0200
TZNAME:Europe/Paris CEST
END:DAYLIGHT
BEGIN:DAYLIGHT
DTSTART:20170326T030000
RDATE:20171029T020000
TZOFFSETFROM:+0100
TZOFFSETTO:+0200
TZNAME:Europe/Paris CEST
END:DAYLIGHT
BEGIN:DAYLIGHT
DTSTART:20180325T030000
RDATE:20181028T020000
TZOFFSETFROM:+0100
TZOFFSETTO:+0200
TZNAME:Europe/Paris CEST
END:DAYLIGHT
BEGIN:DAYLIGHT
DTSTART:20190331T030000
RDATE:20191027T020000
TZOFFSETFROM:+0100
TZOFFSETTO:+0200
TZNAME:Europe/Paris CEST
END:DAYLIGHT
BEGIN:DAYLIGHT
DTSTART:20200329T030000
RDATE:20201025T020000
TZOFFSETFROM:+0100
TZOFFSETTO:+0200
TZNAME:Europe/Paris CEST
END:DAYLIGHT
BEGIN:DAYLIGHT
DTSTART:20210328T030000
RDATE:20211031T020000
TZOFFSETFROM:+0100
TZOFFSETTO:+0200
TZNAME:Europe/Paris CEST
END:DAYLIGHT
BEGIN:DAYLIGHT
DTSTART:20220327T030000
RDATE:20221030T020000
TZOFFSETFROM:+0100
TZOFFSETTO:+0200
TZNAME:Europe/Paris CEST
END:DAYLIGHT
BEGIN:DAYLIGHT
DTSTART:20230326T030000
RDATE:20231029T020000
TZOFFSETFROM:+0100
TZOFFSETTO:+0200
TZNAME:Europe/Paris CEST
END:DAYLIGHT
BEGIN:DAYLIGHT
DTSTART:20240331T030000
RDATE:20241027T020000
TZOFFSETFROM:+0100
TZOFFSETTO:+0200
TZNAME:Europe/Paris CEST
END:DAYLIGHT
BEGIN:DAYLIGHT
DTSTART:20250330T030000
RDATE:20251026T020000
TZOFFSETFROM:+0100
TZOFFSETTO:+0200
TZNAME:Europe/Paris CEST
END:DAYLIGHT
BEGIN:DAYLIGHT
DTSTART:20260329T030000
RDATE:20261025T020000
TZOFFSETFROM:+0100
TZOFFSETTO:+0200
TZNAME:Europe/Paris CEST
END:DAYLIGHT
END:VTIMEZONE
BEGIN:VEVENT
UID:f21d379e4ec7332c3c0140fe013ab65d
CATEGORIES:Circuit Alsace Jeunes (alpin)
CREATED:20131203T122100
SUMMARY:CAJ U10 à U14 Prix Serge Lang/Haribo Kids Snow Cup/Cpe de Bronze
URL;VALUE=URI:https://skivosges.net/agenda/a-venir/detailevenement/152/-/caj-u10-a-u14-pr
 ix-serge-lang-haribo-kids-snow-cup-cpe-de-bronze?tmpl=component
DESCRIPTION:CAJ U10 à U14 Prix Serge Lang/Haribo Kids Snow Cup/Cpe de Bronze \n(Coupe d
 'Alsace Jeunes)\n\nLieu : MARKSTEIN \nOrganisateur : S.C VALLEE DE WESSERLI
 NG  (14186 S.C VALLEE DE WESSERLING)\nEmail : RegularLabs.EmailProtector.un
 Cloak("ep_3878a67f");\n\nInscriptions en cours sur ce site\n - AMVF0631  Sl
 alom Geant (Coupe de Bronze) U10 Filles\n  CAJ U10 à U14 Prix Serge Lang/Ha
 ribo Kids Snow Cup/Cpe de Bronze\n - AMVM0631  Slalom Geant (Coupe de Bronz
 e) U10 Garçons\n  CAJ U10 à U14 Prix Serge Lang/Haribo Kids Snow Cup/Cpe de
  Bronze\n - AMVF0632  Slalom Geant (Coupe de Bronze) de 10 a 13ans au 31/12
 /2012 (Pou/Ben) Filles\n  CAJ U10 à U14 Prix Serge Lang/Haribo Kids Snow Cu
 p/Cpe de Bronze\n - AMVM0632  Slalom Geant (Coupe de Bronze) de 10 a 13ans 
 au 31/12/2012 (Pou/Ben) Garçons\n  CAJ U10 à U14 Prix Serge Lang/Haribo Kid
 s Snow Cup/Cpe de Bronze Cet évènement a été importé depuis :https://skivos
 ges.net/agenda/a-venir/detailevenement/152/-/caj-u10-a-u14-prix-serge-lang-
 haribo-kids-snow-cup-cpe-de-bronze?tmpl=component
X-ALT-DESC;FMTTYPE=text/html:<strong>CAJ U10 à U14 Prix Serge Lang/Haribo Kids Snow Cup/Cpe de Bronze</s
 trong> <br /><i>(Coupe d'Alsace Jeunes)</i><br /><br />Lieu : MARKSTEIN <br
  />Organisateur : S.C VALLEE DE WESSERLING  <small>(14186 S.C VALLEE DE WES
 SERLING)</small><br />Email : <!-- Cette adresse électronique est protégée 
 contre les robots spammeurs. --><span class="cloaked_email ep_3878a67f"><sp
 an data-ep-b="&#109;" data-ep-a="&#115;&#99;&#118;w"><span data-ep-a="&#101
 ;s&#115;&#101;" data-ep-b="&#108;.&#99;o"><span data-ep-a="&#114;l&#105;n" 
 data-ep-b="&#103;&#64;a&#111;"></span></span></span></span><script>RegularL
 abs.EmailProtector.unCloak("ep_3878a67f");</script><br /><br />Inscriptions
  en cours sur ce site<ul type="disc"><li>AMVF0631  Slalom Geant <nobr><i>(C
 oupe de Bronze)</i></nobr> <nobr>U10</nobr> Filles<br />&nbsp;&nbsp;CAJ U10
  à U14 Prix Serge Lang/Haribo Kids Snow Cup/Cpe de Bronze</li><li>AMVM0631 
  Slalom Geant <nobr><i>(Coupe de Bronze)</i></nobr> <nobr>U10</nobr> Garçon
 s<br />&nbsp;&nbsp;CAJ U10 à U14 Prix Serge Lang/Haribo Kids Snow Cup/Cpe d
 e Bronze</li><li>AMVF0632  Slalom Geant <nobr><i>(Coupe de Bronze)</i></nob
 r> <nobr>de 10 a 13ans au 31/12/2012 (Pou/Ben)</nobr> Filles<br />&nbsp;&nb
 sp;CAJ U10 à U14 Prix Serge Lang/Haribo Kids Snow Cup/Cpe de Bronze</li><li
 >AMVM0632  Slalom Geant <nobr><i>(Coupe de Bronze)</i></nobr> <nobr>de 10 a
  13ans au 31/12/2012 (Pou/Ben)</nobr> Garçons<br />&nbsp;&nbsp;CAJ U10 à U1
 4 Prix Serge Lang/Haribo Kids Snow Cup/Cpe de Bronze</li></ul> <a href="htt
 ps://skivosges.net/agenda/a-venir/detailevenement/152/-/caj-u10-a-u14-prix-
 serge-lang-haribo-kids-snow-cup-cpe-de-bronze?tmpl=component">Cet évènement
  a été importé depuis :https://skivosges.net/agenda/a-venir/detailevenement
 /152/-/caj-u10-a-u14-prix-serge-lang-haribo-kids-snow-cup-cpe-de-bronze?tmp
 l=component</a>DTSTAMP:20260424T060557
DTSTART;TZID=Europe/Paris:20140223T080000
DTEND;TZID=Europe/Paris:20140223T170000
SEQUENCE:0
TRANSP:OPAQUE
END:VEVENT
END:VCALENDAR