BEGIN:VCALENDAR
VERSION:2.0
PRODID:-//jEvents 2.0 for Joomla//EN
CALSCALE:GREGORIAN
METHOD:PUBLISH
BEGIN:VTIMEZONE
TZID:Europe/Paris
BEGIN:STANDARD
DTSTART:20200110T000000
RDATE:20200329T030000
TZOFFSETFROM:+0200
TZOFFSETTO:+0100
TZNAME:Europe/Paris CET
END:STANDARD
BEGIN:STANDARD
DTSTART:20201025T020000
RDATE:20210328T030000
TZOFFSETFROM:+0200
TZOFFSETTO:+0100
TZNAME:Europe/Paris CET
END:STANDARD
BEGIN:STANDARD
DTSTART:20211031T020000
RDATE:20220327T030000
TZOFFSETFROM:+0200
TZOFFSETTO:+0100
TZNAME:Europe/Paris CET
END:STANDARD
BEGIN:STANDARD
DTSTART:20221030T020000
RDATE:20230326T030000
TZOFFSETFROM:+0200
TZOFFSETTO:+0100
TZNAME:Europe/Paris CET
END:STANDARD
BEGIN:STANDARD
DTSTART:20231029T020000
RDATE:20240331T030000
TZOFFSETFROM:+0200
TZOFFSETTO:+0100
TZNAME:Europe/Paris CET
END:STANDARD
BEGIN:STANDARD
DTSTART:20241027T020000
RDATE:20250330T030000
TZOFFSETFROM:+0200
TZOFFSETTO:+0100
TZNAME:Europe/Paris CET
END:STANDARD
BEGIN:STANDARD
DTSTART:20251026T020000
RDATE:20260329T030000
TZOFFSETFROM:+0200
TZOFFSETTO:+0100
TZNAME:Europe/Paris CET
END:STANDARD
BEGIN:STANDARD
DTSTART:20261025T020000
RDATE:20270328T030000
TZOFFSETFROM:+0200
TZOFFSETTO:+0100
TZNAME:Europe/Paris CET
END:STANDARD
BEGIN:DAYLIGHT
DTSTART:20200329T030000
RDATE:20201025T020000
TZOFFSETFROM:+0100
TZOFFSETTO:+0200
TZNAME:Europe/Paris CEST
END:DAYLIGHT
BEGIN:DAYLIGHT
DTSTART:20210328T030000
RDATE:20211031T020000
TZOFFSETFROM:+0100
TZOFFSETTO:+0200
TZNAME:Europe/Paris CEST
END:DAYLIGHT
BEGIN:DAYLIGHT
DTSTART:20220327T030000
RDATE:20221030T020000
TZOFFSETFROM:+0100
TZOFFSETTO:+0200
TZNAME:Europe/Paris CEST
END:DAYLIGHT
BEGIN:DAYLIGHT
DTSTART:20230326T030000
RDATE:20231029T020000
TZOFFSETFROM:+0100
TZOFFSETTO:+0200
TZNAME:Europe/Paris CEST
END:DAYLIGHT
BEGIN:DAYLIGHT
DTSTART:20240331T030000
RDATE:20241027T020000
TZOFFSETFROM:+0100
TZOFFSETTO:+0200
TZNAME:Europe/Paris CEST
END:DAYLIGHT
BEGIN:DAYLIGHT
DTSTART:20250330T030000
RDATE:20251026T020000
TZOFFSETFROM:+0100
TZOFFSETTO:+0200
TZNAME:Europe/Paris CEST
END:DAYLIGHT
BEGIN:DAYLIGHT
DTSTART:20260329T030000
RDATE:20261025T020000
TZOFFSETFROM:+0100
TZOFFSETTO:+0200
TZNAME:Europe/Paris CEST
END:DAYLIGHT
END:VTIMEZONE
BEGIN:VEVENT
UID:f6a34f54f6c108b4efc858e468f4d62a
CATEGORIES:Circuit Alsace Jeunes (alpin)
CREATED:20201221T154232
SUMMARY:CJA Coupe de Bronze **REPORTE**
URL;VALUE=URI:https://skivosges.net/agenda/a-venir/detailevenement/1553/-/cja-coupe-de-br
 onze-reporte?tmpl=component
DESCRIPTION:<!-- #gskiepreuve code généré par le plugin jevents pour GskiEpreuves. Ne p
 as modifier cette ligne, ni tout le contenu suivant  #gskiepreuve --><div c
 lass="gski-evenement_infos"><div class="gski-evenement-nom">CJA Coupe de Br
 onze</div><div class="gski-evenement-report"> <font class="gskiattention">(
 Epreuve reportée, date à determiner)</font></div><ul class="gski-evenement-
 liste-infos"><li>Codex évenement AMVT0100</li><li>Station : MARKSTEIN</li><
 li>Organisateur : 14356 S.C.O.S.E.G. GUEBWILLER</li><li>Courriel : <!-- Cet
 te adresse électronique est protégée contre les robots spammeurs. --><span 
 class="cloaked_email ep_e505959a"><span data-ep-a="in&#102;" data-ep-b=".&#
 102;&#114;"><span data-ep-a="&#111;&#64;s" data-ep-b="&#115;&#101;&#103;"><
 span data-ep-b="&#115;&#99;&#111;" data-ep-a="&#107;i-"></span></span></spa
 n></span><script>RegularLabs.EmailProtector.unCloak("ep_e505959a");</script
 ></li><li>Téléphone : 03 89 76 09 25</li><li><span class="gski-evenement-ob
 s">Délégué Technique : RUDLOFF CLAUDE</span></li></ul><div class="gski-even
 ement-infos-2"><div class="gski-evenement-info-inscriptions"><div class="gs
 ki-evenement-inscriptions-periodes">Période d'inscription à l'evènement du 
 dimanche 03 janvier 2021 à 00:00 au vendredi 08 janvier 2021 à 12:00 <span 
 class="gski-evenement-inscriptions-impossibles">(Inscriptions impossibles).
 </span><div class="gski-evenement-inscriptions-types-titres">Inscriptions o
 uvertes aux detenteurs des titres Fédéraux valides suivants : Licenciés Com
 pétiteurs</div></div></div><div class="gskiepreuves-links"><ul><li><a href=
 "/index.php?option=com_jevents&task=icalevent.detail&evid=1548&Itemid=6289"
 >Voir les informations dans l'agenda...</a></li></ul></div><div class="gski
 -evenement-epreuves"><div class="gski-evenement-epreuves-titres">Epreuves :
 </div><ul class="gski-evenement-epreuves-list"><li><div class="gski-epreuve
 -date">Le dimanche 10 janvier 2021</div><ul class="gski-epreuve-liste-infos
 "><li>Codex épreuve AMVM0101</li><li>Slalom Geant</li><li>Catégorie(s) : U8
 /U10 (Garçons)</li></ul></li><li><div class="gski-epreuve-date">Le dimanche
  10 janvier 2021</div><ul class="gski-epreuve-liste-infos"><li>Codex épreuv
 e AMVF0101</li><li>Slalom Geant</li><li>Catégorie(s) : U8/U10 (Filles)</li>
 </ul></li><li><div class="gski-epreuve-date">Le dimanche 10 janvier 2021</d
 iv><ul class="gski-epreuve-liste-infos"><li>Codex épreuve AMVM0102</li><li>
 Slalom Geant</li><li>Catégorie(s) : U12/U14 (Garçons)</li></ul></li><li><di
 v class="gski-epreuve-date">Le dimanche 10 janvier 2021</div><ul class="gsk
 i-epreuve-liste-infos"><li>Codex épreuve AMVF0102</li><li>Super G</li><li>C
 atégorie(s) : U12/U14 (Filles)</li></ul></li></ul></div><div class="gskiepr
 euves-links"><ul><li><a href="/index.php?option=com_jevents&task=icalevent.
 detail&evid=1548&Itemid=6289">Voir les informations dans l'agenda...</a></l
 i></ul></div></div"><!-- #/gskiepreuve fin du dode généré par le plugin jev
 ents pour GskiEpreuves. . Ne pas modifier cette ligne, ni tout le contenu p
 récedant.  #/gskiepreuve --> <a href="https://skivosges.net/agenda/a-venir/
 detailevenement/1553/-/cja-coupe-de-bronze-reporte?tmpl=component">Cet évèn
 ement a été importé depuis :https://skivosges.net/agenda/a-venir/detaileven
 ement/1553/-/cja-coupe-de-bronze-reporte?tmpl=component</a>
X-ALT-DESC;FMTTYPE=text/html:<!-- #gskiepreuve code généré par le plugin jevents pour GskiEpreuves. Ne p
 as modifier cette ligne, ni tout le contenu suivant  #gskiepreuve --><div c
 lass="gski-evenement_infos"><div class="gski-evenement-nom">CJA Coupe de Br
 onze</div><div class="gski-evenement-report"> <font class="gskiattention">(
 Epreuve reportée, date à determiner)</font></div><ul class="gski-evenement-
 liste-infos"><li>Codex évenement AMVT0100</li><li>Station : MARKSTEIN</li><
 li>Organisateur : 14356 S.C.O.S.E.G. GUEBWILLER</li><li>Courriel : <!-- Cet
 te adresse électronique est protégée contre les robots spammeurs. --><span 
 class="cloaked_email ep_e505959a"><span data-ep-a="in&#102;" data-ep-b=".&#
 102;&#114;"><span data-ep-a="&#111;&#64;s" data-ep-b="&#115;&#101;&#103;"><
 span data-ep-b="&#115;&#99;&#111;" data-ep-a="&#107;i-"></span></span></spa
 n></span><script>RegularLabs.EmailProtector.unCloak("ep_e505959a");</script
 ></li><li>Téléphone : 03 89 76 09 25</li><li><span class="gski-evenement-ob
 s">Délégué Technique : RUDLOFF CLAUDE</span></li></ul><div class="gski-even
 ement-infos-2"><div class="gski-evenement-info-inscriptions"><div class="gs
 ki-evenement-inscriptions-periodes">Période d'inscription à l'evènement du 
 dimanche 03 janvier 2021 à 00:00 au vendredi 08 janvier 2021 à 12:00 <span 
 class="gski-evenement-inscriptions-impossibles">(Inscriptions impossibles).
 </span><div class="gski-evenement-inscriptions-types-titres">Inscriptions o
 uvertes aux detenteurs des titres Fédéraux valides suivants : Licenciés Com
 pétiteurs</div></div></div><div class="gskiepreuves-links"><ul><li><a href=
 "https://skivosges.net/index.php?option=com_jevents&task=icalevent.detail&e
 vid=1548&Itemid=6289">Voir les informations dans l'agenda...</a></li></ul><
 /div><div class="gski-evenement-epreuves"><div class="gski-evenement-epreuv
 es-titres">Epreuves :</div><ul class="gski-evenement-epreuves-list"><li><di
 v class="gski-epreuve-date">Le dimanche 10 janvier 2021</div><ul class="gsk
 i-epreuve-liste-infos"><li>Codex épreuve AMVM0101</li><li>Slalom Geant</li>
 <li>Catégorie(s) : U8/U10 (Garçons)</li></ul></li><li><div class="gski-epre
 uve-date">Le dimanche 10 janvier 2021</div><ul class="gski-epreuve-liste-in
 fos"><li>Codex épreuve AMVF0101</li><li>Slalom Geant</li><li>Catégorie(s) :
  U8/U10 (Filles)</li></ul></li><li><div class="gski-epreuve-date">Le dimanc
 he 10 janvier 2021</div><ul class="gski-epreuve-liste-infos"><li>Codex épre
 uve AMVM0102</li><li>Slalom Geant</li><li>Catégorie(s) : U12/U14 (Garçons)<
 /li></ul></li><li><div class="gski-epreuve-date">Le dimanche 10 janvier 202
 1</div><ul class="gski-epreuve-liste-infos"><li>Codex épreuve AMVF0102</li>
 <li>Super G</li><li>Catégorie(s) : U12/U14 (Filles)</li></ul></li></ul></di
 v><div class="gskiepreuves-links"><ul><li><a href="https://skivosges.net/in
 dex.php?option=com_jevents&task=icalevent.detail&evid=1548&Itemid=6289">Voi
 r les informations dans l'agenda...</a></li></ul></div></div"><!-- #/gskiep
 reuve fin du dode généré par le plugin jevents pour GskiEpreuves. . Ne pas 
 modifier cette ligne, ni tout le contenu précedant.  #/gskiepreuve --> <a h
 ref="https://skivosges.net/agenda/a-venir/detailevenement/1553/-/cja-coupe-
 de-bronze-reporte?tmpl=component">Cet évènement a été importé depuis :https
 ://skivosges.net/agenda/a-venir/detailevenement/1553/-/cja-coupe-de-bronze-
 reporte?tmpl=component</a>DTSTAMP:20260421T051459
DTSTART;TZID=Europe/Paris;VALUE=DATE:20210110
DTEND;TZID=Europe/Paris;VALUE=DATE:20210111
SEQUENCE:0
TRANSP:OPAQUE
END:VEVENT
END:VCALENDAR