BEGIN:VCALENDAR
VERSION:2.0
PRODID:-//jEvents 2.0 for Joomla//EN
CALSCALE:GREGORIAN
METHOD:PUBLISH
BEGIN:VTIMEZONE
TZID:Europe/Paris
BEGIN:STANDARD
DTSTART:20130228T080000
RDATE:20130331T030000
TZOFFSETFROM:+0200
TZOFFSETTO:+0100
TZNAME:Europe/Paris CET
END:STANDARD
BEGIN:STANDARD
DTSTART:20131027T020000
RDATE:20140330T030000
TZOFFSETFROM:+0200
TZOFFSETTO:+0100
TZNAME:Europe/Paris CET
END:STANDARD
BEGIN:STANDARD
DTSTART:20141026T020000
RDATE:20150329T030000
TZOFFSETFROM:+0200
TZOFFSETTO:+0100
TZNAME:Europe/Paris CET
END:STANDARD
BEGIN:STANDARD
DTSTART:20151025T020000
RDATE:20160327T030000
TZOFFSETFROM:+0200
TZOFFSETTO:+0100
TZNAME:Europe/Paris CET
END:STANDARD
BEGIN:STANDARD
DTSTART:20161030T020000
RDATE:20170326T030000
TZOFFSETFROM:+0200
TZOFFSETTO:+0100
TZNAME:Europe/Paris CET
END:STANDARD
BEGIN:STANDARD
DTSTART:20171029T020000
RDATE:20180325T030000
TZOFFSETFROM:+0200
TZOFFSETTO:+0100
TZNAME:Europe/Paris CET
END:STANDARD
BEGIN:STANDARD
DTSTART:20181028T020000
RDATE:20190331T030000
TZOFFSETFROM:+0200
TZOFFSETTO:+0100
TZNAME:Europe/Paris CET
END:STANDARD
BEGIN:STANDARD
DTSTART:20191027T020000
RDATE:20200329T030000
TZOFFSETFROM:+0200
TZOFFSETTO:+0100
TZNAME:Europe/Paris CET
END:STANDARD
BEGIN:STANDARD
DTSTART:20201025T020000
RDATE:20210328T030000
TZOFFSETFROM:+0200
TZOFFSETTO:+0100
TZNAME:Europe/Paris CET
END:STANDARD
BEGIN:STANDARD
DTSTART:20211031T020000
RDATE:20220327T030000
TZOFFSETFROM:+0200
TZOFFSETTO:+0100
TZNAME:Europe/Paris CET
END:STANDARD
BEGIN:STANDARD
DTSTART:20221030T020000
RDATE:20230326T030000
TZOFFSETFROM:+0200
TZOFFSETTO:+0100
TZNAME:Europe/Paris CET
END:STANDARD
BEGIN:STANDARD
DTSTART:20231029T020000
RDATE:20240331T030000
TZOFFSETFROM:+0200
TZOFFSETTO:+0100
TZNAME:Europe/Paris CET
END:STANDARD
BEGIN:STANDARD
DTSTART:20241027T020000
RDATE:20250330T030000
TZOFFSETFROM:+0200
TZOFFSETTO:+0100
TZNAME:Europe/Paris CET
END:STANDARD
BEGIN:STANDARD
DTSTART:20251026T020000
RDATE:20260329T030000
TZOFFSETFROM:+0200
TZOFFSETTO:+0100
TZNAME:Europe/Paris CET
END:STANDARD
BEGIN:STANDARD
DTSTART:20261025T020000
RDATE:20270328T030000
TZOFFSETFROM:+0200
TZOFFSETTO:+0100
TZNAME:Europe/Paris CET
END:STANDARD
BEGIN:DAYLIGHT
DTSTART:20130331T030000
RDATE:20131027T020000
TZOFFSETFROM:+0100
TZOFFSETTO:+0200
TZNAME:Europe/Paris CEST
END:DAYLIGHT
BEGIN:DAYLIGHT
DTSTART:20140330T030000
RDATE:20141026T020000
TZOFFSETFROM:+0100
TZOFFSETTO:+0200
TZNAME:Europe/Paris CEST
END:DAYLIGHT
BEGIN:DAYLIGHT
DTSTART:20150329T030000
RDATE:20151025T020000
TZOFFSETFROM:+0100
TZOFFSETTO:+0200
TZNAME:Europe/Paris CEST
END:DAYLIGHT
BEGIN:DAYLIGHT
DTSTART:20160327T030000
RDATE:20161030T020000
TZOFFSETFROM:+0100
TZOFFSETTO:+0200
TZNAME:Europe/Paris CEST
END:DAYLIGHT
BEGIN:DAYLIGHT
DTSTART:20170326T030000
RDATE:20171029T020000
TZOFFSETFROM:+0100
TZOFFSETTO:+0200
TZNAME:Europe/Paris CEST
END:DAYLIGHT
BEGIN:DAYLIGHT
DTSTART:20180325T030000
RDATE:20181028T020000
TZOFFSETFROM:+0100
TZOFFSETTO:+0200
TZNAME:Europe/Paris CEST
END:DAYLIGHT
BEGIN:DAYLIGHT
DTSTART:20190331T030000
RDATE:20191027T020000
TZOFFSETFROM:+0100
TZOFFSETTO:+0200
TZNAME:Europe/Paris CEST
END:DAYLIGHT
BEGIN:DAYLIGHT
DTSTART:20200329T030000
RDATE:20201025T020000
TZOFFSETFROM:+0100
TZOFFSETTO:+0200
TZNAME:Europe/Paris CEST
END:DAYLIGHT
BEGIN:DAYLIGHT
DTSTART:20210328T030000
RDATE:20211031T020000
TZOFFSETFROM:+0100
TZOFFSETTO:+0200
TZNAME:Europe/Paris CEST
END:DAYLIGHT
BEGIN:DAYLIGHT
DTSTART:20220327T030000
RDATE:20221030T020000
TZOFFSETFROM:+0100
TZOFFSETTO:+0200
TZNAME:Europe/Paris CEST
END:DAYLIGHT
BEGIN:DAYLIGHT
DTSTART:20230326T030000
RDATE:20231029T020000
TZOFFSETFROM:+0100
TZOFFSETTO:+0200
TZNAME:Europe/Paris CEST
END:DAYLIGHT
BEGIN:DAYLIGHT
DTSTART:20240331T030000
RDATE:20241027T020000
TZOFFSETFROM:+0100
TZOFFSETTO:+0200
TZNAME:Europe/Paris CEST
END:DAYLIGHT
BEGIN:DAYLIGHT
DTSTART:20250330T030000
RDATE:20251026T020000
TZOFFSETFROM:+0100
TZOFFSETTO:+0200
TZNAME:Europe/Paris CEST
END:DAYLIGHT
BEGIN:DAYLIGHT
DTSTART:20260329T030000
RDATE:20261025T020000
TZOFFSETFROM:+0100
TZOFFSETTO:+0200
TZNAME:Europe/Paris CEST
END:DAYLIGHT
END:VTIMEZONE
BEGIN:VEVENT
UID:c1d802ca616f148a6861b18f510a4fe5
CATEGORIES:Opens et Promos (alpin)
CREATED:20131203T122100
SUMMARY:PROMOJ     Harobo Kids Snow Cup 2014
URL;VALUE=URI:https://skivosges.net/agenda/a-venir/detailevenement/156/-/promoj-harobo-ki
 ds-snow-cup-2014?tmpl=component
DESCRIPTION:PROMOJ     Harobo Kids Snow Cup 2014\n\nLieu : MARKSTEIN \nOrganisateur : S
 .C VALLEE DE WESSERLING  (14186 S.C VALLEE DE WESSERLING)\nEmail : RegularL
 abs.EmailProtector.unCloak("ep_4d901bba");\n\nInscriptions en cours sur ce 
 site\n - AMVF0641  Slalom Geant U8 Filles\n  PROMOJ     Harobo Kids Snow Cu
 p 2014\n - AMVM0641  Slalom Geant U8 Garçons\n  PROMOJ     Harobo Kids Snow
  Cup 2014\n - AMVF0642  Slalom Geant de 8 a 15ans au 31/12/2012(Mic a Min) 
 Filles\n  PROMOJ     Harobo Kids Snow Cup 2014\n - AMVM0642  Slalom Geant d
 e 8 a 15ans au 31/12/2012(Mic a Min) Garçons\n  PROMOJ     Harobo Kids Snow
  Cup 2014 Cet évènement a été importé depuis :https://skivosges.net/agenda/
 a-venir/detailevenement/156/-/promoj-harobo-kids-snow-cup-2014?tmpl=compone
 nt
X-ALT-DESC;FMTTYPE=text/html:<strong>PROMOJ     Harobo Kids Snow Cup 2014</strong><br /><br />Lieu : MAR
 KSTEIN <br />Organisateur : S.C VALLEE DE WESSERLING  <small>(14186 S.C VAL
 LEE DE WESSERLING)</small><br />Email : <!-- Cette adresse électronique est
  protégée contre les robots spammeurs. --><span class="cloaked_email ep_4d9
 01bba"><span data-ep-a="&#115;c&#118;&#119;" data-ep-b="&#109;"><span data-
 ep-b="&#108;&#46;co" data-ep-a="&#101;&#115;&#115;e"><span data-ep-b="&#103
 ;&#64;a&#111;" data-ep-a="&#114;&#108;i&#110;"></span></span></span></span>
 <script>RegularLabs.EmailProtector.unCloak("ep_4d901bba");</script><br /><b
 r />Inscriptions en cours sur ce site<ul type="disc"><li>AMVF0641  Slalom G
 eant <nobr>U8</nobr> Filles<br />&nbsp;&nbsp;PROMOJ     Harobo Kids Snow Cu
 p 2014</li><li>AMVM0641  Slalom Geant <nobr>U8</nobr> Garçons<br />&nbsp;&n
 bsp;PROMOJ     Harobo Kids Snow Cup 2014</li><li>AMVF0642  Slalom Geant <no
 br>de 8 a 15ans au 31/12/2012(Mic a Min)</nobr> Filles<br />&nbsp;&nbsp;PRO
 MOJ     Harobo Kids Snow Cup 2014</li><li>AMVM0642  Slalom Geant <nobr>de 8
  a 15ans au 31/12/2012(Mic a Min)</nobr> Garçons<br />&nbsp;&nbsp;PROMOJ   
   Harobo Kids Snow Cup 2014</li></ul> <a href="https://skivosges.net/agenda
 /a-venir/detailevenement/156/-/promoj-harobo-kids-snow-cup-2014?tmpl=compon
 ent">Cet évènement a été importé depuis :https://skivosges.net/agenda/a-ven
 ir/detailevenement/156/-/promoj-harobo-kids-snow-cup-2014?tmpl=component</a
 >DTSTAMP:20260424T012508
DTSTART;TZID=Europe/Paris:20140301T080000
DTEND;TZID=Europe/Paris:20140301T170000
SEQUENCE:0
TRANSP:OPAQUE
END:VEVENT
END:VCALENDAR