BEGIN:VCALENDAR
VERSION:2.0
PRODID:-//jEvents 2.0 for Joomla//EN
CALSCALE:GREGORIAN
METHOD:PUBLISH
BEGIN:VTIMEZONE
TZID:Europe/Paris
BEGIN:STANDARD
DTSTART:20200117T000000
RDATE:20200329T030000
TZOFFSETFROM:+0200
TZOFFSETTO:+0100
TZNAME:Europe/Paris CET
END:STANDARD
BEGIN:STANDARD
DTSTART:20201025T020000
RDATE:20210328T030000
TZOFFSETFROM:+0200
TZOFFSETTO:+0100
TZNAME:Europe/Paris CET
END:STANDARD
BEGIN:STANDARD
DTSTART:20211031T020000
RDATE:20220327T030000
TZOFFSETFROM:+0200
TZOFFSETTO:+0100
TZNAME:Europe/Paris CET
END:STANDARD
BEGIN:STANDARD
DTSTART:20221030T020000
RDATE:20230326T030000
TZOFFSETFROM:+0200
TZOFFSETTO:+0100
TZNAME:Europe/Paris CET
END:STANDARD
BEGIN:STANDARD
DTSTART:20231029T020000
RDATE:20240331T030000
TZOFFSETFROM:+0200
TZOFFSETTO:+0100
TZNAME:Europe/Paris CET
END:STANDARD
BEGIN:STANDARD
DTSTART:20241027T020000
RDATE:20250330T030000
TZOFFSETFROM:+0200
TZOFFSETTO:+0100
TZNAME:Europe/Paris CET
END:STANDARD
BEGIN:STANDARD
DTSTART:20251026T020000
RDATE:20260329T030000
TZOFFSETFROM:+0200
TZOFFSETTO:+0100
TZNAME:Europe/Paris CET
END:STANDARD
BEGIN:STANDARD
DTSTART:20261025T020000
RDATE:20270328T030000
TZOFFSETFROM:+0200
TZOFFSETTO:+0100
TZNAME:Europe/Paris CET
END:STANDARD
BEGIN:DAYLIGHT
DTSTART:20200329T030000
RDATE:20201025T020000
TZOFFSETFROM:+0100
TZOFFSETTO:+0200
TZNAME:Europe/Paris CEST
END:DAYLIGHT
BEGIN:DAYLIGHT
DTSTART:20210328T030000
RDATE:20211031T020000
TZOFFSETFROM:+0100
TZOFFSETTO:+0200
TZNAME:Europe/Paris CEST
END:DAYLIGHT
BEGIN:DAYLIGHT
DTSTART:20220327T030000
RDATE:20221030T020000
TZOFFSETFROM:+0100
TZOFFSETTO:+0200
TZNAME:Europe/Paris CEST
END:DAYLIGHT
BEGIN:DAYLIGHT
DTSTART:20230326T030000
RDATE:20231029T020000
TZOFFSETFROM:+0100
TZOFFSETTO:+0200
TZNAME:Europe/Paris CEST
END:DAYLIGHT
BEGIN:DAYLIGHT
DTSTART:20240331T030000
RDATE:20241027T020000
TZOFFSETFROM:+0100
TZOFFSETTO:+0200
TZNAME:Europe/Paris CEST
END:DAYLIGHT
BEGIN:DAYLIGHT
DTSTART:20250330T030000
RDATE:20251026T020000
TZOFFSETFROM:+0100
TZOFFSETTO:+0200
TZNAME:Europe/Paris CEST
END:DAYLIGHT
BEGIN:DAYLIGHT
DTSTART:20260329T030000
RDATE:20261025T020000
TZOFFSETFROM:+0100
TZOFFSETTO:+0200
TZNAME:Europe/Paris CEST
END:DAYLIGHT
END:VTIMEZONE
BEGIN:VEVENT
UID:e01e575b1528259edfeb4fb4de53c10f
CATEGORIES:Circuit Massif D2 (alpin)
CREATED:20201221T154259
SUMMARY:CD2 PRIX DECOBOIS **REPORTE**
URL;VALUE=URI:https://skivosges.net/agenda/a-venir/detailevenement/1562/-/cd2-prix-decobo
 is-reporte?tmpl=component
DESCRIPTION:<!-- #gskiepreuve code généré par le plugin jevents pour GskiEpreuves. Ne p
 as modifier cette ligne, ni tout le contenu suivant  #gskiepreuve --><div c
 lass="gski-evenement_infos"><div class="gski-evenement-nom">CD2 PRIX DECOBO
 IS</div><div class="gski-evenement-report"> <font class="gskiattention">(Ep
 reuve reportée, date à determiner)</font></div><ul class="gski-evenement-li
 ste-infos"><li>Codex évenement AMVT0200</li><li>Station : BUSSANG</li><li>O
 rganisateur : 14083 U.S VENTRON</li><li>Courriel : <!-- Cette adresse élect
 ronique est protégée contre les robots spammeurs. --><span class="cloaked_e
 mail ep_4769a2fb"><span data-ep-b="&#108;e&#46;fr" data-ep-a="s&#116;e&#112
 ;&#104;"><span data-ep-a="&#97;ne.g" data-ep-b="&#114;i&#99;&#97;&#98;"><sp
 an data-ep-a="&#105;g&#97;nt" data-ep-b="&#64;&#110;ume"></span></span></sp
 an></span><script>RegularLabs.EmailProtector.unCloak("ep_4769a2fb");</scrip
 t></li><li><span class="gski-evenement-obs">Délégué Technique : POIROT MART
 IAL</span></li></ul><div class="gski-evenement-infos-2"><div class="gski-ev
 enement-info-inscriptions"><div class="gski-evenement-inscriptions-periodes
 ">Période d'inscription à l'evènement du dimanche 10 janvier 2021 à 00:00 a
 u vendredi 15 janvier 2021 à 12:00 <span class="gski-evenement-inscriptions
 -impossibles">(Inscriptions impossibles).</span><div class="gski-evenement-
 inscriptions-types-titres">Inscriptions ouvertes aux detenteurs des titres 
 Fédéraux valides suivants : Licenciés Compétiteurs</div></div></div><div cl
 ass="gskiepreuves-links"><ul><li><a href="/index.php?option=com_jevents&tas
 k=icalevent.detail&evid=1557&Itemid=6289">Voir les informations dans l'agen
 da...</a></li></ul></div><div class="gski-evenement-epreuves"><div class="g
 ski-evenement-epreuves-titres">Epreuves :</div><ul class="gski-evenement-ep
 reuves-list"><li><div class="gski-epreuve-date">Le dimanche 17 janvier 2021
 </div><ul class="gski-epreuve-liste-infos"><li>Codex épreuve AMVM0201</li><
 li>Slalom</li><li>Catégorie(s) : U18 a Masters (Hommes)</li></ul></li><li><
 div class="gski-epreuve-date">Le dimanche 17 janvier 2021</div><ul class="g
 ski-epreuve-liste-infos"><li>Codex épreuve AMVF0201</li><li>Slalom</li><li>
 Catégorie(s) : U18 a Masters (Dames)</li></ul></li></ul></div><div class="g
 skiepreuves-links"><ul><li><a href="/index.php?option=com_jevents&task=ical
 event.detail&evid=1557&Itemid=6289">Voir les informations dans l'agenda...<
 /a></li></ul></div></div"><!-- #/gskiepreuve fin du dode généré par le plug
 in jevents pour GskiEpreuves. . Ne pas modifier cette ligne, ni tout le con
 tenu précedant.  #/gskiepreuve --> <a href="https://skivosges.net/agenda/a-
 venir/detailevenement/1562/-/cd2-prix-decobois-reporte?tmpl=component">Cet 
 évènement a été importé depuis :https://skivosges.net/agenda/a-venir/detail
 evenement/1562/-/cd2-prix-decobois-reporte?tmpl=component</a>
X-ALT-DESC;FMTTYPE=text/html:<!-- #gskiepreuve code généré par le plugin jevents pour GskiEpreuves. Ne p
 as modifier cette ligne, ni tout le contenu suivant  #gskiepreuve --><div c
 lass="gski-evenement_infos"><div class="gski-evenement-nom">CD2 PRIX DECOBO
 IS</div><div class="gski-evenement-report"> <font class="gskiattention">(Ep
 reuve reportée, date à determiner)</font></div><ul class="gski-evenement-li
 ste-infos"><li>Codex évenement AMVT0200</li><li>Station : BUSSANG</li><li>O
 rganisateur : 14083 U.S VENTRON</li><li>Courriel : <!-- Cette adresse élect
 ronique est protégée contre les robots spammeurs. --><span class="cloaked_e
 mail ep_4769a2fb"><span data-ep-b="&#108;e&#46;fr" data-ep-a="s&#116;e&#112
 ;&#104;"><span data-ep-a="&#97;ne.g" data-ep-b="&#114;i&#99;&#97;&#98;"><sp
 an data-ep-a="&#105;g&#97;nt" data-ep-b="&#64;&#110;ume"></span></span></sp
 an></span><script>RegularLabs.EmailProtector.unCloak("ep_4769a2fb");</scrip
 t></li><li><span class="gski-evenement-obs">Délégué Technique : POIROT MART
 IAL</span></li></ul><div class="gski-evenement-infos-2"><div class="gski-ev
 enement-info-inscriptions"><div class="gski-evenement-inscriptions-periodes
 ">Période d'inscription à l'evènement du dimanche 10 janvier 2021 à 00:00 a
 u vendredi 15 janvier 2021 à 12:00 <span class="gski-evenement-inscriptions
 -impossibles">(Inscriptions impossibles).</span><div class="gski-evenement-
 inscriptions-types-titres">Inscriptions ouvertes aux detenteurs des titres 
 Fédéraux valides suivants : Licenciés Compétiteurs</div></div></div><div cl
 ass="gskiepreuves-links"><ul><li><a href="https://skivosges.net/index.php?o
 ption=com_jevents&task=icalevent.detail&evid=1557&Itemid=6289">Voir les inf
 ormations dans l'agenda...</a></li></ul></div><div class="gski-evenement-ep
 reuves"><div class="gski-evenement-epreuves-titres">Epreuves :</div><ul cla
 ss="gski-evenement-epreuves-list"><li><div class="gski-epreuve-date">Le dim
 anche 17 janvier 2021</div><ul class="gski-epreuve-liste-infos"><li>Codex é
 preuve AMVM0201</li><li>Slalom</li><li>Catégorie(s) : U18 a Masters (Hommes
 )</li></ul></li><li><div class="gski-epreuve-date">Le dimanche 17 janvier 2
 021</div><ul class="gski-epreuve-liste-infos"><li>Codex épreuve AMVF0201</l
 i><li>Slalom</li><li>Catégorie(s) : U18 a Masters (Dames)</li></ul></li></u
 l></div><div class="gskiepreuves-links"><ul><li><a href="https://skivosges.
 net/index.php?option=com_jevents&task=icalevent.detail&evid=1557&Itemid=628
 9">Voir les informations dans l'agenda...</a></li></ul></div></div"><!-- #/
 gskiepreuve fin du dode généré par le plugin jevents pour GskiEpreuves. . N
 e pas modifier cette ligne, ni tout le contenu précedant.  #/gskiepreuve --
 > <a href="https://skivosges.net/agenda/a-venir/detailevenement/1562/-/cd2-
 prix-decobois-reporte?tmpl=component">Cet évènement a été importé depuis :h
 ttps://skivosges.net/agenda/a-venir/detailevenement/1562/-/cd2-prix-decoboi
 s-reporte?tmpl=component</a>DTSTAMP:20260421T051459
DTSTART;TZID=Europe/Paris;VALUE=DATE:20210117
DTEND;TZID=Europe/Paris;VALUE=DATE:20210118
SEQUENCE:0
TRANSP:OPAQUE
END:VEVENT
END:VCALENDAR