BEGIN:VCALENDAR
VERSION:2.0
PRODID:-//jEvents 2.0 for Joomla//EN
CALSCALE:GREGORIAN
METHOD:PUBLISH
BEGIN:VTIMEZONE
TZID:Europe/Paris
BEGIN:STANDARD
DTSTART:20200117T000000
RDATE:20200329T030000
TZOFFSETFROM:+0200
TZOFFSETTO:+0100
TZNAME:Europe/Paris CET
END:STANDARD
BEGIN:STANDARD
DTSTART:20201025T020000
RDATE:20210328T030000
TZOFFSETFROM:+0200
TZOFFSETTO:+0100
TZNAME:Europe/Paris CET
END:STANDARD
BEGIN:STANDARD
DTSTART:20211031T020000
RDATE:20220327T030000
TZOFFSETFROM:+0200
TZOFFSETTO:+0100
TZNAME:Europe/Paris CET
END:STANDARD
BEGIN:STANDARD
DTSTART:20221030T020000
RDATE:20230326T030000
TZOFFSETFROM:+0200
TZOFFSETTO:+0100
TZNAME:Europe/Paris CET
END:STANDARD
BEGIN:STANDARD
DTSTART:20231029T020000
RDATE:20240331T030000
TZOFFSETFROM:+0200
TZOFFSETTO:+0100
TZNAME:Europe/Paris CET
END:STANDARD
BEGIN:STANDARD
DTSTART:20241027T020000
RDATE:20250330T030000
TZOFFSETFROM:+0200
TZOFFSETTO:+0100
TZNAME:Europe/Paris CET
END:STANDARD
BEGIN:STANDARD
DTSTART:20251026T020000
RDATE:20260329T030000
TZOFFSETFROM:+0200
TZOFFSETTO:+0100
TZNAME:Europe/Paris CET
END:STANDARD
BEGIN:STANDARD
DTSTART:20261025T020000
RDATE:20270328T030000
TZOFFSETFROM:+0200
TZOFFSETTO:+0100
TZNAME:Europe/Paris CET
END:STANDARD
BEGIN:DAYLIGHT
DTSTART:20200329T030000
RDATE:20201025T020000
TZOFFSETFROM:+0100
TZOFFSETTO:+0200
TZNAME:Europe/Paris CEST
END:DAYLIGHT
BEGIN:DAYLIGHT
DTSTART:20210328T030000
RDATE:20211031T020000
TZOFFSETFROM:+0100
TZOFFSETTO:+0200
TZNAME:Europe/Paris CEST
END:DAYLIGHT
BEGIN:DAYLIGHT
DTSTART:20220327T030000
RDATE:20221030T020000
TZOFFSETFROM:+0100
TZOFFSETTO:+0200
TZNAME:Europe/Paris CEST
END:DAYLIGHT
BEGIN:DAYLIGHT
DTSTART:20230326T030000
RDATE:20231029T020000
TZOFFSETFROM:+0100
TZOFFSETTO:+0200
TZNAME:Europe/Paris CEST
END:DAYLIGHT
BEGIN:DAYLIGHT
DTSTART:20240331T030000
RDATE:20241027T020000
TZOFFSETFROM:+0100
TZOFFSETTO:+0200
TZNAME:Europe/Paris CEST
END:DAYLIGHT
BEGIN:DAYLIGHT
DTSTART:20250330T030000
RDATE:20251026T020000
TZOFFSETFROM:+0100
TZOFFSETTO:+0200
TZNAME:Europe/Paris CEST
END:DAYLIGHT
BEGIN:DAYLIGHT
DTSTART:20260329T030000
RDATE:20261025T020000
TZOFFSETFROM:+0100
TZOFFSETTO:+0200
TZNAME:Europe/Paris CEST
END:DAYLIGHT
END:VTIMEZONE
BEGIN:VEVENT
UID:a814edab62e696dd3232aa9011c604ea
CATEGORIES:Circuit Massif Jeunes (alpin)
CREATED:20201221T154315
SUMMARY:CJM Coupe d'Argent U12 **REPORTE**
URL;VALUE=URI:https://skivosges.net/agenda/a-venir/detailevenement/1568/-/cjm-coupe-darge
 nt-u12-reporte?tmpl=component
DESCRIPTION:CJM Coupe d'Argent U12 (Epreuve reportée, date à determiner)\n - Codex éven
 ement AMVT0850\n - Station : LAC BLANC\n - Organisateur : 14251 SKI CLUB LE
  BONHOMME\n - Délégué Technique : HABERER BERNARDPériode d'inscription à l'
 evènement du dimanche 10 janvier 2021 à 00:00 au vendredi 15 janvier 2021 à
  12:00 (Inscriptions impossibles).Inscriptions ouvertes aux detenteurs des 
 titres Fédéraux valides suivants : Licenciés Compétiteurs\n - Voir les info
 rmations dans l'agenda... (/index.php?option=com_jevents&amp;task=icalevent
 .detail&amp;evid=1563&amp;Itemid=6289)Epreuves :\n - Le dimanche 17 janvier
  2021\n - Codex épreuve AMVM0851\n - Slalom Geant\n - Catégorie(s) : U12 (G
 arçons)\n - Le dimanche 17 janvier 2021\n - Codex épreuve AMVF0851\n - Slal
 om Geant\n - Catégorie(s) : U12 (Filles)\n - Voir les informations dans l'a
 genda... (/index.php?option=com_jevents&amp;task=icalevent.detail&amp;evid=
 1563&amp;Itemid=6289) Cet évènement a été importé depuis :https://skivosges
 .net/agenda/a-venir/detailevenement/1568/-/cjm-coupe-dargent-u12-reporte?tm
 pl=component
X-ALT-DESC;FMTTYPE=text/html:<!-- #gskiepreuve code généré par le plugin jevents pour GskiEpreuves. Ne p
 as modifier cette ligne, ni tout le contenu suivant  #gskiepreuve --><div c
 lass="gski-evenement_infos"><div class="gski-evenement-nom">CJM Coupe d'Arg
 ent U12</div><div class="gski-evenement-report"> <font class="gskiattention
 ">(Epreuve reportée, date à determiner)</font></div><ul class="gski-eveneme
 nt-liste-infos"><li>Codex évenement AMVT0850</li><li>Station : LAC BLANC</l
 i><li>Organisateur : 14251 SKI CLUB LE BONHOMME</li><li><span class="gski-e
 venement-obs">Délégué Technique : HABERER BERNARD</span></li></ul><div clas
 s="gski-evenement-infos-2"><div class="gski-evenement-info-inscriptions"><d
 iv class="gski-evenement-inscriptions-periodes">Période d'inscription à l'e
 vènement du dimanche 10 janvier 2021 à 00:00 au vendredi 15 janvier 2021 à 
 12:00 <span class="gski-evenement-inscriptions-impossibles">(Inscriptions i
 mpossibles).</span><div class="gski-evenement-inscriptions-types-titres">In
 scriptions ouvertes aux detenteurs des titres Fédéraux valides suivants : L
 icenciés Compétiteurs</div></div></div><div class="gskiepreuves-links"><ul>
 <li><a href="https://skivosges.net/index.php?option=com_jevents&task=icalev
 ent.detail&evid=1563&Itemid=6289">Voir les informations dans l'agenda...</a
 ></li></ul></div><div class="gski-evenement-epreuves"><div class="gski-even
 ement-epreuves-titres">Epreuves :</div><ul class="gski-evenement-epreuves-l
 ist"><li><div class="gski-epreuve-date">Le dimanche 17 janvier 2021</div><u
 l class="gski-epreuve-liste-infos"><li>Codex épreuve AMVM0851</li><li>Slalo
 m Geant</li><li>Catégorie(s) : U12 (Garçons)</li></ul></li><li><div class="
 gski-epreuve-date">Le dimanche 17 janvier 2021</div><ul class="gski-epreuve
 -liste-infos"><li>Codex épreuve AMVF0851</li><li>Slalom Geant</li><li>Catég
 orie(s) : U12 (Filles)</li></ul></li></ul></div><div class="gskiepreuves-li
 nks"><ul><li><a href="https://skivosges.net/index.php?option=com_jevents&ta
 sk=icalevent.detail&evid=1563&Itemid=6289">Voir les informations dans l'age
 nda...</a></li></ul></div></div"><!-- #/gskiepreuve fin du dode généré par 
 le plugin jevents pour GskiEpreuves. . Ne pas modifier cette ligne, ni tout
  le contenu précedant.  #/gskiepreuve --> <a href="https://skivosges.net/ag
 enda/a-venir/detailevenement/1568/-/cjm-coupe-dargent-u12-reporte?tmpl=comp
 onent">Cet évènement a été importé depuis :https://skivosges.net/agenda/a-v
 enir/detailevenement/1568/-/cjm-coupe-dargent-u12-reporte?tmpl=component</a
 >DTSTAMP:20260421T051414
DTSTART;TZID=Europe/Paris;VALUE=DATE:20210117
DTEND;TZID=Europe/Paris;VALUE=DATE:20210118
SEQUENCE:0
TRANSP:OPAQUE
END:VEVENT
END:VCALENDAR