BEGIN:VCALENDAR
VERSION:2.0
PRODID:-//jEvents 2.0 for Joomla//EN
CALSCALE:GREGORIAN
METHOD:PUBLISH
BEGIN:VTIMEZONE
TZID:Europe/Paris
BEGIN:STANDARD
DTSTART:20200122T000000
RDATE:20200329T030000
TZOFFSETFROM:+0200
TZOFFSETTO:+0100
TZNAME:Europe/Paris CET
END:STANDARD
BEGIN:STANDARD
DTSTART:20201025T020000
RDATE:20210328T030000
TZOFFSETFROM:+0200
TZOFFSETTO:+0100
TZNAME:Europe/Paris CET
END:STANDARD
BEGIN:STANDARD
DTSTART:20211031T020000
RDATE:20220327T030000
TZOFFSETFROM:+0200
TZOFFSETTO:+0100
TZNAME:Europe/Paris CET
END:STANDARD
BEGIN:STANDARD
DTSTART:20221030T020000
RDATE:20230326T030000
TZOFFSETFROM:+0200
TZOFFSETTO:+0100
TZNAME:Europe/Paris CET
END:STANDARD
BEGIN:STANDARD
DTSTART:20231029T020000
RDATE:20240331T030000
TZOFFSETFROM:+0200
TZOFFSETTO:+0100
TZNAME:Europe/Paris CET
END:STANDARD
BEGIN:STANDARD
DTSTART:20241027T020000
RDATE:20250330T030000
TZOFFSETFROM:+0200
TZOFFSETTO:+0100
TZNAME:Europe/Paris CET
END:STANDARD
BEGIN:STANDARD
DTSTART:20251026T020000
RDATE:20260329T030000
TZOFFSETFROM:+0200
TZOFFSETTO:+0100
TZNAME:Europe/Paris CET
END:STANDARD
BEGIN:STANDARD
DTSTART:20261025T020000
RDATE:20270328T030000
TZOFFSETFROM:+0200
TZOFFSETTO:+0100
TZNAME:Europe/Paris CET
END:STANDARD
BEGIN:DAYLIGHT
DTSTART:20200329T030000
RDATE:20201025T020000
TZOFFSETFROM:+0100
TZOFFSETTO:+0200
TZNAME:Europe/Paris CEST
END:DAYLIGHT
BEGIN:DAYLIGHT
DTSTART:20210328T030000
RDATE:20211031T020000
TZOFFSETFROM:+0100
TZOFFSETTO:+0200
TZNAME:Europe/Paris CEST
END:DAYLIGHT
BEGIN:DAYLIGHT
DTSTART:20220327T030000
RDATE:20221030T020000
TZOFFSETFROM:+0100
TZOFFSETTO:+0200
TZNAME:Europe/Paris CEST
END:DAYLIGHT
BEGIN:DAYLIGHT
DTSTART:20230326T030000
RDATE:20231029T020000
TZOFFSETFROM:+0100
TZOFFSETTO:+0200
TZNAME:Europe/Paris CEST
END:DAYLIGHT
BEGIN:DAYLIGHT
DTSTART:20240331T030000
RDATE:20241027T020000
TZOFFSETFROM:+0100
TZOFFSETTO:+0200
TZNAME:Europe/Paris CEST
END:DAYLIGHT
BEGIN:DAYLIGHT
DTSTART:20250330T030000
RDATE:20251026T020000
TZOFFSETFROM:+0100
TZOFFSETTO:+0200
TZNAME:Europe/Paris CEST
END:DAYLIGHT
BEGIN:DAYLIGHT
DTSTART:20260329T030000
RDATE:20261025T020000
TZOFFSETFROM:+0100
TZOFFSETTO:+0200
TZNAME:Europe/Paris CEST
END:DAYLIGHT
END:VTIMEZONE
BEGIN:VEVENT
UID:b11a4d71081c5668981aae234ea0b121
CATEGORIES:Circuit Massif Masters (alpin)
CREATED:20201221T154317
SUMMARY:CMM  Esprit Racing **REPORTE**
URL;VALUE=URI:https://skivosges.net/agenda/a-venir/detailevenement/1569/-/cmm-esprit-raci
 ng-reporte?tmpl=component
DESCRIPTION:<!-- #gskiepreuve code généré par le plugin jevents pour GskiEpreuves. Ne p
 as modifier cette ligne, ni tout le contenu suivant  #gskiepreuve --><div c
 lass="gski-evenement_infos"><div class="gski-evenement-nom">CMM  Esprit Rac
 ing</div><div class="gski-evenement-report"> <font class="gskiattention">(E
 preuve reportée, date à determiner)</font></div><ul class="gski-evenement-l
 iste-infos"><li>Codex évenement AMVT0230</li><li>Station : MARKSTEIN</li><l
 i>Organisateur : 14186 S.C VALLEE DE WESSERLING</li><li><span class="gski-e
 venement-obs">Délégué Technique : GODEL STEPHANIE</span></li></ul><div clas
 s="gski-evenement-infos-2"><div class="gski-evenement-info-inscriptions"><d
 iv class="gski-evenement-inscriptions-periodes">Période d'inscription à l'e
 vènement du vendredi 15 janvier 2021 à 00:00 au mercredi 20 janvier 2021 à 
 12:00 <span class="gski-evenement-inscriptions-impossibles">(Inscriptions i
 mpossibles).</span><div class="gski-evenement-inscriptions-types-titres">In
 scriptions ouvertes aux detenteurs des titres Fédéraux valides suivants : L
 icenciés Compétiteurs</div></div></div><div class="gskiepreuves-links"><ul>
 <li><a href="/index.php?option=com_jevents&task=icalevent.detail&evid=1564&
 Itemid=6289">Voir les informations dans l'agenda...</a></li></ul></div><div
  class="gski-evenement-epreuves"><div class="gski-evenement-epreuves-titres
 ">Epreuves :</div><ul class="gski-evenement-epreuves-list"><li><div class="
 gski-epreuve-date">Le vendredi 22 janvier 2021</div><ul class="gski-epreuve
 -liste-infos"><li>Codex épreuve AMVM0231</li><li>Slalom</li><li>Catégorie(s
 ) : Tous les Masters+U21+U30 Hommes (Hommes)</li></ul></li><li><div class="
 gski-epreuve-date">Le vendredi 22 janvier 2021</div><ul class="gski-epreuve
 -liste-infos"><li>Codex épreuve AMVF0231</li><li>Slalom</li><li>Catégorie(s
 ) : Tous les Masters+U21+U30 Dames (Dames)</li></ul></li></ul></div><div cl
 ass="gskiepreuves-links"><ul><li><a href="/index.php?option=com_jevents&tas
 k=icalevent.detail&evid=1564&Itemid=6289">Voir les informations dans l'agen
 da...</a></li></ul></div></div"><!-- #/gskiepreuve fin du dode généré par l
 e plugin jevents pour GskiEpreuves. . Ne pas modifier cette ligne, ni tout 
 le contenu précedant.  #/gskiepreuve --> <a href="https://skivosges.net/age
 nda/a-venir/detailevenement/1569/-/cmm-esprit-racing-reporte?tmpl=component
 ">Cet évènement a été importé depuis :https://skivosges.net/agenda/a-venir/
 detailevenement/1569/-/cmm-esprit-racing-reporte?tmpl=component</a>
X-ALT-DESC;FMTTYPE=text/html:<!-- #gskiepreuve code généré par le plugin jevents pour GskiEpreuves. Ne p
 as modifier cette ligne, ni tout le contenu suivant  #gskiepreuve --><div c
 lass="gski-evenement_infos"><div class="gski-evenement-nom">CMM  Esprit Rac
 ing</div><div class="gski-evenement-report"> <font class="gskiattention">(E
 preuve reportée, date à determiner)</font></div><ul class="gski-evenement-l
 iste-infos"><li>Codex évenement AMVT0230</li><li>Station : MARKSTEIN</li><l
 i>Organisateur : 14186 S.C VALLEE DE WESSERLING</li><li><span class="gski-e
 venement-obs">Délégué Technique : GODEL STEPHANIE</span></li></ul><div clas
 s="gski-evenement-infos-2"><div class="gski-evenement-info-inscriptions"><d
 iv class="gski-evenement-inscriptions-periodes">Période d'inscription à l'e
 vènement du vendredi 15 janvier 2021 à 00:00 au mercredi 20 janvier 2021 à 
 12:00 <span class="gski-evenement-inscriptions-impossibles">(Inscriptions i
 mpossibles).</span><div class="gski-evenement-inscriptions-types-titres">In
 scriptions ouvertes aux detenteurs des titres Fédéraux valides suivants : L
 icenciés Compétiteurs</div></div></div><div class="gskiepreuves-links"><ul>
 <li><a href="https://skivosges.net/index.php?option=com_jevents&task=icalev
 ent.detail&evid=1564&Itemid=6289">Voir les informations dans l'agenda...</a
 ></li></ul></div><div class="gski-evenement-epreuves"><div class="gski-even
 ement-epreuves-titres">Epreuves :</div><ul class="gski-evenement-epreuves-l
 ist"><li><div class="gski-epreuve-date">Le vendredi 22 janvier 2021</div><u
 l class="gski-epreuve-liste-infos"><li>Codex épreuve AMVM0231</li><li>Slalo
 m</li><li>Catégorie(s) : Tous les Masters+U21+U30 Hommes (Hommes)</li></ul>
 </li><li><div class="gski-epreuve-date">Le vendredi 22 janvier 2021</div><u
 l class="gski-epreuve-liste-infos"><li>Codex épreuve AMVF0231</li><li>Slalo
 m</li><li>Catégorie(s) : Tous les Masters+U21+U30 Dames (Dames)</li></ul></
 li></ul></div><div class="gskiepreuves-links"><ul><li><a href="https://skiv
 osges.net/index.php?option=com_jevents&task=icalevent.detail&evid=1564&Item
 id=6289">Voir les informations dans l'agenda...</a></li></ul></div></div"><
 !-- #/gskiepreuve fin du dode généré par le plugin jevents pour GskiEpreuve
 s. . Ne pas modifier cette ligne, ni tout le contenu précedant.  #/gskiepre
 uve --> <a href="https://skivosges.net/agenda/a-venir/detailevenement/1569/
 -/cmm-esprit-racing-reporte?tmpl=component">Cet évènement a été importé dep
 uis :https://skivosges.net/agenda/a-venir/detailevenement/1569/-/cmm-esprit
 -racing-reporte?tmpl=component</a>DTSTAMP:20260421T051453
DTSTART;TZID=Europe/Paris;VALUE=DATE:20210122
DTEND;TZID=Europe/Paris;VALUE=DATE:20210123
SEQUENCE:0
TRANSP:OPAQUE
END:VEVENT
END:VCALENDAR