BEGIN:VCALENDAR
VERSION:2.0
PRODID:-//jEvents 2.0 for Joomla//EN
CALSCALE:GREGORIAN
METHOD:PUBLISH
BEGIN:VTIMEZONE
TZID:Europe/Paris
BEGIN:STANDARD
DTSTART:20200207T000000
RDATE:20200329T030000
TZOFFSETFROM:+0200
TZOFFSETTO:+0100
TZNAME:Europe/Paris CET
END:STANDARD
BEGIN:STANDARD
DTSTART:20201025T020000
RDATE:20210328T030000
TZOFFSETFROM:+0200
TZOFFSETTO:+0100
TZNAME:Europe/Paris CET
END:STANDARD
BEGIN:STANDARD
DTSTART:20211031T020000
RDATE:20220327T030000
TZOFFSETFROM:+0200
TZOFFSETTO:+0100
TZNAME:Europe/Paris CET
END:STANDARD
BEGIN:STANDARD
DTSTART:20221030T020000
RDATE:20230326T030000
TZOFFSETFROM:+0200
TZOFFSETTO:+0100
TZNAME:Europe/Paris CET
END:STANDARD
BEGIN:STANDARD
DTSTART:20231029T020000
RDATE:20240331T030000
TZOFFSETFROM:+0200
TZOFFSETTO:+0100
TZNAME:Europe/Paris CET
END:STANDARD
BEGIN:STANDARD
DTSTART:20241027T020000
RDATE:20250330T030000
TZOFFSETFROM:+0200
TZOFFSETTO:+0100
TZNAME:Europe/Paris CET
END:STANDARD
BEGIN:STANDARD
DTSTART:20251026T020000
RDATE:20260329T030000
TZOFFSETFROM:+0200
TZOFFSETTO:+0100
TZNAME:Europe/Paris CET
END:STANDARD
BEGIN:STANDARD
DTSTART:20261025T020000
RDATE:20270328T030000
TZOFFSETFROM:+0200
TZOFFSETTO:+0100
TZNAME:Europe/Paris CET
END:STANDARD
BEGIN:DAYLIGHT
DTSTART:20200329T030000
RDATE:20201025T020000
TZOFFSETFROM:+0100
TZOFFSETTO:+0200
TZNAME:Europe/Paris CEST
END:DAYLIGHT
BEGIN:DAYLIGHT
DTSTART:20210328T030000
RDATE:20211031T020000
TZOFFSETFROM:+0100
TZOFFSETTO:+0200
TZNAME:Europe/Paris CEST
END:DAYLIGHT
BEGIN:DAYLIGHT
DTSTART:20220327T030000
RDATE:20221030T020000
TZOFFSETFROM:+0100
TZOFFSETTO:+0200
TZNAME:Europe/Paris CEST
END:DAYLIGHT
BEGIN:DAYLIGHT
DTSTART:20230326T030000
RDATE:20231029T020000
TZOFFSETFROM:+0100
TZOFFSETTO:+0200
TZNAME:Europe/Paris CEST
END:DAYLIGHT
BEGIN:DAYLIGHT
DTSTART:20240331T030000
RDATE:20241027T020000
TZOFFSETFROM:+0100
TZOFFSETTO:+0200
TZNAME:Europe/Paris CEST
END:DAYLIGHT
BEGIN:DAYLIGHT
DTSTART:20250330T030000
RDATE:20251026T020000
TZOFFSETFROM:+0100
TZOFFSETTO:+0200
TZNAME:Europe/Paris CEST
END:DAYLIGHT
BEGIN:DAYLIGHT
DTSTART:20260329T030000
RDATE:20261025T020000
TZOFFSETFROM:+0100
TZOFFSETTO:+0200
TZNAME:Europe/Paris CEST
END:DAYLIGHT
END:VTIMEZONE
BEGIN:VEVENT
UID:ba5346d45572b4492c7eba86b1693ec7
CATEGORIES:Circuit Massif Jeunes (alpin)
CREATED:20201221T154412
SUMMARY:CJM Coupe d'Argent U14 Prix du SC Barr
URL;VALUE=URI:https://skivosges.net/agenda/a-venir/detailevenement/1596/-/cjm-coupe-darge
 nt-u14-prix-du-sc-barr?tmpl=component
DESCRIPTION:CJM Coupe d'Argent U14 Prix du SC Barr\n - Codex évenement AMVT0400\n - Sta
 tion : LAC BLANC\n - Organisateur : 14003 SKI CLUB BARR\n - Courriel : Regu
 larLabs.EmailProtector.unCloak("ep_209a5896");\n - Délégué Technique : SCHL
 OSSER FRANKPériode d'inscription à l'evènement du dimanche 31 janvier 2021 
 à 01:00 au vendredi 05 février 2021 à 13:00 (Inscriptions impossibles).Insc
 riptions ouvertes aux detenteurs des titres Fédéraux valides suivants : Lic
 enciés Compétiteurs\n - Voir les informations dans l'agenda... (/index.php?
 option=com_jevents&amp;task=icalevent.detail&amp;evid=1591&amp;Itemid=6289)
 Epreuves :\n - Le dimanche 07 février 2021\n - Codex épreuve AMVM0401\n - S
 lalom Geant\n - Catégorie(s) : U14 (Garçons)\n - Le dimanche 07 février 202
 1\n - Codex épreuve AMVF0401\n - Slalom Geant\n - Catégorie(s) : U14 (Fille
 s)\n - Voir les informations dans l'agenda... (/index.php?option=com_jevent
 s&amp;task=icalevent.detail&amp;evid=1591&amp;Itemid=6289) Cet évènement a 
 été importé depuis :https://skivosges.net/agenda/a-venir/detailevenement/15
 96/-/cjm-coupe-dargent-u14-prix-du-sc-barr?tmpl=component
X-ALT-DESC;FMTTYPE=text/html:<!-- #gskiepreuve code généré par le plugin jevents pour GskiEpreuves. Ne p
 as modifier cette ligne, ni tout le contenu suivant  #gskiepreuve --><div c
 lass="gski-evenement_infos"><div class="gski-evenement-nom">CJM Coupe d'Arg
 ent U14 Prix du SC Barr</div><div class="gski-evenement-report"></div><ul c
 lass="gski-evenement-liste-infos"><li>Codex évenement AMVT0400</li><li>Stat
 ion : LAC BLANC</li><li>Organisateur : 14003 SKI CLUB BARR</li><li>Courriel
  : <!-- Cette adresse électronique est protégée contre les robots spammeurs
 . --><span class="cloaked_email ep_209a5896"><span data-ep-a="wie&#115;&#46
 ;" data-ep-b=""><span data-ep-b="l&#46;co&#109;" data-ep-a="c&#104;&#114;&#
 105;&#115;"><span data-ep-b="&#64;&#103;m&#97;&#105;" data-ep-a="&#116;&#11
 1;&#112;&#104;e"></span></span></span></span><script>RegularLabs.EmailProte
 ctor.unCloak("ep_209a5896");</script></li><li><span class="gski-evenement-o
 bs">Délégué Technique : SCHLOSSER FRANK</span></li></ul><div class="gski-ev
 enement-infos-2"><div class="gski-evenement-info-inscriptions"><div class="
 gski-evenement-inscriptions-periodes">Période d'inscription à l'evènement d
 u dimanche 31 janvier 2021 à 01:00 au vendredi 05 février 2021 à 13:00 <spa
 n class="gski-evenement-inscriptions-impossibles">(Inscriptions impossibles
 ).</span><div class="gski-evenement-inscriptions-types-titres">Inscriptions
  ouvertes aux detenteurs des titres Fédéraux valides suivants : Licenciés C
 ompétiteurs</div></div></div><div class="gskiepreuves-links"><ul><li><a hre
 f="https://skivosges.net/index.php?option=com_jevents&task=icalevent.detail
 &evid=1591&Itemid=6289">Voir les informations dans l'agenda...</a></li></ul
 ></div><div class="gski-evenement-epreuves"><div class="gski-evenement-epre
 uves-titres">Epreuves :</div><ul class="gski-evenement-epreuves-list"><li><
 div class="gski-epreuve-date">Le dimanche 07 février 2021</div><ul class="g
 ski-epreuve-liste-infos"><li>Codex épreuve AMVM0401</li><li>Slalom Geant</l
 i><li>Catégorie(s) : U14 (Garçons)</li></ul></li><li><div class="gski-epreu
 ve-date">Le dimanche 07 février 2021</div><ul class="gski-epreuve-liste-inf
 os"><li>Codex épreuve AMVF0401</li><li>Slalom Geant</li><li>Catégorie(s) : 
 U14 (Filles)</li></ul></li></ul></div><div class="gskiepreuves-links"><ul><
 li><a href="https://skivosges.net/index.php?option=com_jevents&task=icaleve
 nt.detail&evid=1591&Itemid=6289">Voir les informations dans l'agenda...</a>
 </li></ul></div></div"><!-- #/gskiepreuve fin du dode généré par le plugin 
 jevents pour GskiEpreuves. . Ne pas modifier cette ligne, ni tout le conten
 u précedant.  #/gskiepreuve --> <a href="https://skivosges.net/agenda/a-ven
 ir/detailevenement/1596/-/cjm-coupe-dargent-u14-prix-du-sc-barr?tmpl=compon
 ent">Cet évènement a été importé depuis :https://skivosges.net/agenda/a-ven
 ir/detailevenement/1596/-/cjm-coupe-dargent-u14-prix-du-sc-barr?tmpl=compon
 ent</a>DTSTAMP:20260421T051407
DTSTART;TZID=Europe/Paris;VALUE=DATE:20210207
DTEND;TZID=Europe/Paris;VALUE=DATE:20210208
SEQUENCE:0
TRANSP:OPAQUE
END:VEVENT
END:VCALENDAR