BEGIN:VCALENDAR
VERSION:2.0
PRODID:-//jEvents 2.0 for Joomla//EN
CALSCALE:GREGORIAN
METHOD:PUBLISH
BEGIN:VTIMEZONE
TZID:Europe/Paris
BEGIN:STANDARD
DTSTART:20200207T000000
RDATE:20200329T030000
TZOFFSETFROM:+0200
TZOFFSETTO:+0100
TZNAME:Europe/Paris CET
END:STANDARD
BEGIN:STANDARD
DTSTART:20201025T020000
RDATE:20210328T030000
TZOFFSETFROM:+0200
TZOFFSETTO:+0100
TZNAME:Europe/Paris CET
END:STANDARD
BEGIN:STANDARD
DTSTART:20211031T020000
RDATE:20220327T030000
TZOFFSETFROM:+0200
TZOFFSETTO:+0100
TZNAME:Europe/Paris CET
END:STANDARD
BEGIN:STANDARD
DTSTART:20221030T020000
RDATE:20230326T030000
TZOFFSETFROM:+0200
TZOFFSETTO:+0100
TZNAME:Europe/Paris CET
END:STANDARD
BEGIN:STANDARD
DTSTART:20231029T020000
RDATE:20240331T030000
TZOFFSETFROM:+0200
TZOFFSETTO:+0100
TZNAME:Europe/Paris CET
END:STANDARD
BEGIN:STANDARD
DTSTART:20241027T020000
RDATE:20250330T030000
TZOFFSETFROM:+0200
TZOFFSETTO:+0100
TZNAME:Europe/Paris CET
END:STANDARD
BEGIN:STANDARD
DTSTART:20251026T020000
RDATE:20260329T030000
TZOFFSETFROM:+0200
TZOFFSETTO:+0100
TZNAME:Europe/Paris CET
END:STANDARD
BEGIN:STANDARD
DTSTART:20261025T020000
RDATE:20270328T030000
TZOFFSETFROM:+0200
TZOFFSETTO:+0100
TZNAME:Europe/Paris CET
END:STANDARD
BEGIN:DAYLIGHT
DTSTART:20200329T030000
RDATE:20201025T020000
TZOFFSETFROM:+0100
TZOFFSETTO:+0200
TZNAME:Europe/Paris CEST
END:DAYLIGHT
BEGIN:DAYLIGHT
DTSTART:20210328T030000
RDATE:20211031T020000
TZOFFSETFROM:+0100
TZOFFSETTO:+0200
TZNAME:Europe/Paris CEST
END:DAYLIGHT
BEGIN:DAYLIGHT
DTSTART:20220327T030000
RDATE:20221030T020000
TZOFFSETFROM:+0100
TZOFFSETTO:+0200
TZNAME:Europe/Paris CEST
END:DAYLIGHT
BEGIN:DAYLIGHT
DTSTART:20230326T030000
RDATE:20231029T020000
TZOFFSETFROM:+0100
TZOFFSETTO:+0200
TZNAME:Europe/Paris CEST
END:DAYLIGHT
BEGIN:DAYLIGHT
DTSTART:20240331T030000
RDATE:20241027T020000
TZOFFSETFROM:+0100
TZOFFSETTO:+0200
TZNAME:Europe/Paris CEST
END:DAYLIGHT
BEGIN:DAYLIGHT
DTSTART:20250330T030000
RDATE:20251026T020000
TZOFFSETFROM:+0100
TZOFFSETTO:+0200
TZNAME:Europe/Paris CEST
END:DAYLIGHT
BEGIN:DAYLIGHT
DTSTART:20260329T030000
RDATE:20261025T020000
TZOFFSETFROM:+0100
TZOFFSETTO:+0200
TZNAME:Europe/Paris CEST
END:DAYLIGHT
END:VTIMEZONE
BEGIN:VEVENT
UID:0090d824270bc36d4424dbc488db80a3
CATEGORIES:Compétition Ski de Fond
CREATED:20201221T154420
SUMMARY:TRACE VOSGIENNE Bigmat Atomic N°9
URL;VALUE=URI:https://skivosges.net/agenda/a-venir/detailevenement/1599/-/trace-vosgienne
 -bigmat-atomic-n-9?tmpl=component
DESCRIPTION:TRACE VOSGIENNE Bigmat Atomic N°9\n - Codex évenement FMVT0180\n - Station 
 : GERARDMER\n - Organisateur : 14469 A.S GERARDMER SKI NORDIQUE\n - Courrie
 l : RegularLabs.EmailProtector.unCloak("ep_ebcea939");\n - Délégué Techniqu
 e : VIAL MICHELPériode d'inscription à l'evènement du dimanche 31 janvier 2
 021 à 01:00 au vendredi 05 février 2021 à 13:00 (Inscriptions impossibles).
 Inscriptions ouvertes aux detenteurs des titres Fédéraux valides suivants :
  Licenciés Compétiteurs\n - Voir les informations dans l'agenda... (/index.
 php?option=com_jevents&amp;task=icalevent.detail&amp;evid=1594&amp;Itemid=6
 289)Epreuves :\n - Le dimanche 07 février 2021\n - Codex épreuve FMVF0181\n
  - Mass Start (Depart ligne)\n - Catégorie(s) : U15 (Filles)\n - Le dimanch
 e 07 février 2021\n - Codex épreuve FMVM0181\n - Mass Start (Depart ligne)\
 n - Catégorie(s) : U15 (Garçons)\n - Le dimanche 07 février 2021\n - Codex 
 épreuve FMVF0182\n - Mass Start (Depart ligne)\n - Catégorie(s) : U17 (Dame
 s)\n - Le dimanche 07 février 2021\n - Codex épreuve FMVM0182\n - Mass Star
 t (Depart ligne)\n - Catégorie(s) : U17 (Hommes)\n - Le dimanche 07 février
  2021\n - Codex épreuve FMVF0183\n - Mass Start (Depart ligne)\n - Catégori
 e(s) : U20 a M12 (Dames)\n - Le dimanche 07 février 2021\n - Codex épreuve 
 FMVM0183\n - Mass Start (Depart ligne)\n - Catégorie(s) : U20 a M12 (Hommes
 )\n - Voir les informations dans l'agenda... (/index.php?option=com_jevents
 &amp;task=icalevent.detail&amp;evid=1594&amp;Itemid=6289) Cet évènement a é
 té importé depuis :https://skivosges.net/agenda/a-venir/detailevenement/159
 9/-/trace-vosgienne-bigmat-atomic-n-9?tmpl=component
X-ALT-DESC;FMTTYPE=text/html:<!-- #gskiepreuve code généré par le plugin jevents pour GskiEpreuves. Ne p
 as modifier cette ligne, ni tout le contenu suivant  #gskiepreuve --><div c
 lass="gski-evenement_infos"><div class="gski-evenement-nom">TRACE VOSGIENNE
  Bigmat Atomic N°9</div><div class="gski-evenement-report"></div><ul class=
 "gski-evenement-liste-infos"><li>Codex évenement FMVT0180</li><li>Station :
  GERARDMER</li><li>Organisateur : 14469 A.S GERARDMER SKI NORDIQUE</li><li>
 Courriel : <!-- Cette adresse électronique est protégée contre les robots s
 pammeurs. --><span class="cloaked_email ep_ebcea939"><span data-ep-b=".&#10
 2;&#114;" data-ep-a="&#102;&#114;&#97;&#110;"><span data-ep-b="b&#98;&#111;
 &#120;" data-ep-a="c&#105;&#115;."><span data-ep-a="&#107;&#105;e&#110;" da
 ta-ep-b="tz&#121;&#64;"></span></span></span></span><script>RegularLabs.Ema
 ilProtector.unCloak("ep_ebcea939");</script></li><li><span class="gski-even
 ement-obs">Délégué Technique : VIAL MICHEL</span></li></ul><div class="gski
 -evenement-infos-2"><div class="gski-evenement-info-inscriptions"><div clas
 s="gski-evenement-inscriptions-periodes">Période d'inscription à l'evènemen
 t du dimanche 31 janvier 2021 à 01:00 au vendredi 05 février 2021 à 13:00 <
 span class="gski-evenement-inscriptions-impossibles">(Inscriptions impossib
 les).</span><div class="gski-evenement-inscriptions-types-titres">Inscripti
 ons ouvertes aux detenteurs des titres Fédéraux valides suivants : Licencié
 s Compétiteurs</div></div></div><div class="gskiepreuves-links"><ul><li><a 
 href="https://skivosges.net/index.php?option=com_jevents&task=icalevent.det
 ail&evid=1594&Itemid=6289">Voir les informations dans l'agenda...</a></li><
 /ul></div><div class="gski-evenement-epreuves"><div class="gski-evenement-e
 preuves-titres">Epreuves :</div><ul class="gski-evenement-epreuves-list"><l
 i><div class="gski-epreuve-date">Le dimanche 07 février 2021</div><ul class
 ="gski-epreuve-liste-infos"><li>Codex épreuve FMVF0181</li><li>Mass Start (
 Depart ligne)</li><li>Catégorie(s) : U15 (Filles)</li></ul></li><li><div cl
 ass="gski-epreuve-date">Le dimanche 07 février 2021</div><ul class="gski-ep
 reuve-liste-infos"><li>Codex épreuve FMVM0181</li><li>Mass Start (Depart li
 gne)</li><li>Catégorie(s) : U15 (Garçons)</li></ul></li><li><div class="gsk
 i-epreuve-date">Le dimanche 07 février 2021</div><ul class="gski-epreuve-li
 ste-infos"><li>Codex épreuve FMVF0182</li><li>Mass Start (Depart ligne)</li
 ><li>Catégorie(s) : U17 (Dames)</li></ul></li><li><div class="gski-epreuve-
 date">Le dimanche 07 février 2021</div><ul class="gski-epreuve-liste-infos"
 ><li>Codex épreuve FMVM0182</li><li>Mass Start (Depart ligne)</li><li>Catég
 orie(s) : U17 (Hommes)</li></ul></li><li><div class="gski-epreuve-date">Le 
 dimanche 07 février 2021</div><ul class="gski-epreuve-liste-infos"><li>Code
 x épreuve FMVF0183</li><li>Mass Start (Depart ligne)</li><li>Catégorie(s) :
  U20 a M12 (Dames)</li></ul></li><li><div class="gski-epreuve-date">Le dima
 nche 07 février 2021</div><ul class="gski-epreuve-liste-infos"><li>Codex ép
 reuve FMVM0183</li><li>Mass Start (Depart ligne)</li><li>Catégorie(s) : U20
  a M12 (Hommes)</li></ul></li></ul></div><div class="gskiepreuves-links"><u
 l><li><a href="https://skivosges.net/index.php?option=com_jevents&task=ical
 event.detail&evid=1594&Itemid=6289">Voir les informations dans l'agenda...<
 /a></li></ul></div></div"><!-- #/gskiepreuve fin du dode généré par le plug
 in jevents pour GskiEpreuves. . Ne pas modifier cette ligne, ni tout le con
 tenu précedant.  #/gskiepreuve --> <a href="https://skivosges.net/agenda/a-
 venir/detailevenement/1599/-/trace-vosgienne-bigmat-atomic-n-9?tmpl=compone
 nt">Cet évènement a été importé depuis :https://skivosges.net/agenda/a-veni
 r/detailevenement/1599/-/trace-vosgienne-bigmat-atomic-n-9?tmpl=component</
 a>DTSTAMP:20260421T051416
DTSTART;TZID=Europe/Paris;VALUE=DATE:20210207
DTEND;TZID=Europe/Paris;VALUE=DATE:20210208
SEQUENCE:0
TRANSP:OPAQUE
END:VEVENT
END:VCALENDAR