BEGIN:VCALENDAR
VERSION:2.0
PRODID:-//jEvents 2.0 for Joomla//EN
CALSCALE:GREGORIAN
METHOD:PUBLISH
BEGIN:VTIMEZONE
TZID:Europe/Paris
BEGIN:STANDARD
DTSTART:20200220T000000
RDATE:20200329T030000
TZOFFSETFROM:+0200
TZOFFSETTO:+0100
TZNAME:Europe/Paris CET
END:STANDARD
BEGIN:STANDARD
DTSTART:20201025T020000
RDATE:20210328T030000
TZOFFSETFROM:+0200
TZOFFSETTO:+0100
TZNAME:Europe/Paris CET
END:STANDARD
BEGIN:STANDARD
DTSTART:20211031T020000
RDATE:20220327T030000
TZOFFSETFROM:+0200
TZOFFSETTO:+0100
TZNAME:Europe/Paris CET
END:STANDARD
BEGIN:STANDARD
DTSTART:20221030T020000
RDATE:20230326T030000
TZOFFSETFROM:+0200
TZOFFSETTO:+0100
TZNAME:Europe/Paris CET
END:STANDARD
BEGIN:STANDARD
DTSTART:20231029T020000
RDATE:20240331T030000
TZOFFSETFROM:+0200
TZOFFSETTO:+0100
TZNAME:Europe/Paris CET
END:STANDARD
BEGIN:STANDARD
DTSTART:20241027T020000
RDATE:20250330T030000
TZOFFSETFROM:+0200
TZOFFSETTO:+0100
TZNAME:Europe/Paris CET
END:STANDARD
BEGIN:STANDARD
DTSTART:20251026T020000
RDATE:20260329T030000
TZOFFSETFROM:+0200
TZOFFSETTO:+0100
TZNAME:Europe/Paris CET
END:STANDARD
BEGIN:STANDARD
DTSTART:20261025T020000
RDATE:20270328T030000
TZOFFSETFROM:+0200
TZOFFSETTO:+0100
TZNAME:Europe/Paris CET
END:STANDARD
BEGIN:DAYLIGHT
DTSTART:20200329T030000
RDATE:20201025T020000
TZOFFSETFROM:+0100
TZOFFSETTO:+0200
TZNAME:Europe/Paris CEST
END:DAYLIGHT
BEGIN:DAYLIGHT
DTSTART:20210328T030000
RDATE:20211031T020000
TZOFFSETFROM:+0100
TZOFFSETTO:+0200
TZNAME:Europe/Paris CEST
END:DAYLIGHT
BEGIN:DAYLIGHT
DTSTART:20220327T030000
RDATE:20221030T020000
TZOFFSETFROM:+0100
TZOFFSETTO:+0200
TZNAME:Europe/Paris CEST
END:DAYLIGHT
BEGIN:DAYLIGHT
DTSTART:20230326T030000
RDATE:20231029T020000
TZOFFSETFROM:+0100
TZOFFSETTO:+0200
TZNAME:Europe/Paris CEST
END:DAYLIGHT
BEGIN:DAYLIGHT
DTSTART:20240331T030000
RDATE:20241027T020000
TZOFFSETFROM:+0100
TZOFFSETTO:+0200
TZNAME:Europe/Paris CEST
END:DAYLIGHT
BEGIN:DAYLIGHT
DTSTART:20250330T030000
RDATE:20251026T020000
TZOFFSETFROM:+0100
TZOFFSETTO:+0200
TZNAME:Europe/Paris CEST
END:DAYLIGHT
BEGIN:DAYLIGHT
DTSTART:20260329T030000
RDATE:20261025T020000
TZOFFSETFROM:+0100
TZOFFSETTO:+0200
TZNAME:Europe/Paris CEST
END:DAYLIGHT
END:VTIMEZONE
BEGIN:VEVENT
UID:237177d60acaa971a15d24c2b478bece
CATEGORIES:Circuit Massif Jeunes (alpin)
CREATED:20201221T154450
SUMMARY:CJM Coupe d'Argent U14 Coupe de Crédit Mutuel Gérardmer
URL;VALUE=URI:https://skivosges.net/agenda/a-venir/detailevenement/1610/-/cjm-coupe-darge
 nt-u14-coupe-de-credit-mutuel-gerardmer?tmpl=component
DESCRIPTION:CJM Coupe d'Argent U14 Coupe de Crédit Mutuel Gérardmer\n - Codex évenement
  AMVT0450\n - Station : GERARDMER\n - Organisateur : 14089 GERARDMER SKI AL
 PIN\n - Courriel : RegularLabs.EmailProtector.unCloak("ep_b873d33d");\n - D
 élégué Technique : CLAUDEL RENEPériode d'inscription à l'evènement du samed
 i 13 février 2021 à 01:00 au jeudi 18 février 2021 à 13:00 (Inscriptions im
 possibles).Inscriptions ouvertes aux detenteurs des titres Fédéraux valides
  suivants : Licenciés Compétiteurs\n - Voir les informations dans l'agenda.
 .. (/index.php?option=com_jevents&amp;task=icalevent.detail&amp;evid=1605&a
 mp;Itemid=6289)Epreuves :\n - Le samedi 20 février 2021\n - Codex épreuve A
 MVM0451\n - Slalom Geant\n - Catégorie(s) : U14 (Garçons)\n - Le samedi 20 
 février 2021\n - Codex épreuve AMVF0451\n - Slalom Geant\n - Catégorie(s) :
  U14 (Filles)\n - Voir les informations dans l'agenda... (/index.php?option
 =com_jevents&amp;task=icalevent.detail&amp;evid=1605&amp;Itemid=6289) Cet é
 vènement a été importé depuis :https://skivosges.net/agenda/a-venir/detaile
 venement/1610/-/cjm-coupe-dargent-u14-coupe-de-credit-mutuel-gerardmer?tmpl
 =component
X-ALT-DESC;FMTTYPE=text/html:<!-- #gskiepreuve code généré par le plugin jevents pour GskiEpreuves. Ne p
 as modifier cette ligne, ni tout le contenu suivant  #gskiepreuve --><div c
 lass="gski-evenement_infos"><div class="gski-evenement-nom">CJM Coupe d'Arg
 ent U14 Coupe de Crédit Mutuel Gérardmer</div><div class="gski-evenement-re
 port"></div><ul class="gski-evenement-liste-infos"><li>Codex évenement AMVT
 0450</li><li>Station : GERARDMER</li><li>Organisateur : 14089 GERARDMER SKI
  ALPIN</li><li>Courriel : <!-- Cette adresse électronique est protégée cont
 re les robots spammeurs. --><span class="cloaked_email ep_b873d33d"><span d
 ata-ep-b="&#114;" data-ep-a="&#104;ube&#114;"><span data-ep-a="t.g&#111;u" 
 data-ep-b="ree.&#102;"><span data-ep-b="&#108;&#111;&#110;&#64;&#102;" data
 -ep-a="&#114;&#103;&#117;i&#108;"></span></span></span></span><script>Regul
 arLabs.EmailProtector.unCloak("ep_b873d33d");</script></li><li><span class=
 "gski-evenement-obs">Délégué Technique : CLAUDEL RENE</span></li></ul><div 
 class="gski-evenement-infos-2"><div class="gski-evenement-info-inscriptions
 "><div class="gski-evenement-inscriptions-periodes">Période d'inscription à
  l'evènement du samedi 13 février 2021 à 01:00 au jeudi 18 février 2021 à 1
 3:00 <span class="gski-evenement-inscriptions-impossibles">(Inscriptions im
 possibles).</span><div class="gski-evenement-inscriptions-types-titres">Ins
 criptions ouvertes aux detenteurs des titres Fédéraux valides suivants : Li
 cenciés Compétiteurs</div></div></div><div class="gskiepreuves-links"><ul><
 li><a href="https://skivosges.net/index.php?option=com_jevents&task=icaleve
 nt.detail&evid=1605&Itemid=6289">Voir les informations dans l'agenda...</a>
 </li></ul></div><div class="gski-evenement-epreuves"><div class="gski-evene
 ment-epreuves-titres">Epreuves :</div><ul class="gski-evenement-epreuves-li
 st"><li><div class="gski-epreuve-date">Le samedi 20 février 2021</div><ul c
 lass="gski-epreuve-liste-infos"><li>Codex épreuve AMVM0451</li><li>Slalom G
 eant</li><li>Catégorie(s) : U14 (Garçons)</li></ul></li><li><div class="gsk
 i-epreuve-date">Le samedi 20 février 2021</div><ul class="gski-epreuve-list
 e-infos"><li>Codex épreuve AMVF0451</li><li>Slalom Geant</li><li>Catégorie(
 s) : U14 (Filles)</li></ul></li></ul></div><div class="gskiepreuves-links">
 <ul><li><a href="https://skivosges.net/index.php?option=com_jevents&task=ic
 alevent.detail&evid=1605&Itemid=6289">Voir les informations dans l'agenda..
 .</a></li></ul></div></div"><!-- #/gskiepreuve fin du dode généré par le pl
 ugin jevents pour GskiEpreuves. . Ne pas modifier cette ligne, ni tout le c
 ontenu précedant.  #/gskiepreuve --> <a href="https://skivosges.net/agenda/
 a-venir/detailevenement/1610/-/cjm-coupe-dargent-u14-coupe-de-credit-mutuel
 -gerardmer?tmpl=component">Cet évènement a été importé depuis :https://skiv
 osges.net/agenda/a-venir/detailevenement/1610/-/cjm-coupe-dargent-u14-coupe
 -de-credit-mutuel-gerardmer?tmpl=component</a>DTSTAMP:20260421T015554
DTSTART;TZID=Europe/Paris;VALUE=DATE:20210220
DTEND;TZID=Europe/Paris;VALUE=DATE:20210221
SEQUENCE:0
TRANSP:OPAQUE
END:VEVENT
END:VCALENDAR