BEGIN:VCALENDAR
VERSION:2.0
PRODID:-//jEvents 2.0 for Joomla//EN
CALSCALE:GREGORIAN
METHOD:PUBLISH
BEGIN:VTIMEZONE
TZID:Europe/Paris
BEGIN:STANDARD
DTSTART:20200228T000000
RDATE:20200329T030000
TZOFFSETFROM:+0200
TZOFFSETTO:+0100
TZNAME:Europe/Paris CET
END:STANDARD
BEGIN:STANDARD
DTSTART:20201025T020000
RDATE:20210328T030000
TZOFFSETFROM:+0200
TZOFFSETTO:+0100
TZNAME:Europe/Paris CET
END:STANDARD
BEGIN:STANDARD
DTSTART:20211031T020000
RDATE:20220327T030000
TZOFFSETFROM:+0200
TZOFFSETTO:+0100
TZNAME:Europe/Paris CET
END:STANDARD
BEGIN:STANDARD
DTSTART:20221030T020000
RDATE:20230326T030000
TZOFFSETFROM:+0200
TZOFFSETTO:+0100
TZNAME:Europe/Paris CET
END:STANDARD
BEGIN:STANDARD
DTSTART:20231029T020000
RDATE:20240331T030000
TZOFFSETFROM:+0200
TZOFFSETTO:+0100
TZNAME:Europe/Paris CET
END:STANDARD
BEGIN:STANDARD
DTSTART:20241027T020000
RDATE:20250330T030000
TZOFFSETFROM:+0200
TZOFFSETTO:+0100
TZNAME:Europe/Paris CET
END:STANDARD
BEGIN:STANDARD
DTSTART:20251026T020000
RDATE:20260329T030000
TZOFFSETFROM:+0200
TZOFFSETTO:+0100
TZNAME:Europe/Paris CET
END:STANDARD
BEGIN:STANDARD
DTSTART:20261025T020000
RDATE:20270328T030000
TZOFFSETFROM:+0200
TZOFFSETTO:+0100
TZNAME:Europe/Paris CET
END:STANDARD
BEGIN:DAYLIGHT
DTSTART:20200329T030000
RDATE:20201025T020000
TZOFFSETFROM:+0100
TZOFFSETTO:+0200
TZNAME:Europe/Paris CEST
END:DAYLIGHT
BEGIN:DAYLIGHT
DTSTART:20210328T030000
RDATE:20211031T020000
TZOFFSETFROM:+0100
TZOFFSETTO:+0200
TZNAME:Europe/Paris CEST
END:DAYLIGHT
BEGIN:DAYLIGHT
DTSTART:20220327T030000
RDATE:20221030T020000
TZOFFSETFROM:+0100
TZOFFSETTO:+0200
TZNAME:Europe/Paris CEST
END:DAYLIGHT
BEGIN:DAYLIGHT
DTSTART:20230326T030000
RDATE:20231029T020000
TZOFFSETFROM:+0100
TZOFFSETTO:+0200
TZNAME:Europe/Paris CEST
END:DAYLIGHT
BEGIN:DAYLIGHT
DTSTART:20240331T030000
RDATE:20241027T020000
TZOFFSETFROM:+0100
TZOFFSETTO:+0200
TZNAME:Europe/Paris CEST
END:DAYLIGHT
BEGIN:DAYLIGHT
DTSTART:20250330T030000
RDATE:20251026T020000
TZOFFSETFROM:+0100
TZOFFSETTO:+0200
TZNAME:Europe/Paris CEST
END:DAYLIGHT
BEGIN:DAYLIGHT
DTSTART:20260329T030000
RDATE:20261025T020000
TZOFFSETFROM:+0100
TZOFFSETTO:+0200
TZNAME:Europe/Paris CEST
END:DAYLIGHT
END:VTIMEZONE
BEGIN:VEVENT
UID:55cca3c0bf2365b34d8c10ee07ce24f0
CATEGORIES:Circuit Alsace Jeunes (alpin)
CREATED:20201221T154518
SUMMARY:CJA Coupe de Bronze
URL;VALUE=URI:https://skivosges.net/agenda/a-venir/detailevenement/1618/-/cja-coupe-de-br
 onze?tmpl=component
DESCRIPTION:<!-- #gskiepreuve code généré par le plugin jevents pour GskiEpreuves. Ne p
 as modifier cette ligne, ni tout le contenu suivant  #gskiepreuve --><div c
 lass="gski-evenement_infos"><div class="gski-evenement-nom">CJA Coupe de Br
 onze</div><div class="gski-evenement-report"></div><ul class="gski-evenemen
 t-liste-infos"><li>Codex évenement AMVT0510</li><li>Station : BALLON D'ALSA
 CE</li><li>Organisateur : 14004 STE SKI TOURISME MONTAGNE</li><li>Courriel 
 : <!-- Cette adresse électronique est protégée contre les robots spammeurs.
  --><span class="cloaked_email ep_c179545e"><span data-ep-a="&#106;&#103;&#
 104;" data-ep-b=""><span data-ep-b="&#114;" data-ep-a="&#64;ci"><span data-
 ep-a="&#116;&#101;l" data-ep-b="&#101;&#46;&#102;"></span></span></span></s
 pan><script>RegularLabs.EmailProtector.unCloak("ep_c179545e");</script></li
 ><li>Téléphone : 0384901720</li><li><span class="gski-evenement-obs">Délégu
 é Technique : PETER MARTINE</span></li></ul><div class="gski-evenement-info
 s-2"><div class="gski-evenement-info-inscriptions"><div class="gski-eveneme
 nt-inscriptions-periodes">Période d'inscription à l'evènement du dimanche 2
 1 février 2021 à 01:00 au vendredi 26 février 2021 à 13:00 <span class="gsk
 i-evenement-inscriptions-impossibles">(Inscriptions impossibles).</span><di
 v class="gski-evenement-inscriptions-types-titres">Inscriptions ouvertes au
 x detenteurs des titres Fédéraux valides suivants : Licenciés Compétiteurs<
 /div></div></div><div class="gskiepreuves-links"><ul><li><a href="/index.ph
 p?option=com_jevents&task=icalevent.detail&evid=1613&Itemid=6289">Voir les 
 informations dans l'agenda...</a></li></ul></div><div class="gski-evenement
 -epreuves"><div class="gski-evenement-epreuves-titres">Epreuves :</div><ul 
 class="gski-evenement-epreuves-list"><li><div class="gski-epreuve-date">Le 
 dimanche 28 février 2021</div><ul class="gski-epreuve-liste-infos"><li>Code
 x épreuve AMVM0511</li><li>Slalom</li><li>Catégorie(s) : U8/U10 (Garçons)</
 li></ul></li><li><div class="gski-epreuve-date">Le dimanche 28 février 2021
 </div><ul class="gski-epreuve-liste-infos"><li>Codex épreuve AMVF0511</li><
 li>Slalom</li><li>Catégorie(s) : U8/U10 (Filles)</li></ul></li><li><div cla
 ss="gski-epreuve-date">Le dimanche 28 février 2021</div><ul class="gski-epr
 euve-liste-infos"><li>Codex épreuve AMVM0512</li><li>Slalom</li><li>Catégor
 ie(s) : U12/U14 (Garçons)</li></ul></li><li><div class="gski-epreuve-date">
 Le dimanche 28 février 2021</div><ul class="gski-epreuve-liste-infos"><li>C
 odex épreuve AMVF0512</li><li>Slalom</li><li>Catégorie(s) : U12/U14 (Filles
 )</li></ul></li></ul></div><div class="gskiepreuves-links"><ul><li><a href=
 "/index.php?option=com_jevents&task=icalevent.detail&evid=1613&Itemid=6289"
 >Voir les informations dans l'agenda...</a></li></ul></div></div"><!-- #/gs
 kiepreuve fin du dode généré par le plugin jevents pour GskiEpreuves. . Ne 
 pas modifier cette ligne, ni tout le contenu précedant.  #/gskiepreuve --> 
 <a href="https://skivosges.net/agenda/a-venir/detailevenement/1618/-/cja-co
 upe-de-bronze?tmpl=component">Cet évènement a été importé depuis :https://s
 kivosges.net/agenda/a-venir/detailevenement/1618/-/cja-coupe-de-bronze?tmpl
 =component</a>
X-ALT-DESC;FMTTYPE=text/html:<!-- #gskiepreuve code généré par le plugin jevents pour GskiEpreuves. Ne p
 as modifier cette ligne, ni tout le contenu suivant  #gskiepreuve --><div c
 lass="gski-evenement_infos"><div class="gski-evenement-nom">CJA Coupe de Br
 onze</div><div class="gski-evenement-report"></div><ul class="gski-evenemen
 t-liste-infos"><li>Codex évenement AMVT0510</li><li>Station : BALLON D'ALSA
 CE</li><li>Organisateur : 14004 STE SKI TOURISME MONTAGNE</li><li>Courriel 
 : <!-- Cette adresse électronique est protégée contre les robots spammeurs.
  --><span class="cloaked_email ep_c179545e"><span data-ep-a="&#106;&#103;&#
 104;" data-ep-b=""><span data-ep-b="&#114;" data-ep-a="&#64;ci"><span data-
 ep-a="&#116;&#101;l" data-ep-b="&#101;&#46;&#102;"></span></span></span></s
 pan><script>RegularLabs.EmailProtector.unCloak("ep_c179545e");</script></li
 ><li>Téléphone : 0384901720</li><li><span class="gski-evenement-obs">Délégu
 é Technique : PETER MARTINE</span></li></ul><div class="gski-evenement-info
 s-2"><div class="gski-evenement-info-inscriptions"><div class="gski-eveneme
 nt-inscriptions-periodes">Période d'inscription à l'evènement du dimanche 2
 1 février 2021 à 01:00 au vendredi 26 février 2021 à 13:00 <span class="gsk
 i-evenement-inscriptions-impossibles">(Inscriptions impossibles).</span><di
 v class="gski-evenement-inscriptions-types-titres">Inscriptions ouvertes au
 x detenteurs des titres Fédéraux valides suivants : Licenciés Compétiteurs<
 /div></div></div><div class="gskiepreuves-links"><ul><li><a href="https://s
 kivosges.net/index.php?option=com_jevents&task=icalevent.detail&evid=1613&I
 temid=6289">Voir les informations dans l'agenda...</a></li></ul></div><div 
 class="gski-evenement-epreuves"><div class="gski-evenement-epreuves-titres"
 >Epreuves :</div><ul class="gski-evenement-epreuves-list"><li><div class="g
 ski-epreuve-date">Le dimanche 28 février 2021</div><ul class="gski-epreuve-
 liste-infos"><li>Codex épreuve AMVM0511</li><li>Slalom</li><li>Catégorie(s)
  : U8/U10 (Garçons)</li></ul></li><li><div class="gski-epreuve-date">Le dim
 anche 28 février 2021</div><ul class="gski-epreuve-liste-infos"><li>Codex é
 preuve AMVF0511</li><li>Slalom</li><li>Catégorie(s) : U8/U10 (Filles)</li><
 /ul></li><li><div class="gski-epreuve-date">Le dimanche 28 février 2021</di
 v><ul class="gski-epreuve-liste-infos"><li>Codex épreuve AMVM0512</li><li>S
 lalom</li><li>Catégorie(s) : U12/U14 (Garçons)</li></ul></li><li><div class
 ="gski-epreuve-date">Le dimanche 28 février 2021</div><ul class="gski-epreu
 ve-liste-infos"><li>Codex épreuve AMVF0512</li><li>Slalom</li><li>Catégorie
 (s) : U12/U14 (Filles)</li></ul></li></ul></div><div class="gskiepreuves-li
 nks"><ul><li><a href="https://skivosges.net/index.php?option=com_jevents&ta
 sk=icalevent.detail&evid=1613&Itemid=6289">Voir les informations dans l'age
 nda...</a></li></ul></div></div"><!-- #/gskiepreuve fin du dode généré par 
 le plugin jevents pour GskiEpreuves. . Ne pas modifier cette ligne, ni tout
  le contenu précedant.  #/gskiepreuve --> <a href="https://skivosges.net/ag
 enda/a-venir/detailevenement/1618/-/cja-coupe-de-bronze?tmpl=component">Cet
  évènement a été importé depuis :https://skivosges.net/agenda/a-venir/detai
 levenement/1618/-/cja-coupe-de-bronze?tmpl=component</a>DTSTAMP:20260421T051502
DTSTART;TZID=Europe/Paris;VALUE=DATE:20210228
DTEND;TZID=Europe/Paris;VALUE=DATE:20210301
SEQUENCE:0
TRANSP:OPAQUE
END:VEVENT
END:VCALENDAR