BEGIN:VCALENDAR
VERSION:2.0
PRODID:-//jEvents 2.0 for Joomla//EN
CALSCALE:GREGORIAN
METHOD:PUBLISH
BEGIN:VTIMEZONE
TZID:Europe/Paris
BEGIN:STANDARD
DTSTART:20130301T080000
RDATE:20130331T030000
TZOFFSETFROM:+0200
TZOFFSETTO:+0100
TZNAME:Europe/Paris CET
END:STANDARD
BEGIN:STANDARD
DTSTART:20131027T020000
RDATE:20140330T030000
TZOFFSETFROM:+0200
TZOFFSETTO:+0100
TZNAME:Europe/Paris CET
END:STANDARD
BEGIN:STANDARD
DTSTART:20141026T020000
RDATE:20150329T030000
TZOFFSETFROM:+0200
TZOFFSETTO:+0100
TZNAME:Europe/Paris CET
END:STANDARD
BEGIN:STANDARD
DTSTART:20151025T020000
RDATE:20160327T030000
TZOFFSETFROM:+0200
TZOFFSETTO:+0100
TZNAME:Europe/Paris CET
END:STANDARD
BEGIN:STANDARD
DTSTART:20161030T020000
RDATE:20170326T030000
TZOFFSETFROM:+0200
TZOFFSETTO:+0100
TZNAME:Europe/Paris CET
END:STANDARD
BEGIN:STANDARD
DTSTART:20171029T020000
RDATE:20180325T030000
TZOFFSETFROM:+0200
TZOFFSETTO:+0100
TZNAME:Europe/Paris CET
END:STANDARD
BEGIN:STANDARD
DTSTART:20181028T020000
RDATE:20190331T030000
TZOFFSETFROM:+0200
TZOFFSETTO:+0100
TZNAME:Europe/Paris CET
END:STANDARD
BEGIN:STANDARD
DTSTART:20191027T020000
RDATE:20200329T030000
TZOFFSETFROM:+0200
TZOFFSETTO:+0100
TZNAME:Europe/Paris CET
END:STANDARD
BEGIN:STANDARD
DTSTART:20201025T020000
RDATE:20210328T030000
TZOFFSETFROM:+0200
TZOFFSETTO:+0100
TZNAME:Europe/Paris CET
END:STANDARD
BEGIN:STANDARD
DTSTART:20211031T020000
RDATE:20220327T030000
TZOFFSETFROM:+0200
TZOFFSETTO:+0100
TZNAME:Europe/Paris CET
END:STANDARD
BEGIN:STANDARD
DTSTART:20221030T020000
RDATE:20230326T030000
TZOFFSETFROM:+0200
TZOFFSETTO:+0100
TZNAME:Europe/Paris CET
END:STANDARD
BEGIN:STANDARD
DTSTART:20231029T020000
RDATE:20240331T030000
TZOFFSETFROM:+0200
TZOFFSETTO:+0100
TZNAME:Europe/Paris CET
END:STANDARD
BEGIN:STANDARD
DTSTART:20241027T020000
RDATE:20250330T030000
TZOFFSETFROM:+0200
TZOFFSETTO:+0100
TZNAME:Europe/Paris CET
END:STANDARD
BEGIN:STANDARD
DTSTART:20251026T020000
RDATE:20260329T030000
TZOFFSETFROM:+0200
TZOFFSETTO:+0100
TZNAME:Europe/Paris CET
END:STANDARD
BEGIN:STANDARD
DTSTART:20261025T020000
RDATE:20270328T030000
TZOFFSETFROM:+0200
TZOFFSETTO:+0100
TZNAME:Europe/Paris CET
END:STANDARD
BEGIN:DAYLIGHT
DTSTART:20130331T030000
RDATE:20131027T020000
TZOFFSETFROM:+0100
TZOFFSETTO:+0200
TZNAME:Europe/Paris CEST
END:DAYLIGHT
BEGIN:DAYLIGHT
DTSTART:20140330T030000
RDATE:20141026T020000
TZOFFSETFROM:+0100
TZOFFSETTO:+0200
TZNAME:Europe/Paris CEST
END:DAYLIGHT
BEGIN:DAYLIGHT
DTSTART:20150329T030000
RDATE:20151025T020000
TZOFFSETFROM:+0100
TZOFFSETTO:+0200
TZNAME:Europe/Paris CEST
END:DAYLIGHT
BEGIN:DAYLIGHT
DTSTART:20160327T030000
RDATE:20161030T020000
TZOFFSETFROM:+0100
TZOFFSETTO:+0200
TZNAME:Europe/Paris CEST
END:DAYLIGHT
BEGIN:DAYLIGHT
DTSTART:20170326T030000
RDATE:20171029T020000
TZOFFSETFROM:+0100
TZOFFSETTO:+0200
TZNAME:Europe/Paris CEST
END:DAYLIGHT
BEGIN:DAYLIGHT
DTSTART:20180325T030000
RDATE:20181028T020000
TZOFFSETFROM:+0100
TZOFFSETTO:+0200
TZNAME:Europe/Paris CEST
END:DAYLIGHT
BEGIN:DAYLIGHT
DTSTART:20190331T030000
RDATE:20191027T020000
TZOFFSETFROM:+0100
TZOFFSETTO:+0200
TZNAME:Europe/Paris CEST
END:DAYLIGHT
BEGIN:DAYLIGHT
DTSTART:20200329T030000
RDATE:20201025T020000
TZOFFSETFROM:+0100
TZOFFSETTO:+0200
TZNAME:Europe/Paris CEST
END:DAYLIGHT
BEGIN:DAYLIGHT
DTSTART:20210328T030000
RDATE:20211031T020000
TZOFFSETFROM:+0100
TZOFFSETTO:+0200
TZNAME:Europe/Paris CEST
END:DAYLIGHT
BEGIN:DAYLIGHT
DTSTART:20220327T030000
RDATE:20221030T020000
TZOFFSETFROM:+0100
TZOFFSETTO:+0200
TZNAME:Europe/Paris CEST
END:DAYLIGHT
BEGIN:DAYLIGHT
DTSTART:20230326T030000
RDATE:20231029T020000
TZOFFSETFROM:+0100
TZOFFSETTO:+0200
TZNAME:Europe/Paris CEST
END:DAYLIGHT
BEGIN:DAYLIGHT
DTSTART:20240331T030000
RDATE:20241027T020000
TZOFFSETFROM:+0100
TZOFFSETTO:+0200
TZNAME:Europe/Paris CEST
END:DAYLIGHT
BEGIN:DAYLIGHT
DTSTART:20250330T030000
RDATE:20251026T020000
TZOFFSETFROM:+0100
TZOFFSETTO:+0200
TZNAME:Europe/Paris CEST
END:DAYLIGHT
BEGIN:DAYLIGHT
DTSTART:20260329T030000
RDATE:20261025T020000
TZOFFSETFROM:+0100
TZOFFSETTO:+0200
TZNAME:Europe/Paris CEST
END:DAYLIGHT
END:VTIMEZONE
BEGIN:VEVENT
UID:64f0ad7bc11312433f5b667edf572713
CATEGORIES:Opens et Promos (alpin)
CREATED:20131203T122100
SUMMARY:PROMO J     Les Dimanches de la Glisse/Challenge des Téléski du Champ du Feu **REPORTE**
URL;VALUE=URI:https://skivosges.net/agenda/a-venir/detailevenement/162/-/promo-j-les-dima
 nches-de-la-glisse-challenge-des-teleski-du-champ-du-feu-reporte?tmpl=compo
 nent
DESCRIPTION:PROMO J     Les Dimanches de la Glisse/Challenge des Téléski du Champ du Fe
 u (Epreuve reportée, date à determiner)\n\nLieu : CHAMP DU FEU \nOrganisate
 ur : A.S DES CHEMINOTS STRASBOURG  (14071 A.S DES CHEMINOTS STRASBOURG)\nEm
 ail : RegularLabs.EmailProtector.unCloak("ep_fddaac2d");\n - AMVF0651  Slal
 om Geant U8 Filles\n  PROMO J     Les Dimanches de la Glisse/Challenge des 
 Téléski du Champ du Feu\n - AMVM0651  Slalom Geant U8 Garçons\n  PROMO J   
   Les Dimanches de la Glisse/Challenge des Téléski du Champ du Feu\n - AMVF
 0652  Slalom Geant de 8 a 15ans au 31/12/2012(Mic a Min) Filles\n  PROMO J 
     Les Dimanches de la Glisse/Challenge des Téléski du Champ du Feu\n - AM
 VM0652  Slalom Geant de 8 a 15ans au 31/12/2012(Mic a Min) Garçons\n  PROMO
  J     Les Dimanches de la Glisse/Challenge des Téléski du Champ du Feu Cet
  évènement a été importé depuis :https://skivosges.net/agenda/a-venir/detai
 levenement/162/-/promo-j-les-dimanches-de-la-glisse-challenge-des-teleski-d
 u-champ-du-feu-reporte?tmpl=component
X-ALT-DESC;FMTTYPE=text/html:<strong>PROMO J     Les Dimanches de la Glisse/Challenge des Téléski du Cha
 mp du Feu</strong> <font class="attention4">(Epreuve reportée, date à deter
 miner)</font><br /><br />Lieu : CHAMP DU FEU <br />Organisateur : A.S DES C
 HEMINOTS STRASBOURG  <small>(14071 A.S DES CHEMINOTS STRASBOURG)</small><br
  />Email : <!-- Cette adresse électronique est protégée contre les robots s
 pammeurs. --><span class="cloaked_email ep_fddaac2d"><span data-ep-b="" dat
 a-ep-a="&#104;&#101;r&#118;&#101;"><span data-ep-b="&#101;.&#110;&#101;&#11
 6;" data-ep-a="&#46;&#98;&#114;&#105;&#103;"><span data-ep-b="&#97;&#112;&#
 111;&#115;&#116;" data-ep-a="n&#111;n&#64;l"></span></span></span></span><s
 cript>RegularLabs.EmailProtector.unCloak("ep_fddaac2d");</script><ul type="
 disc"><li>AMVF0651  Slalom Geant <nobr>U8</nobr> Filles<br />&nbsp;&nbsp;PR
 OMO J     Les Dimanches de la Glisse/Challenge des Téléski du Champ du Feu<
 /li><li>AMVM0651  Slalom Geant <nobr>U8</nobr> Garçons<br />&nbsp;&nbsp;PRO
 MO J     Les Dimanches de la Glisse/Challenge des Téléski du Champ du Feu</
 li><li>AMVF0652  Slalom Geant <nobr>de 8 a 15ans au 31/12/2012(Mic a Min)</
 nobr> Filles<br />&nbsp;&nbsp;PROMO J     Les Dimanches de la Glisse/Challe
 nge des Téléski du Champ du Feu</li><li>AMVM0652  Slalom Geant <nobr>de 8 a
  15ans au 31/12/2012(Mic a Min)</nobr> Garçons<br />&nbsp;&nbsp;PROMO J    
  Les Dimanches de la Glisse/Challenge des Téléski du Champ du Feu</li></ul>
  <a href="https://skivosges.net/agenda/a-venir/detailevenement/162/-/promo-
 j-les-dimanches-de-la-glisse-challenge-des-teleski-du-champ-du-feu-reporte?
 tmpl=component">Cet évènement a été importé depuis :https://skivosges.net/a
 genda/a-venir/detailevenement/162/-/promo-j-les-dimanches-de-la-glisse-chal
 lenge-des-teleski-du-champ-du-feu-reporte?tmpl=component</a>DTSTAMP:20260424T011225
DTSTART;TZID=Europe/Paris:20140302T080000
DTEND;TZID=Europe/Paris:20140302T170000
SEQUENCE:0
TRANSP:OPAQUE
END:VEVENT
END:VCALENDAR