BEGIN:VCALENDAR
VERSION:2.0
PRODID:-//jEvents 2.0 for Joomla//EN
CALSCALE:GREGORIAN
METHOD:PUBLISH
BEGIN:VTIMEZONE
TZID:Europe/Paris
BEGIN:STANDARD
DTSTART:20200305T000000
RDATE:20200329T030000
TZOFFSETFROM:+0200
TZOFFSETTO:+0100
TZNAME:Europe/Paris CET
END:STANDARD
BEGIN:STANDARD
DTSTART:20201025T020000
RDATE:20210328T030000
TZOFFSETFROM:+0200
TZOFFSETTO:+0100
TZNAME:Europe/Paris CET
END:STANDARD
BEGIN:STANDARD
DTSTART:20211031T020000
RDATE:20220327T030000
TZOFFSETFROM:+0200
TZOFFSETTO:+0100
TZNAME:Europe/Paris CET
END:STANDARD
BEGIN:STANDARD
DTSTART:20221030T020000
RDATE:20230326T030000
TZOFFSETFROM:+0200
TZOFFSETTO:+0100
TZNAME:Europe/Paris CET
END:STANDARD
BEGIN:STANDARD
DTSTART:20231029T020000
RDATE:20240331T030000
TZOFFSETFROM:+0200
TZOFFSETTO:+0100
TZNAME:Europe/Paris CET
END:STANDARD
BEGIN:STANDARD
DTSTART:20241027T020000
RDATE:20250330T030000
TZOFFSETFROM:+0200
TZOFFSETTO:+0100
TZNAME:Europe/Paris CET
END:STANDARD
BEGIN:STANDARD
DTSTART:20251026T020000
RDATE:20260329T030000
TZOFFSETFROM:+0200
TZOFFSETTO:+0100
TZNAME:Europe/Paris CET
END:STANDARD
BEGIN:STANDARD
DTSTART:20261025T020000
RDATE:20270328T030000
TZOFFSETFROM:+0200
TZOFFSETTO:+0100
TZNAME:Europe/Paris CET
END:STANDARD
BEGIN:DAYLIGHT
DTSTART:20200329T030000
RDATE:20201025T020000
TZOFFSETFROM:+0100
TZOFFSETTO:+0200
TZNAME:Europe/Paris CEST
END:DAYLIGHT
BEGIN:DAYLIGHT
DTSTART:20210328T030000
RDATE:20211031T020000
TZOFFSETFROM:+0100
TZOFFSETTO:+0200
TZNAME:Europe/Paris CEST
END:DAYLIGHT
BEGIN:DAYLIGHT
DTSTART:20220327T030000
RDATE:20221030T020000
TZOFFSETFROM:+0100
TZOFFSETTO:+0200
TZNAME:Europe/Paris CEST
END:DAYLIGHT
BEGIN:DAYLIGHT
DTSTART:20230326T030000
RDATE:20231029T020000
TZOFFSETFROM:+0100
TZOFFSETTO:+0200
TZNAME:Europe/Paris CEST
END:DAYLIGHT
BEGIN:DAYLIGHT
DTSTART:20240331T030000
RDATE:20241027T020000
TZOFFSETFROM:+0100
TZOFFSETTO:+0200
TZNAME:Europe/Paris CEST
END:DAYLIGHT
BEGIN:DAYLIGHT
DTSTART:20250330T030000
RDATE:20251026T020000
TZOFFSETFROM:+0100
TZOFFSETTO:+0200
TZNAME:Europe/Paris CEST
END:DAYLIGHT
BEGIN:DAYLIGHT
DTSTART:20260329T030000
RDATE:20261025T020000
TZOFFSETFROM:+0100
TZOFFSETTO:+0200
TZNAME:Europe/Paris CEST
END:DAYLIGHT
END:VTIMEZONE
BEGIN:VEVENT
UID:a24fdec8249237487d25531aa7a7536a
CATEGORIES:Compétition Ski Alpin
CREATED:20201221T154538
SUMMARY:CHP DEPART 90 (LIC90)
URL;VALUE=URI:https://skivosges.net/agenda/a-venir/detailevenement/1622/-/chp-depart-90-l
 ic90?tmpl=component
DESCRIPTION:<!-- #gskiepreuve code généré par le plugin jevents pour GskiEpreuves. Ne p
 as modifier cette ligne, ni tout le contenu suivant  #gskiepreuve --><div c
 lass="gski-evenement_infos"><div class="gski-evenement-nom">CHP DEPART 90 (
 LIC90)</div><div class="gski-evenement-report"></div><ul class="gski-evenem
 ent-liste-infos"><li>Codex évenement AMVT0520</li><li>Station : BALLON D'AL
 SACE</li><li>Organisateur : 14004 STE SKI TOURISME MONTAGNE</li><li>Courrie
 l : <!-- Cette adresse électronique est protégée contre les robots spammeur
 s. --><span class="cloaked_email ep_0a771ae0"><span data-ep-a="jg&#104;" da
 ta-ep-b=""><span data-ep-b="&#114;" data-ep-a="&#64;&#99;&#105;"><span data
 -ep-b="&#101;.&#102;" data-ep-a="&#116;&#101;&#108;"></span></span></span><
 /span><script>RegularLabs.EmailProtector.unCloak("ep_0a771ae0");</script></
 li><li>Téléphone : 0384901720</li><li><span class="gski-evenement-obs">Délé
 gué Technique : L'EPINGLE JEAN CLAUDE</span></li></ul><div class="gski-even
 ement-infos-2"><div class="gski-evenement-info-inscriptions"><div class="gs
 ki-evenement-inscriptions-periodes">Période d'inscription à l'evènement du 
 samedi 27 février 2021 à 01:00 au jeudi 04 mars 2021 à 13:00 <span class="g
 ski-evenement-inscriptions-impossibles">(Inscriptions impossibles).</span><
 div class="gski-evenement-inscriptions-types-titres">Inscriptions ouvertes 
 aux detenteurs des titres Fédéraux valides suivants : Licenciés Compétiteur
 s</div></div></div><div class="gskiepreuves-links"><ul><li><a href="/index.
 php?option=com_jevents&task=icalevent.detail&evid=1617&Itemid=6289">Voir le
 s informations dans l'agenda...</a></li></ul></div><div class="gski-eveneme
 nt-epreuves"><div class="gski-evenement-epreuves-titres">Epreuves :</div><u
 l class="gski-evenement-epreuves-list"><li><div class="gski-epreuve-date">L
 e samedi 06 mars 2021</div><ul class="gski-epreuve-liste-infos"><li>Codex é
 preuve AMVM0521</li><li>Slalom Geant</li><li>Catégorie(s) : U8/U10 (Garçons
 )</li></ul></li><li><div class="gski-epreuve-date">Le samedi 06 mars 2021</
 div><ul class="gski-epreuve-liste-infos"><li>Codex épreuve AMVF0521</li><li
 >Slalom Geant</li><li>Catégorie(s) : U8/U10 (Filles)</li></ul></li><li><div
  class="gski-epreuve-date">Le samedi 06 mars 2021</div><ul class="gski-epre
 uve-liste-infos"><li>Codex épreuve AMVM0522</li><li>Slalom Geant</li><li>Ca
 tégorie(s) : U12/U14 (Garçons)</li></ul></li><li><div class="gski-epreuve-d
 ate">Le samedi 06 mars 2021</div><ul class="gski-epreuve-liste-infos"><li>C
 odex épreuve AMVF0522</li><li>Slalom Geant</li><li>Catégorie(s) : U12/U14 (
 Filles)</li></ul></li></ul></div><div class="gskiepreuves-links"><ul><li><a
  href="/index.php?option=com_jevents&task=icalevent.detail&evid=1617&Itemid
 =6289">Voir les informations dans l'agenda...</a></li></ul></div></div"><!-
 - #/gskiepreuve fin du dode généré par le plugin jevents pour GskiEpreuves.
  . Ne pas modifier cette ligne, ni tout le contenu précedant.  #/gskiepreuv
 e --> <a href="https://skivosges.net/agenda/a-venir/detailevenement/1622/-/
 chp-depart-90-lic90?tmpl=component">Cet évènement a été importé depuis :htt
 ps://skivosges.net/agenda/a-venir/detailevenement/1622/-/chp-depart-90-lic9
 0?tmpl=component</a>
X-ALT-DESC;FMTTYPE=text/html:<!-- #gskiepreuve code généré par le plugin jevents pour GskiEpreuves. Ne p
 as modifier cette ligne, ni tout le contenu suivant  #gskiepreuve --><div c
 lass="gski-evenement_infos"><div class="gski-evenement-nom">CHP DEPART 90 (
 LIC90)</div><div class="gski-evenement-report"></div><ul class="gski-evenem
 ent-liste-infos"><li>Codex évenement AMVT0520</li><li>Station : BALLON D'AL
 SACE</li><li>Organisateur : 14004 STE SKI TOURISME MONTAGNE</li><li>Courrie
 l : <!-- Cette adresse électronique est protégée contre les robots spammeur
 s. --><span class="cloaked_email ep_0a771ae0"><span data-ep-a="jg&#104;" da
 ta-ep-b=""><span data-ep-b="&#114;" data-ep-a="&#64;&#99;&#105;"><span data
 -ep-b="&#101;.&#102;" data-ep-a="&#116;&#101;&#108;"></span></span></span><
 /span><script>RegularLabs.EmailProtector.unCloak("ep_0a771ae0");</script></
 li><li>Téléphone : 0384901720</li><li><span class="gski-evenement-obs">Délé
 gué Technique : L'EPINGLE JEAN CLAUDE</span></li></ul><div class="gski-even
 ement-infos-2"><div class="gski-evenement-info-inscriptions"><div class="gs
 ki-evenement-inscriptions-periodes">Période d'inscription à l'evènement du 
 samedi 27 février 2021 à 01:00 au jeudi 04 mars 2021 à 13:00 <span class="g
 ski-evenement-inscriptions-impossibles">(Inscriptions impossibles).</span><
 div class="gski-evenement-inscriptions-types-titres">Inscriptions ouvertes 
 aux detenteurs des titres Fédéraux valides suivants : Licenciés Compétiteur
 s</div></div></div><div class="gskiepreuves-links"><ul><li><a href="https:/
 /skivosges.net/index.php?option=com_jevents&task=icalevent.detail&evid=1617
 &Itemid=6289">Voir les informations dans l'agenda...</a></li></ul></div><di
 v class="gski-evenement-epreuves"><div class="gski-evenement-epreuves-titre
 s">Epreuves :</div><ul class="gski-evenement-epreuves-list"><li><div class=
 "gski-epreuve-date">Le samedi 06 mars 2021</div><ul class="gski-epreuve-lis
 te-infos"><li>Codex épreuve AMVM0521</li><li>Slalom Geant</li><li>Catégorie
 (s) : U8/U10 (Garçons)</li></ul></li><li><div class="gski-epreuve-date">Le 
 samedi 06 mars 2021</div><ul class="gski-epreuve-liste-infos"><li>Codex épr
 euve AMVF0521</li><li>Slalom Geant</li><li>Catégorie(s) : U8/U10 (Filles)</
 li></ul></li><li><div class="gski-epreuve-date">Le samedi 06 mars 2021</div
 ><ul class="gski-epreuve-liste-infos"><li>Codex épreuve AMVM0522</li><li>Sl
 alom Geant</li><li>Catégorie(s) : U12/U14 (Garçons)</li></ul></li><li><div 
 class="gski-epreuve-date">Le samedi 06 mars 2021</div><ul class="gski-epreu
 ve-liste-infos"><li>Codex épreuve AMVF0522</li><li>Slalom Geant</li><li>Cat
 égorie(s) : U12/U14 (Filles)</li></ul></li></ul></div><div class="gskiepreu
 ves-links"><ul><li><a href="https://skivosges.net/index.php?option=com_jeve
 nts&task=icalevent.detail&evid=1617&Itemid=6289">Voir les informations dans
  l'agenda...</a></li></ul></div></div"><!-- #/gskiepreuve fin du dode génér
 é par le plugin jevents pour GskiEpreuves. . Ne pas modifier cette ligne, n
 i tout le contenu précedant.  #/gskiepreuve --> <a href="https://skivosges.
 net/agenda/a-venir/detailevenement/1622/-/chp-depart-90-lic90?tmpl=componen
 t">Cet évènement a été importé depuis :https://skivosges.net/agenda/a-venir
 /detailevenement/1622/-/chp-depart-90-lic90?tmpl=component</a>DTSTAMP:20260421T051501
DTSTART;TZID=Europe/Paris;VALUE=DATE:20210306
DTEND;TZID=Europe/Paris;VALUE=DATE:20210307
SEQUENCE:0
TRANSP:OPAQUE
END:VEVENT
END:VCALENDAR