BEGIN:VCALENDAR
VERSION:2.0
PRODID:-//jEvents 2.0 for Joomla//EN
CALSCALE:GREGORIAN
METHOD:PUBLISH
BEGIN:VTIMEZONE
TZID:Europe/Paris
BEGIN:STANDARD
DTSTART:20200305T000000
RDATE:20200329T030000
TZOFFSETFROM:+0200
TZOFFSETTO:+0100
TZNAME:Europe/Paris CET
END:STANDARD
BEGIN:STANDARD
DTSTART:20201025T020000
RDATE:20210328T030000
TZOFFSETFROM:+0200
TZOFFSETTO:+0100
TZNAME:Europe/Paris CET
END:STANDARD
BEGIN:STANDARD
DTSTART:20211031T020000
RDATE:20220327T030000
TZOFFSETFROM:+0200
TZOFFSETTO:+0100
TZNAME:Europe/Paris CET
END:STANDARD
BEGIN:STANDARD
DTSTART:20221030T020000
RDATE:20230326T030000
TZOFFSETFROM:+0200
TZOFFSETTO:+0100
TZNAME:Europe/Paris CET
END:STANDARD
BEGIN:STANDARD
DTSTART:20231029T020000
RDATE:20240331T030000
TZOFFSETFROM:+0200
TZOFFSETTO:+0100
TZNAME:Europe/Paris CET
END:STANDARD
BEGIN:STANDARD
DTSTART:20241027T020000
RDATE:20250330T030000
TZOFFSETFROM:+0200
TZOFFSETTO:+0100
TZNAME:Europe/Paris CET
END:STANDARD
BEGIN:STANDARD
DTSTART:20251026T020000
RDATE:20260329T030000
TZOFFSETFROM:+0200
TZOFFSETTO:+0100
TZNAME:Europe/Paris CET
END:STANDARD
BEGIN:STANDARD
DTSTART:20261025T020000
RDATE:20270328T030000
TZOFFSETFROM:+0200
TZOFFSETTO:+0100
TZNAME:Europe/Paris CET
END:STANDARD
BEGIN:DAYLIGHT
DTSTART:20200329T030000
RDATE:20201025T020000
TZOFFSETFROM:+0100
TZOFFSETTO:+0200
TZNAME:Europe/Paris CEST
END:DAYLIGHT
BEGIN:DAYLIGHT
DTSTART:20210328T030000
RDATE:20211031T020000
TZOFFSETFROM:+0100
TZOFFSETTO:+0200
TZNAME:Europe/Paris CEST
END:DAYLIGHT
BEGIN:DAYLIGHT
DTSTART:20220327T030000
RDATE:20221030T020000
TZOFFSETFROM:+0100
TZOFFSETTO:+0200
TZNAME:Europe/Paris CEST
END:DAYLIGHT
BEGIN:DAYLIGHT
DTSTART:20230326T030000
RDATE:20231029T020000
TZOFFSETFROM:+0100
TZOFFSETTO:+0200
TZNAME:Europe/Paris CEST
END:DAYLIGHT
BEGIN:DAYLIGHT
DTSTART:20240331T030000
RDATE:20241027T020000
TZOFFSETFROM:+0100
TZOFFSETTO:+0200
TZNAME:Europe/Paris CEST
END:DAYLIGHT
BEGIN:DAYLIGHT
DTSTART:20250330T030000
RDATE:20251026T020000
TZOFFSETFROM:+0100
TZOFFSETTO:+0200
TZNAME:Europe/Paris CEST
END:DAYLIGHT
BEGIN:DAYLIGHT
DTSTART:20260329T030000
RDATE:20261025T020000
TZOFFSETFROM:+0100
TZOFFSETTO:+0200
TZNAME:Europe/Paris CEST
END:DAYLIGHT
END:VTIMEZONE
BEGIN:VEVENT
UID:4dd4031ca1d72c01ebe74c1436941691
CATEGORIES:Circuit Massif Masters (alpin)
CREATED:20201221T154549
SUMMARY:CMM  Esprit Racing Confiserie Géromoise
URL;VALUE=URI:https://skivosges.net/agenda/a-venir/detailevenement/1624/-/cmm-esprit-raci
 ng-confiserie-geromoise?tmpl=component
DESCRIPTION:<!-- #gskiepreuve code généré par le plugin jevents pour GskiEpreuves. Ne p
 as modifier cette ligne, ni tout le contenu suivant  #gskiepreuve --><div c
 lass="gski-evenement_infos"><div class="gski-evenement-nom">CMM  Esprit Rac
 ing Confiserie Géromoise</div><div class="gski-evenement-report"></div><ul 
 class="gski-evenement-liste-infos"><li>Codex évenement AMVT0530</li><li>Sta
 tion : LA BRESSE</li><li>Organisateur : 14024 LA BRESSAUDE SECTION SKI</li>
 <li>Courriel : <!-- Cette adresse électronique est protégée contre les robo
 ts spammeurs. --><span class="cloaked_email ep_ab18fbcf"><span data-ep-a="&
 #111;&#100;&#105;&#108;e" data-ep-b="&#102;&#114;"><span data-ep-b="a&#110;
 ge&#46;" data-ep-a="&#46;mu&#110;s"><span data-ep-b="&#108;&#98;&#64;&#111;
 r" data-ep-a="&#99;&#104;&#46;&#115;&#99;"></span></span></span></span><scr
 ipt>RegularLabs.EmailProtector.unCloak("ep_ab18fbcf");</script></li><li>Tél
 éphone : 0608855252</li><li><span class="gski-evenement-obs">Délégué Techni
 que : BANZET RICHARD</span></li></ul><div class="gski-evenement-infos-2"><d
 iv class="gski-evenement-info-inscriptions"><div class="gski-evenement-insc
 riptions-periodes">Période d'inscription à l'evènement du samedi 27 février
  2021 à 01:00 au jeudi 04 mars 2021 à 13:00 <span class="gski-evenement-ins
 criptions-impossibles">(Inscriptions impossibles).</span><div class="gski-e
 venement-inscriptions-types-titres">Inscriptions ouvertes aux detenteurs de
 s titres Fédéraux valides suivants : Licenciés Compétiteurs</div></div></di
 v><div class="gskiepreuves-links"><ul><li><a href="/index.php?option=com_je
 vents&task=icalevent.detail&evid=1619&Itemid=6289">Voir les informations da
 ns l'agenda...</a></li></ul></div><div class="gski-evenement-epreuves"><div
  class="gski-evenement-epreuves-titres">Epreuves :</div><ul class="gski-eve
 nement-epreuves-list"><li><div class="gski-epreuve-date">Le samedi 06 mars 
 2021</div><ul class="gski-epreuve-liste-infos"><li>Codex épreuve AMVM0531</
 li><li>Slalom Geant</li><li>Catégorie(s) : Tous les Masters+U21+U30 Hommes 
 (Hommes)</li></ul></li><li><div class="gski-epreuve-date">Le samedi 06 mars
  2021</div><ul class="gski-epreuve-liste-infos"><li>Codex épreuve AMVF0531<
 /li><li>Slalom Geant</li><li>Catégorie(s) : Tous les Masters+U21+U30 Dames 
 (Dames)</li></ul></li></ul></div><div class="gskiepreuves-links"><ul><li><a
  href="/index.php?option=com_jevents&task=icalevent.detail&evid=1619&Itemid
 =6289">Voir les informations dans l'agenda...</a></li></ul></div></div"><!-
 - #/gskiepreuve fin du dode généré par le plugin jevents pour GskiEpreuves.
  . Ne pas modifier cette ligne, ni tout le contenu précedant.  #/gskiepreuv
 e --> <a href="https://skivosges.net/agenda/a-venir/detailevenement/1624/-/
 cmm-esprit-racing-confiserie-geromoise?tmpl=component">Cet évènement a été 
 importé depuis :https://skivosges.net/agenda/a-venir/detailevenement/1624/-
 /cmm-esprit-racing-confiserie-geromoise?tmpl=component</a>
X-ALT-DESC;FMTTYPE=text/html:<!-- #gskiepreuve code généré par le plugin jevents pour GskiEpreuves. Ne p
 as modifier cette ligne, ni tout le contenu suivant  #gskiepreuve --><div c
 lass="gski-evenement_infos"><div class="gski-evenement-nom">CMM  Esprit Rac
 ing Confiserie Géromoise</div><div class="gski-evenement-report"></div><ul 
 class="gski-evenement-liste-infos"><li>Codex évenement AMVT0530</li><li>Sta
 tion : LA BRESSE</li><li>Organisateur : 14024 LA BRESSAUDE SECTION SKI</li>
 <li>Courriel : <!-- Cette adresse électronique est protégée contre les robo
 ts spammeurs. --><span class="cloaked_email ep_ab18fbcf"><span data-ep-a="&
 #111;&#100;&#105;&#108;e" data-ep-b="&#102;&#114;"><span data-ep-b="a&#110;
 ge&#46;" data-ep-a="&#46;mu&#110;s"><span data-ep-b="&#108;&#98;&#64;&#111;
 r" data-ep-a="&#99;&#104;&#46;&#115;&#99;"></span></span></span></span><scr
 ipt>RegularLabs.EmailProtector.unCloak("ep_ab18fbcf");</script></li><li>Tél
 éphone : 0608855252</li><li><span class="gski-evenement-obs">Délégué Techni
 que : BANZET RICHARD</span></li></ul><div class="gski-evenement-infos-2"><d
 iv class="gski-evenement-info-inscriptions"><div class="gski-evenement-insc
 riptions-periodes">Période d'inscription à l'evènement du samedi 27 février
  2021 à 01:00 au jeudi 04 mars 2021 à 13:00 <span class="gski-evenement-ins
 criptions-impossibles">(Inscriptions impossibles).</span><div class="gski-e
 venement-inscriptions-types-titres">Inscriptions ouvertes aux detenteurs de
 s titres Fédéraux valides suivants : Licenciés Compétiteurs</div></div></di
 v><div class="gskiepreuves-links"><ul><li><a href="https://skivosges.net/in
 dex.php?option=com_jevents&task=icalevent.detail&evid=1619&Itemid=6289">Voi
 r les informations dans l'agenda...</a></li></ul></div><div class="gski-eve
 nement-epreuves"><div class="gski-evenement-epreuves-titres">Epreuves :</di
 v><ul class="gski-evenement-epreuves-list"><li><div class="gski-epreuve-dat
 e">Le samedi 06 mars 2021</div><ul class="gski-epreuve-liste-infos"><li>Cod
 ex épreuve AMVM0531</li><li>Slalom Geant</li><li>Catégorie(s) : Tous les Ma
 sters+U21+U30 Hommes (Hommes)</li></ul></li><li><div class="gski-epreuve-da
 te">Le samedi 06 mars 2021</div><ul class="gski-epreuve-liste-infos"><li>Co
 dex épreuve AMVF0531</li><li>Slalom Geant</li><li>Catégorie(s) : Tous les M
 asters+U21+U30 Dames (Dames)</li></ul></li></ul></div><div class="gskiepreu
 ves-links"><ul><li><a href="https://skivosges.net/index.php?option=com_jeve
 nts&task=icalevent.detail&evid=1619&Itemid=6289">Voir les informations dans
  l'agenda...</a></li></ul></div></div"><!-- #/gskiepreuve fin du dode génér
 é par le plugin jevents pour GskiEpreuves. . Ne pas modifier cette ligne, n
 i tout le contenu précedant.  #/gskiepreuve --> <a href="https://skivosges.
 net/agenda/a-venir/detailevenement/1624/-/cmm-esprit-racing-confiserie-gero
 moise?tmpl=component">Cet évènement a été importé depuis :https://skivosges
 .net/agenda/a-venir/detailevenement/1624/-/cmm-esprit-racing-confiserie-ger
 omoise?tmpl=component</a>DTSTAMP:20260421T051505
DTSTART;TZID=Europe/Paris;VALUE=DATE:20210306
DTEND;TZID=Europe/Paris;VALUE=DATE:20210307
SEQUENCE:0
TRANSP:OPAQUE
END:VEVENT
END:VCALENDAR