BEGIN:VCALENDAR
VERSION:2.0
PRODID:-//jEvents 2.0 for Joomla//EN
CALSCALE:GREGORIAN
METHOD:PUBLISH
BEGIN:VTIMEZONE
TZID:Europe/Paris
BEGIN:STANDARD
DTSTART:20200306T000000
RDATE:20200329T030000
TZOFFSETFROM:+0200
TZOFFSETTO:+0100
TZNAME:Europe/Paris CET
END:STANDARD
BEGIN:STANDARD
DTSTART:20201025T020000
RDATE:20210328T030000
TZOFFSETFROM:+0200
TZOFFSETTO:+0100
TZNAME:Europe/Paris CET
END:STANDARD
BEGIN:STANDARD
DTSTART:20211031T020000
RDATE:20220327T030000
TZOFFSETFROM:+0200
TZOFFSETTO:+0100
TZNAME:Europe/Paris CET
END:STANDARD
BEGIN:STANDARD
DTSTART:20221030T020000
RDATE:20230326T030000
TZOFFSETFROM:+0200
TZOFFSETTO:+0100
TZNAME:Europe/Paris CET
END:STANDARD
BEGIN:STANDARD
DTSTART:20231029T020000
RDATE:20240331T030000
TZOFFSETFROM:+0200
TZOFFSETTO:+0100
TZNAME:Europe/Paris CET
END:STANDARD
BEGIN:STANDARD
DTSTART:20241027T020000
RDATE:20250330T030000
TZOFFSETFROM:+0200
TZOFFSETTO:+0100
TZNAME:Europe/Paris CET
END:STANDARD
BEGIN:STANDARD
DTSTART:20251026T020000
RDATE:20260329T030000
TZOFFSETFROM:+0200
TZOFFSETTO:+0100
TZNAME:Europe/Paris CET
END:STANDARD
BEGIN:STANDARD
DTSTART:20261025T020000
RDATE:20270328T030000
TZOFFSETFROM:+0200
TZOFFSETTO:+0100
TZNAME:Europe/Paris CET
END:STANDARD
BEGIN:DAYLIGHT
DTSTART:20200329T030000
RDATE:20201025T020000
TZOFFSETFROM:+0100
TZOFFSETTO:+0200
TZNAME:Europe/Paris CEST
END:DAYLIGHT
BEGIN:DAYLIGHT
DTSTART:20210328T030000
RDATE:20211031T020000
TZOFFSETFROM:+0100
TZOFFSETTO:+0200
TZNAME:Europe/Paris CEST
END:DAYLIGHT
BEGIN:DAYLIGHT
DTSTART:20220327T030000
RDATE:20221030T020000
TZOFFSETFROM:+0100
TZOFFSETTO:+0200
TZNAME:Europe/Paris CEST
END:DAYLIGHT
BEGIN:DAYLIGHT
DTSTART:20230326T030000
RDATE:20231029T020000
TZOFFSETFROM:+0100
TZOFFSETTO:+0200
TZNAME:Europe/Paris CEST
END:DAYLIGHT
BEGIN:DAYLIGHT
DTSTART:20240331T030000
RDATE:20241027T020000
TZOFFSETFROM:+0100
TZOFFSETTO:+0200
TZNAME:Europe/Paris CEST
END:DAYLIGHT
BEGIN:DAYLIGHT
DTSTART:20250330T030000
RDATE:20251026T020000
TZOFFSETFROM:+0100
TZOFFSETTO:+0200
TZNAME:Europe/Paris CEST
END:DAYLIGHT
BEGIN:DAYLIGHT
DTSTART:20260329T030000
RDATE:20261025T020000
TZOFFSETFROM:+0100
TZOFFSETTO:+0200
TZNAME:Europe/Paris CEST
END:DAYLIGHT
END:VTIMEZONE
BEGIN:VEVENT
UID:f634bb9027f7cd8bd0a2b1a75a577979
CATEGORIES:Circuit Massif D2 (alpin)
CREATED:20201221T154720
SUMMARY:CD2 Coupe du CESA Haute-Thur
URL;VALUE=URI:https://skivosges.net/agenda/a-venir/detailevenement/1628/-/cd2-coupe-du-ce
 sa-haute-thur?tmpl=component
DESCRIPTION:<!-- #gskiepreuve code généré par le plugin jevents pour GskiEpreuves. Ne p
 as modifier cette ligne, ni tout le contenu suivant  #gskiepreuve --><div c
 lass="gski-evenement_infos"><div class="gski-evenement-nom">CD2 Coupe du CE
 SA Haute-Thur</div><div class="gski-evenement-report"></div><ul class="gski
 -evenement-liste-infos"><li>Codex évenement AMVT0580</li><li>Station : MARK
 STEIN</li><li>Organisateur : </li><li>Courriel : <!-- Cette adresse électro
 nique est protégée contre les robots spammeurs. --><span class="cloaked_ema
 il ep_2462bfa7"><span data-ep-b="" data-ep-a="&#109;a&#116;th"><span data-e
 p-b="&#103;&#101;&#46;f&#114;" data-ep-a="&#105;&#101;u&#46;&#103;"><span d
 ata-ep-a="&#101;&#114;&#114;&#101;&#114;" data-ep-b="&#64;&#111;ra&#110;"><
 /span></span></span></span><script>RegularLabs.EmailProtector.unCloak("ep_2
 462bfa7");</script></li><li><span class="gski-evenement-obs">Délégué Techni
 que : FUCHS MICHEL</span></li></ul><div class="gski-evenement-infos-2"><div
  class="gski-evenement-info-inscriptions"><div class="gski-evenement-inscri
 ptions-periodes">Période d'inscription à l'evènement du dimanche 28 février
  2021 à 01:00 au vendredi 05 mars 2021 à 13:00 <span class="gski-evenement-
 inscriptions-impossibles">(Inscriptions impossibles).</span><div class="gsk
 i-evenement-inscriptions-types-titres">Inscriptions ouvertes aux detenteurs
  des titres Fédéraux valides suivants : Licenciés Compétiteurs</div></div><
 /div><div class="gskiepreuves-links"><ul><li><a href="/index.php?option=com
 _jevents&task=icalevent.detail&evid=1623&Itemid=6289">Voir les informations
  dans l'agenda...</a></li></ul></div><div class="gski-evenement-epreuves"><
 div class="gski-evenement-epreuves-titres">Epreuves :</div><ul class="gski-
 evenement-epreuves-list"><li><div class="gski-epreuve-date">Le dimanche 07 
 mars 2021</div><ul class="gski-epreuve-liste-infos"><li>Codex épreuve AMVM0
 581</li><li>Slalom</li><li>Catégorie(s) : U16 (Garçons)</li></ul></li><li><
 div class="gski-epreuve-date">Le dimanche 07 mars 2021</div><ul class="gski
 -epreuve-liste-infos"><li>Codex épreuve AMVF0581</li><li>Slalom</li><li>Cat
 égorie(s) : U16 (Filles)</li></ul></li><li><div class="gski-epreuve-date">L
 e dimanche 07 mars 2021</div><ul class="gski-epreuve-liste-infos"><li>Codex
  épreuve AMVM0582</li><li>Slalom</li><li>Catégorie(s) : U18 a Masters (Homm
 es)</li></ul></li><li><div class="gski-epreuve-date">Le dimanche 07 mars 20
 21</div><ul class="gski-epreuve-liste-infos"><li>Codex épreuve AMVF0582</li
 ><li>Slalom</li><li>Catégorie(s) : U18 a Masters (Dames)</li></ul></li></ul
 ></div><div class="gskiepreuves-links"><ul><li><a href="/index.php?option=c
 om_jevents&task=icalevent.detail&evid=1623&Itemid=6289">Voir les informatio
 ns dans l'agenda...</a></li></ul></div></div"><!-- #/gskiepreuve fin du dod
 e généré par le plugin jevents pour GskiEpreuves. . Ne pas modifier cette l
 igne, ni tout le contenu précedant.  #/gskiepreuve --> <a href="https://ski
 vosges.net/agenda/a-venir/detailevenement/1628/-/cd2-coupe-du-cesa-haute-th
 ur?tmpl=component">Cet évènement a été importé depuis :https://skivosges.ne
 t/agenda/a-venir/detailevenement/1628/-/cd2-coupe-du-cesa-haute-thur?tmpl=c
 omponent</a>
X-ALT-DESC;FMTTYPE=text/html:<!-- #gskiepreuve code généré par le plugin jevents pour GskiEpreuves. Ne p
 as modifier cette ligne, ni tout le contenu suivant  #gskiepreuve --><div c
 lass="gski-evenement_infos"><div class="gski-evenement-nom">CD2 Coupe du CE
 SA Haute-Thur</div><div class="gski-evenement-report"></div><ul class="gski
 -evenement-liste-infos"><li>Codex évenement AMVT0580</li><li>Station : MARK
 STEIN</li><li>Organisateur : </li><li>Courriel : <!-- Cette adresse électro
 nique est protégée contre les robots spammeurs. --><span class="cloaked_ema
 il ep_2462bfa7"><span data-ep-b="" data-ep-a="&#109;a&#116;th"><span data-e
 p-b="&#103;&#101;&#46;f&#114;" data-ep-a="&#105;&#101;u&#46;&#103;"><span d
 ata-ep-a="&#101;&#114;&#114;&#101;&#114;" data-ep-b="&#64;&#111;ra&#110;"><
 /span></span></span></span><script>RegularLabs.EmailProtector.unCloak("ep_2
 462bfa7");</script></li><li><span class="gski-evenement-obs">Délégué Techni
 que : FUCHS MICHEL</span></li></ul><div class="gski-evenement-infos-2"><div
  class="gski-evenement-info-inscriptions"><div class="gski-evenement-inscri
 ptions-periodes">Période d'inscription à l'evènement du dimanche 28 février
  2021 à 01:00 au vendredi 05 mars 2021 à 13:00 <span class="gski-evenement-
 inscriptions-impossibles">(Inscriptions impossibles).</span><div class="gsk
 i-evenement-inscriptions-types-titres">Inscriptions ouvertes aux detenteurs
  des titres Fédéraux valides suivants : Licenciés Compétiteurs</div></div><
 /div><div class="gskiepreuves-links"><ul><li><a href="https://skivosges.net
 /index.php?option=com_jevents&task=icalevent.detail&evid=1623&Itemid=6289">
 Voir les informations dans l'agenda...</a></li></ul></div><div class="gski-
 evenement-epreuves"><div class="gski-evenement-epreuves-titres">Epreuves :<
 /div><ul class="gski-evenement-epreuves-list"><li><div class="gski-epreuve-
 date">Le dimanche 07 mars 2021</div><ul class="gski-epreuve-liste-infos"><l
 i>Codex épreuve AMVM0581</li><li>Slalom</li><li>Catégorie(s) : U16 (Garçons
 )</li></ul></li><li><div class="gski-epreuve-date">Le dimanche 07 mars 2021
 </div><ul class="gski-epreuve-liste-infos"><li>Codex épreuve AMVF0581</li><
 li>Slalom</li><li>Catégorie(s) : U16 (Filles)</li></ul></li><li><div class=
 "gski-epreuve-date">Le dimanche 07 mars 2021</div><ul class="gski-epreuve-l
 iste-infos"><li>Codex épreuve AMVM0582</li><li>Slalom</li><li>Catégorie(s) 
 : U18 a Masters (Hommes)</li></ul></li><li><div class="gski-epreuve-date">L
 e dimanche 07 mars 2021</div><ul class="gski-epreuve-liste-infos"><li>Codex
  épreuve AMVF0582</li><li>Slalom</li><li>Catégorie(s) : U18 a Masters (Dame
 s)</li></ul></li></ul></div><div class="gskiepreuves-links"><ul><li><a href
 ="https://skivosges.net/index.php?option=com_jevents&task=icalevent.detail&
 evid=1623&Itemid=6289">Voir les informations dans l'agenda...</a></li></ul>
 </div></div"><!-- #/gskiepreuve fin du dode généré par le plugin jevents po
 ur GskiEpreuves. . Ne pas modifier cette ligne, ni tout le contenu précedan
 t.  #/gskiepreuve --> <a href="https://skivosges.net/agenda/a-venir/detaile
 venement/1628/-/cd2-coupe-du-cesa-haute-thur?tmpl=component">Cet évènement 
 a été importé depuis :https://skivosges.net/agenda/a-venir/detailevenement/
 1628/-/cd2-coupe-du-cesa-haute-thur?tmpl=component</a>DTSTAMP:20260421T015552
DTSTART;TZID=Europe/Paris;VALUE=DATE:20210307
DTEND;TZID=Europe/Paris;VALUE=DATE:20210308
SEQUENCE:0
TRANSP:OPAQUE
END:VEVENT
END:VCALENDAR