BEGIN:VCALENDAR
VERSION:2.0
PRODID:-//jEvents 2.0 for Joomla//EN
CALSCALE:GREGORIAN
METHOD:PUBLISH
BEGIN:VTIMEZONE
TZID:Europe/Paris
BEGIN:STANDARD
DTSTART:20200306T000000
RDATE:20200329T030000
TZOFFSETFROM:+0200
TZOFFSETTO:+0100
TZNAME:Europe/Paris CET
END:STANDARD
BEGIN:STANDARD
DTSTART:20201025T020000
RDATE:20210328T030000
TZOFFSETFROM:+0200
TZOFFSETTO:+0100
TZNAME:Europe/Paris CET
END:STANDARD
BEGIN:STANDARD
DTSTART:20211031T020000
RDATE:20220327T030000
TZOFFSETFROM:+0200
TZOFFSETTO:+0100
TZNAME:Europe/Paris CET
END:STANDARD
BEGIN:STANDARD
DTSTART:20221030T020000
RDATE:20230326T030000
TZOFFSETFROM:+0200
TZOFFSETTO:+0100
TZNAME:Europe/Paris CET
END:STANDARD
BEGIN:STANDARD
DTSTART:20231029T020000
RDATE:20240331T030000
TZOFFSETFROM:+0200
TZOFFSETTO:+0100
TZNAME:Europe/Paris CET
END:STANDARD
BEGIN:STANDARD
DTSTART:20241027T020000
RDATE:20250330T030000
TZOFFSETFROM:+0200
TZOFFSETTO:+0100
TZNAME:Europe/Paris CET
END:STANDARD
BEGIN:STANDARD
DTSTART:20251026T020000
RDATE:20260329T030000
TZOFFSETFROM:+0200
TZOFFSETTO:+0100
TZNAME:Europe/Paris CET
END:STANDARD
BEGIN:STANDARD
DTSTART:20261025T020000
RDATE:20270328T030000
TZOFFSETFROM:+0200
TZOFFSETTO:+0100
TZNAME:Europe/Paris CET
END:STANDARD
BEGIN:DAYLIGHT
DTSTART:20200329T030000
RDATE:20201025T020000
TZOFFSETFROM:+0100
TZOFFSETTO:+0200
TZNAME:Europe/Paris CEST
END:DAYLIGHT
BEGIN:DAYLIGHT
DTSTART:20210328T030000
RDATE:20211031T020000
TZOFFSETFROM:+0100
TZOFFSETTO:+0200
TZNAME:Europe/Paris CEST
END:DAYLIGHT
BEGIN:DAYLIGHT
DTSTART:20220327T030000
RDATE:20221030T020000
TZOFFSETFROM:+0100
TZOFFSETTO:+0200
TZNAME:Europe/Paris CEST
END:DAYLIGHT
BEGIN:DAYLIGHT
DTSTART:20230326T030000
RDATE:20231029T020000
TZOFFSETFROM:+0100
TZOFFSETTO:+0200
TZNAME:Europe/Paris CEST
END:DAYLIGHT
BEGIN:DAYLIGHT
DTSTART:20240331T030000
RDATE:20241027T020000
TZOFFSETFROM:+0100
TZOFFSETTO:+0200
TZNAME:Europe/Paris CEST
END:DAYLIGHT
BEGIN:DAYLIGHT
DTSTART:20250330T030000
RDATE:20251026T020000
TZOFFSETFROM:+0100
TZOFFSETTO:+0200
TZNAME:Europe/Paris CEST
END:DAYLIGHT
BEGIN:DAYLIGHT
DTSTART:20260329T030000
RDATE:20261025T020000
TZOFFSETFROM:+0100
TZOFFSETTO:+0200
TZNAME:Europe/Paris CEST
END:DAYLIGHT
END:VTIMEZONE
BEGIN:VEVENT
UID:4d26d47f3f3b7377fc9c62ae1c8d10fc
CATEGORIES:Circuit Massif Jeunes (alpin)
CREATED:20201221T154747
SUMMARY:CJM MICRO COUPE confiserie Géromoise
URL;VALUE=URI:https://skivosges.net/agenda/a-venir/detailevenement/1629/-/cjm-micro-coupe
 -confiserie-geromoise?tmpl=component
DESCRIPTION:<!-- #gskiepreuve code généré par le plugin jevents pour GskiEpreuves. Ne p
 as modifier cette ligne, ni tout le contenu suivant  #gskiepreuve --><div c
 lass="gski-evenement_infos"><div class="gski-evenement-nom">CJM MICRO COUPE
  confiserie Géromoise</div><div class="gski-evenement-report"></div><ul cla
 ss="gski-evenement-liste-infos"><li>Codex évenement AMVT0590</li><li>Statio
 n : GERARDMER</li><li>Organisateur : 14089 GERARDMER SKI ALPIN</li><li>Cour
 riel : <!-- Cette adresse électronique est protégée contre les robots spamm
 eurs. --><span class="cloaked_email ep_cd012988"><span data-ep-b="&#114;" d
 ata-ep-a="&#104;&#117;b&#101;r"><span data-ep-b="ree&#46;f" data-ep-a="&#11
 6;&#46;&#103;&#111;&#117;"><span data-ep-a="&#114;&#103;&#117;&#105;&#108;"
  data-ep-b="&#108;o&#110;&#64;f"></span></span></span></span><script>Regula
 rLabs.EmailProtector.unCloak("ep_cd012988");</script></li><li><span class="
 gski-evenement-obs">Délégué Technique : VAXELAIRE LAURENT</span></li></ul><
 div class="gski-evenement-infos-2"><div class="gski-evenement-info-inscript
 ions"><div class="gski-evenement-inscriptions-periodes">Période d'inscripti
 on à l'evènement du dimanche 28 février 2021 à 01:00 au vendredi 05 mars 20
 21 à 13:00 <span class="gski-evenement-inscriptions-impossibles">(Inscripti
 ons impossibles).</span><div class="gski-evenement-inscriptions-types-titre
 s">Inscriptions ouvertes aux detenteurs des titres Fédéraux valides suivant
 s : Licenciés Compétiteurs</div></div></div><div class="gskiepreuves-links"
 ><ul><li><a href="/index.php?option=com_jevents&task=icalevent.detail&evid=
 1624&Itemid=6289">Voir les informations dans l'agenda...</a></li></ul></div
 ><div class="gski-evenement-epreuves"><div class="gski-evenement-epreuves-t
 itres">Epreuves :</div><ul class="gski-evenement-epreuves-list"><li><div cl
 ass="gski-epreuve-date">Le dimanche 07 mars 2021</div><ul class="gski-epreu
 ve-liste-infos"><li>Codex épreuve AMVM0591</li><li>Slalom Geant</li><li>Cat
 égorie(s) : U8/U10 (Garçons)</li></ul></li><li><div class="gski-epreuve-dat
 e">Le dimanche 07 mars 2021</div><ul class="gski-epreuve-liste-infos"><li>C
 odex épreuve AMVF0591</li><li>Slalom Geant</li><li>Catégorie(s) : U8/U10 (F
 illes)</li></ul></li></ul></div><div class="gskiepreuves-links"><ul><li><a 
 href="/index.php?option=com_jevents&task=icalevent.detail&evid=1624&Itemid=
 6289">Voir les informations dans l'agenda...</a></li></ul></div></div"><!--
  #/gskiepreuve fin du dode généré par le plugin jevents pour GskiEpreuves. 
 . Ne pas modifier cette ligne, ni tout le contenu précedant.  #/gskiepreuve
  --> <a href="https://skivosges.net/agenda/a-venir/detailevenement/1629/-/c
 jm-micro-coupe-confiserie-geromoise?tmpl=component">Cet évènement a été imp
 orté depuis :https://skivosges.net/agenda/a-venir/detailevenement/1629/-/cj
 m-micro-coupe-confiserie-geromoise?tmpl=component</a>
X-ALT-DESC;FMTTYPE=text/html:<!-- #gskiepreuve code généré par le plugin jevents pour GskiEpreuves. Ne p
 as modifier cette ligne, ni tout le contenu suivant  #gskiepreuve --><div c
 lass="gski-evenement_infos"><div class="gski-evenement-nom">CJM MICRO COUPE
  confiserie Géromoise</div><div class="gski-evenement-report"></div><ul cla
 ss="gski-evenement-liste-infos"><li>Codex évenement AMVT0590</li><li>Statio
 n : GERARDMER</li><li>Organisateur : 14089 GERARDMER SKI ALPIN</li><li>Cour
 riel : <!-- Cette adresse électronique est protégée contre les robots spamm
 eurs. --><span class="cloaked_email ep_cd012988"><span data-ep-b="&#114;" d
 ata-ep-a="&#104;&#117;b&#101;r"><span data-ep-b="ree&#46;f" data-ep-a="&#11
 6;&#46;&#103;&#111;&#117;"><span data-ep-a="&#114;&#103;&#117;&#105;&#108;"
  data-ep-b="&#108;o&#110;&#64;f"></span></span></span></span><script>Regula
 rLabs.EmailProtector.unCloak("ep_cd012988");</script></li><li><span class="
 gski-evenement-obs">Délégué Technique : VAXELAIRE LAURENT</span></li></ul><
 div class="gski-evenement-infos-2"><div class="gski-evenement-info-inscript
 ions"><div class="gski-evenement-inscriptions-periodes">Période d'inscripti
 on à l'evènement du dimanche 28 février 2021 à 01:00 au vendredi 05 mars 20
 21 à 13:00 <span class="gski-evenement-inscriptions-impossibles">(Inscripti
 ons impossibles).</span><div class="gski-evenement-inscriptions-types-titre
 s">Inscriptions ouvertes aux detenteurs des titres Fédéraux valides suivant
 s : Licenciés Compétiteurs</div></div></div><div class="gskiepreuves-links"
 ><ul><li><a href="https://skivosges.net/index.php?option=com_jevents&task=i
 calevent.detail&evid=1624&Itemid=6289">Voir les informations dans l'agenda.
 ..</a></li></ul></div><div class="gski-evenement-epreuves"><div class="gski
 -evenement-epreuves-titres">Epreuves :</div><ul class="gski-evenement-epreu
 ves-list"><li><div class="gski-epreuve-date">Le dimanche 07 mars 2021</div>
 <ul class="gski-epreuve-liste-infos"><li>Codex épreuve AMVM0591</li><li>Sla
 lom Geant</li><li>Catégorie(s) : U8/U10 (Garçons)</li></ul></li><li><div cl
 ass="gski-epreuve-date">Le dimanche 07 mars 2021</div><ul class="gski-epreu
 ve-liste-infos"><li>Codex épreuve AMVF0591</li><li>Slalom Geant</li><li>Cat
 égorie(s) : U8/U10 (Filles)</li></ul></li></ul></div><div class="gskiepreuv
 es-links"><ul><li><a href="https://skivosges.net/index.php?option=com_jeven
 ts&task=icalevent.detail&evid=1624&Itemid=6289">Voir les informations dans 
 l'agenda...</a></li></ul></div></div"><!-- #/gskiepreuve fin du dode généré
  par le plugin jevents pour GskiEpreuves. . Ne pas modifier cette ligne, ni
  tout le contenu précedant.  #/gskiepreuve --> <a href="https://skivosges.n
 et/agenda/a-venir/detailevenement/1629/-/cjm-micro-coupe-confiserie-geromoi
 se?tmpl=component">Cet évènement a été importé depuis :https://skivosges.ne
 t/agenda/a-venir/detailevenement/1629/-/cjm-micro-coupe-confiserie-geromois
 e?tmpl=component</a>DTSTAMP:20260421T051505
DTSTART;TZID=Europe/Paris;VALUE=DATE:20210307
DTEND;TZID=Europe/Paris;VALUE=DATE:20210308
SEQUENCE:0
TRANSP:OPAQUE
END:VEVENT
END:VCALENDAR