BEGIN:VCALENDAR
VERSION:2.0
PRODID:-//jEvents 2.0 for Joomla//EN
CALSCALE:GREGORIAN
METHOD:PUBLISH
BEGIN:VTIMEZONE
TZID:Europe/Paris
BEGIN:STANDARD
DTSTART:20200306T000000
RDATE:20200329T030000
TZOFFSETFROM:+0200
TZOFFSETTO:+0100
TZNAME:Europe/Paris CET
END:STANDARD
BEGIN:STANDARD
DTSTART:20201025T020000
RDATE:20210328T030000
TZOFFSETFROM:+0200
TZOFFSETTO:+0100
TZNAME:Europe/Paris CET
END:STANDARD
BEGIN:STANDARD
DTSTART:20211031T020000
RDATE:20220327T030000
TZOFFSETFROM:+0200
TZOFFSETTO:+0100
TZNAME:Europe/Paris CET
END:STANDARD
BEGIN:STANDARD
DTSTART:20221030T020000
RDATE:20230326T030000
TZOFFSETFROM:+0200
TZOFFSETTO:+0100
TZNAME:Europe/Paris CET
END:STANDARD
BEGIN:STANDARD
DTSTART:20231029T020000
RDATE:20240331T030000
TZOFFSETFROM:+0200
TZOFFSETTO:+0100
TZNAME:Europe/Paris CET
END:STANDARD
BEGIN:STANDARD
DTSTART:20241027T020000
RDATE:20250330T030000
TZOFFSETFROM:+0200
TZOFFSETTO:+0100
TZNAME:Europe/Paris CET
END:STANDARD
BEGIN:STANDARD
DTSTART:20251026T020000
RDATE:20260329T030000
TZOFFSETFROM:+0200
TZOFFSETTO:+0100
TZNAME:Europe/Paris CET
END:STANDARD
BEGIN:STANDARD
DTSTART:20261025T020000
RDATE:20270328T030000
TZOFFSETFROM:+0200
TZOFFSETTO:+0100
TZNAME:Europe/Paris CET
END:STANDARD
BEGIN:DAYLIGHT
DTSTART:20200329T030000
RDATE:20201025T020000
TZOFFSETFROM:+0100
TZOFFSETTO:+0200
TZNAME:Europe/Paris CEST
END:DAYLIGHT
BEGIN:DAYLIGHT
DTSTART:20210328T030000
RDATE:20211031T020000
TZOFFSETFROM:+0100
TZOFFSETTO:+0200
TZNAME:Europe/Paris CEST
END:DAYLIGHT
BEGIN:DAYLIGHT
DTSTART:20220327T030000
RDATE:20221030T020000
TZOFFSETFROM:+0100
TZOFFSETTO:+0200
TZNAME:Europe/Paris CEST
END:DAYLIGHT
BEGIN:DAYLIGHT
DTSTART:20230326T030000
RDATE:20231029T020000
TZOFFSETFROM:+0100
TZOFFSETTO:+0200
TZNAME:Europe/Paris CEST
END:DAYLIGHT
BEGIN:DAYLIGHT
DTSTART:20240331T030000
RDATE:20241027T020000
TZOFFSETFROM:+0100
TZOFFSETTO:+0200
TZNAME:Europe/Paris CEST
END:DAYLIGHT
BEGIN:DAYLIGHT
DTSTART:20250330T030000
RDATE:20251026T020000
TZOFFSETFROM:+0100
TZOFFSETTO:+0200
TZNAME:Europe/Paris CEST
END:DAYLIGHT
BEGIN:DAYLIGHT
DTSTART:20260329T030000
RDATE:20261025T020000
TZOFFSETFROM:+0100
TZOFFSETTO:+0200
TZNAME:Europe/Paris CEST
END:DAYLIGHT
END:VTIMEZONE
BEGIN:VEVENT
UID:b8e1d2684dba01c64154d054ae60745c
CATEGORIES:Compétition Ski de Fond
CREATED:20201221T154814
SUMMARY:LA GEROMOISE Crédit Mutuel N°10 Bigmat Atomic N°12
URL;VALUE=URI:https://skivosges.net/agenda/a-venir/detailevenement/1630/-/la-geromoise-cr
 edit-mutuel-n-10-bigmat-atomic-n-12?tmpl=component
DESCRIPTION:LA GEROMOISE Crédit Mutuel N°10 Bigmat Atomic N°12\n - Codex évenement FMVT
 0240\n - Station : GERARDMER\n - Organisateur : 14469 A.S GERARDMER SKI NOR
 DIQUE\n - Courriel : RegularLabs.EmailProtector.unCloak("ep_e6417d4a");\n -
  Délégué Technique : CUNY BERNARDPériode d'inscription à l'evènement du dim
 anche 28 février 2021 à 01:00 au vendredi 05 mars 2021 à 13:00 (Inscription
 s impossibles).Inscriptions ouvertes aux detenteurs des titres Fédéraux val
 ides suivants : Licenciés Compétiteurs\n - Voir les informations dans l'age
 nda... (/index.php?option=com_jevents&amp;task=icalevent.detail&amp;evid=16
 25&amp;Itemid=6289)Epreuves :\n - Le dimanche 07 mars 2021\n - Codex épreuv
 e FMVF0241\n - Depart Individuel\n - Catégorie(s) : U15 (Filles)\n - Le dim
 anche 07 mars 2021\n - Codex épreuve FMVM0241\n - Depart Individuel\n - Cat
 égorie(s) : U15 (Garçons)\n - Le dimanche 07 mars 2021\n - Codex épreuve FM
 VF0242\n - Depart Individuel\n - Catégorie(s) : U17 (Dames)\n - Le dimanche
  07 mars 2021\n - Codex épreuve FMVM0242\n - Depart Individuel\n - Catégori
 e(s) : U17 (Hommes)\n - Le dimanche 07 mars 2021\n - Codex épreuve FMVF0243
 \n - Depart Individuel\n - Catégorie(s) : U20/SEN (Dames)\n - Le dimanche 0
 7 mars 2021\n - Codex épreuve FMVM0243\n - Depart Individuel\n - Catégorie(
 s) : U20/SEN (Hommes)\n - Voir les informations dans l'agenda... (/index.ph
 p?option=com_jevents&amp;task=icalevent.detail&amp;evid=1625&amp;Itemid=628
 9) Cet évènement a été importé depuis :https://skivosges.net/agenda/a-venir
 /detailevenement/1630/-/la-geromoise-credit-mutuel-n-10-bigmat-atomic-n-12?
 tmpl=component
X-ALT-DESC;FMTTYPE=text/html:<!-- #gskiepreuve code généré par le plugin jevents pour GskiEpreuves. Ne p
 as modifier cette ligne, ni tout le contenu suivant  #gskiepreuve --><div c
 lass="gski-evenement_infos"><div class="gski-evenement-nom">LA GEROMOISE Cr
 édit Mutuel N°10 Bigmat Atomic N°12</div><div class="gski-evenement-report"
 ></div><ul class="gski-evenement-liste-infos"><li>Codex évenement FMVT0240<
 /li><li>Station : GERARDMER</li><li>Organisateur : 14469 A.S GERARDMER SKI 
 NORDIQUE</li><li>Courriel : <!-- Cette adresse électronique est protégée co
 ntre les robots spammeurs. --><span class="cloaked_email ep_e6417d4a"><span
  data-ep-b="&#46;f&#114;" data-ep-a="&#102;&#114;&#97;n"><span data-ep-a="&
 #99;&#105;s&#46;" data-ep-b="b&#98;ox"><span data-ep-b="t&#122;&#121;&#64;"
  data-ep-a="ki&#101;&#110;"></span></span></span></span><script>RegularLabs
 .EmailProtector.unCloak("ep_e6417d4a");</script></li><li><span class="gski-
 evenement-obs">Délégué Technique : CUNY BERNARD</span></li></ul><div class=
 "gski-evenement-infos-2"><div class="gski-evenement-info-inscriptions"><div
  class="gski-evenement-inscriptions-periodes">Période d'inscription à l'evè
 nement du dimanche 28 février 2021 à 01:00 au vendredi 05 mars 2021 à 13:00
  <span class="gski-evenement-inscriptions-impossibles">(Inscriptions imposs
 ibles).</span><div class="gski-evenement-inscriptions-types-titres">Inscrip
 tions ouvertes aux detenteurs des titres Fédéraux valides suivants : Licenc
 iés Compétiteurs</div></div></div><div class="gskiepreuves-links"><ul><li><
 a href="https://skivosges.net/index.php?option=com_jevents&task=icalevent.d
 etail&evid=1625&Itemid=6289">Voir les informations dans l'agenda...</a></li
 ></ul></div><div class="gski-evenement-epreuves"><div class="gski-evenement
 -epreuves-titres">Epreuves :</div><ul class="gski-evenement-epreuves-list">
 <li><div class="gski-epreuve-date">Le dimanche 07 mars 2021</div><ul class=
 "gski-epreuve-liste-infos"><li>Codex épreuve FMVF0241</li><li>Depart Indivi
 duel</li><li>Catégorie(s) : U15 (Filles)</li></ul></li><li><div class="gski
 -epreuve-date">Le dimanche 07 mars 2021</div><ul class="gski-epreuve-liste-
 infos"><li>Codex épreuve FMVM0241</li><li>Depart Individuel</li><li>Catégor
 ie(s) : U15 (Garçons)</li></ul></li><li><div class="gski-epreuve-date">Le d
 imanche 07 mars 2021</div><ul class="gski-epreuve-liste-infos"><li>Codex ép
 reuve FMVF0242</li><li>Depart Individuel</li><li>Catégorie(s) : U17 (Dames)
 </li></ul></li><li><div class="gski-epreuve-date">Le dimanche 07 mars 2021<
 /div><ul class="gski-epreuve-liste-infos"><li>Codex épreuve FMVM0242</li><l
 i>Depart Individuel</li><li>Catégorie(s) : U17 (Hommes)</li></ul></li><li><
 div class="gski-epreuve-date">Le dimanche 07 mars 2021</div><ul class="gski
 -epreuve-liste-infos"><li>Codex épreuve FMVF0243</li><li>Depart Individuel<
 /li><li>Catégorie(s) : U20/SEN (Dames)</li></ul></li><li><div class="gski-e
 preuve-date">Le dimanche 07 mars 2021</div><ul class="gski-epreuve-liste-in
 fos"><li>Codex épreuve FMVM0243</li><li>Depart Individuel</li><li>Catégorie
 (s) : U20/SEN (Hommes)</li></ul></li></ul></div><div class="gskiepreuves-li
 nks"><ul><li><a href="https://skivosges.net/index.php?option=com_jevents&ta
 sk=icalevent.detail&evid=1625&Itemid=6289">Voir les informations dans l'age
 nda...</a></li></ul></div></div"><!-- #/gskiepreuve fin du dode généré par 
 le plugin jevents pour GskiEpreuves. . Ne pas modifier cette ligne, ni tout
  le contenu précedant.  #/gskiepreuve --> <a href="https://skivosges.net/ag
 enda/a-venir/detailevenement/1630/-/la-geromoise-credit-mutuel-n-10-bigmat-
 atomic-n-12?tmpl=component">Cet évènement a été importé depuis :https://ski
 vosges.net/agenda/a-venir/detailevenement/1630/-/la-geromoise-credit-mutuel
 -n-10-bigmat-atomic-n-12?tmpl=component</a>DTSTAMP:20260421T051316
DTSTART;TZID=Europe/Paris;VALUE=DATE:20210307
DTEND;TZID=Europe/Paris;VALUE=DATE:20210308
SEQUENCE:0
TRANSP:OPAQUE
END:VEVENT
END:VCALENDAR