BEGIN:VCALENDAR
VERSION:2.0
PRODID:-//jEvents 2.0 for Joomla//EN
CALSCALE:GREGORIAN
METHOD:PUBLISH
BEGIN:VTIMEZONE
TZID:Europe/Paris
BEGIN:STANDARD
DTSTART:20200306T000000
RDATE:20200329T030000
TZOFFSETFROM:+0200
TZOFFSETTO:+0100
TZNAME:Europe/Paris CET
END:STANDARD
BEGIN:STANDARD
DTSTART:20201025T020000
RDATE:20210328T030000
TZOFFSETFROM:+0200
TZOFFSETTO:+0100
TZNAME:Europe/Paris CET
END:STANDARD
BEGIN:STANDARD
DTSTART:20211031T020000
RDATE:20220327T030000
TZOFFSETFROM:+0200
TZOFFSETTO:+0100
TZNAME:Europe/Paris CET
END:STANDARD
BEGIN:STANDARD
DTSTART:20221030T020000
RDATE:20230326T030000
TZOFFSETFROM:+0200
TZOFFSETTO:+0100
TZNAME:Europe/Paris CET
END:STANDARD
BEGIN:STANDARD
DTSTART:20231029T020000
RDATE:20240331T030000
TZOFFSETFROM:+0200
TZOFFSETTO:+0100
TZNAME:Europe/Paris CET
END:STANDARD
BEGIN:STANDARD
DTSTART:20241027T020000
RDATE:20250330T030000
TZOFFSETFROM:+0200
TZOFFSETTO:+0100
TZNAME:Europe/Paris CET
END:STANDARD
BEGIN:STANDARD
DTSTART:20251026T020000
RDATE:20260329T030000
TZOFFSETFROM:+0200
TZOFFSETTO:+0100
TZNAME:Europe/Paris CET
END:STANDARD
BEGIN:STANDARD
DTSTART:20261025T020000
RDATE:20270328T030000
TZOFFSETFROM:+0200
TZOFFSETTO:+0100
TZNAME:Europe/Paris CET
END:STANDARD
BEGIN:DAYLIGHT
DTSTART:20200329T030000
RDATE:20201025T020000
TZOFFSETFROM:+0100
TZOFFSETTO:+0200
TZNAME:Europe/Paris CEST
END:DAYLIGHT
BEGIN:DAYLIGHT
DTSTART:20210328T030000
RDATE:20211031T020000
TZOFFSETFROM:+0100
TZOFFSETTO:+0200
TZNAME:Europe/Paris CEST
END:DAYLIGHT
BEGIN:DAYLIGHT
DTSTART:20220327T030000
RDATE:20221030T020000
TZOFFSETFROM:+0100
TZOFFSETTO:+0200
TZNAME:Europe/Paris CEST
END:DAYLIGHT
BEGIN:DAYLIGHT
DTSTART:20230326T030000
RDATE:20231029T020000
TZOFFSETFROM:+0100
TZOFFSETTO:+0200
TZNAME:Europe/Paris CEST
END:DAYLIGHT
BEGIN:DAYLIGHT
DTSTART:20240331T030000
RDATE:20241027T020000
TZOFFSETFROM:+0100
TZOFFSETTO:+0200
TZNAME:Europe/Paris CEST
END:DAYLIGHT
BEGIN:DAYLIGHT
DTSTART:20250330T030000
RDATE:20251026T020000
TZOFFSETFROM:+0100
TZOFFSETTO:+0200
TZNAME:Europe/Paris CEST
END:DAYLIGHT
BEGIN:DAYLIGHT
DTSTART:20260329T030000
RDATE:20261025T020000
TZOFFSETFROM:+0100
TZOFFSETTO:+0200
TZNAME:Europe/Paris CEST
END:DAYLIGHT
END:VTIMEZONE
BEGIN:VEVENT
UID:93ed239c558b8b30e0bd7bc6c637a7a7
CATEGORIES:Circuit Massif Jeunes (alpin)
CREATED:20201221T154841
SUMMARY:CJM Coupe d'Argent U16
URL;VALUE=URI:https://skivosges.net/agenda/a-venir/detailevenement/1631/-/cjm-coupe-darge
 nt-u16?tmpl=component
DESCRIPTION:CJM Coupe d'Argent U16\n - Codex évenement AMVT0550\n - Station : LA BRESSE
 \n - Organisateur : 14454 SKI RACING DEODATIEN\n - Délégué Technique : KOEN
 IG DANIELPériode d'inscription à l'evènement du dimanche 28 février 2021 à 
 01:00 au vendredi 05 mars 2021 à 13:00 (Inscriptions impossibles).Inscripti
 ons ouvertes aux detenteurs des titres Fédéraux valides suivants : Licencié
 s Compétiteurs\n - Voir les informations dans l'agenda... (/index.php?optio
 n=com_jevents&amp;task=icalevent.detail&amp;evid=1626&amp;Itemid=6289)Epreu
 ves :\n - Le dimanche 07 mars 2021\n - Codex épreuve AMVM0551\n - Slalom Ge
 ant\n - Catégorie(s) : U16 (Garçons)\n - Le dimanche 07 mars 2021\n - Codex
  épreuve AMVF0551\n - Slalom Geant\n - Catégorie(s) : U16 (Filles)\n - Voir
  les informations dans l'agenda... (/index.php?option=com_jevents&amp;task=
 icalevent.detail&amp;evid=1626&amp;Itemid=6289) Cet évènement a été importé
  depuis :https://skivosges.net/agenda/a-venir/detailevenement/1631/-/cjm-co
 upe-dargent-u16?tmpl=component
X-ALT-DESC;FMTTYPE=text/html:<!-- #gskiepreuve code généré par le plugin jevents pour GskiEpreuves. Ne p
 as modifier cette ligne, ni tout le contenu suivant  #gskiepreuve --><div c
 lass="gski-evenement_infos"><div class="gski-evenement-nom">CJM Coupe d'Arg
 ent U16</div><div class="gski-evenement-report"></div><ul class="gski-evene
 ment-liste-infos"><li>Codex évenement AMVT0550</li><li>Station : LA BRESSE<
 /li><li>Organisateur : 14454 SKI RACING DEODATIEN</li><li><span class="gski
 -evenement-obs">Délégué Technique : KOENIG DANIEL</span></li></ul><div clas
 s="gski-evenement-infos-2"><div class="gski-evenement-info-inscriptions"><d
 iv class="gski-evenement-inscriptions-periodes">Période d'inscription à l'e
 vènement du dimanche 28 février 2021 à 01:00 au vendredi 05 mars 2021 à 13:
 00 <span class="gski-evenement-inscriptions-impossibles">(Inscriptions impo
 ssibles).</span><div class="gski-evenement-inscriptions-types-titres">Inscr
 iptions ouvertes aux detenteurs des titres Fédéraux valides suivants : Lice
 nciés Compétiteurs</div></div></div><div class="gskiepreuves-links"><ul><li
 ><a href="https://skivosges.net/index.php?option=com_jevents&task=icalevent
 .detail&evid=1626&Itemid=6289">Voir les informations dans l'agenda...</a></
 li></ul></div><div class="gski-evenement-epreuves"><div class="gski-eveneme
 nt-epreuves-titres">Epreuves :</div><ul class="gski-evenement-epreuves-list
 "><li><div class="gski-epreuve-date">Le dimanche 07 mars 2021</div><ul clas
 s="gski-epreuve-liste-infos"><li>Codex épreuve AMVM0551</li><li>Slalom Gean
 t</li><li>Catégorie(s) : U16 (Garçons)</li></ul></li><li><div class="gski-e
 preuve-date">Le dimanche 07 mars 2021</div><ul class="gski-epreuve-liste-in
 fos"><li>Codex épreuve AMVF0551</li><li>Slalom Geant</li><li>Catégorie(s) :
  U16 (Filles)</li></ul></li></ul></div><div class="gskiepreuves-links"><ul>
 <li><a href="https://skivosges.net/index.php?option=com_jevents&task=icalev
 ent.detail&evid=1626&Itemid=6289">Voir les informations dans l'agenda...</a
 ></li></ul></div></div"><!-- #/gskiepreuve fin du dode généré par le plugin
  jevents pour GskiEpreuves. . Ne pas modifier cette ligne, ni tout le conte
 nu précedant.  #/gskiepreuve --> <a href="https://skivosges.net/agenda/a-ve
 nir/detailevenement/1631/-/cjm-coupe-dargent-u16?tmpl=component">Cet évènem
 ent a été importé depuis :https://skivosges.net/agenda/a-venir/detailevenem
 ent/1631/-/cjm-coupe-dargent-u16?tmpl=component</a>DTSTAMP:20260421T051416
DTSTART;TZID=Europe/Paris;VALUE=DATE:20210307
DTEND;TZID=Europe/Paris;VALUE=DATE:20210308
SEQUENCE:0
TRANSP:OPAQUE
END:VEVENT
END:VCALENDAR