BEGIN:VCALENDAR
VERSION:2.0
PRODID:-//jEvents 2.0 for Joomla//EN
CALSCALE:GREGORIAN
METHOD:PUBLISH
BEGIN:VTIMEZONE
TZID:Europe/Paris
BEGIN:STANDARD
DTSTART:20200312T000000
RDATE:20200329T030000
TZOFFSETFROM:+0200
TZOFFSETTO:+0100
TZNAME:Europe/Paris CET
END:STANDARD
BEGIN:STANDARD
DTSTART:20201025T020000
RDATE:20210328T030000
TZOFFSETFROM:+0200
TZOFFSETTO:+0100
TZNAME:Europe/Paris CET
END:STANDARD
BEGIN:STANDARD
DTSTART:20211031T020000
RDATE:20220327T030000
TZOFFSETFROM:+0200
TZOFFSETTO:+0100
TZNAME:Europe/Paris CET
END:STANDARD
BEGIN:STANDARD
DTSTART:20221030T020000
RDATE:20230326T030000
TZOFFSETFROM:+0200
TZOFFSETTO:+0100
TZNAME:Europe/Paris CET
END:STANDARD
BEGIN:STANDARD
DTSTART:20231029T020000
RDATE:20240331T030000
TZOFFSETFROM:+0200
TZOFFSETTO:+0100
TZNAME:Europe/Paris CET
END:STANDARD
BEGIN:STANDARD
DTSTART:20241027T020000
RDATE:20250330T030000
TZOFFSETFROM:+0200
TZOFFSETTO:+0100
TZNAME:Europe/Paris CET
END:STANDARD
BEGIN:STANDARD
DTSTART:20251026T020000
RDATE:20260329T030000
TZOFFSETFROM:+0200
TZOFFSETTO:+0100
TZNAME:Europe/Paris CET
END:STANDARD
BEGIN:STANDARD
DTSTART:20261025T020000
RDATE:20270328T030000
TZOFFSETFROM:+0200
TZOFFSETTO:+0100
TZNAME:Europe/Paris CET
END:STANDARD
BEGIN:DAYLIGHT
DTSTART:20200329T030000
RDATE:20201025T020000
TZOFFSETFROM:+0100
TZOFFSETTO:+0200
TZNAME:Europe/Paris CEST
END:DAYLIGHT
BEGIN:DAYLIGHT
DTSTART:20210328T030000
RDATE:20211031T020000
TZOFFSETFROM:+0100
TZOFFSETTO:+0200
TZNAME:Europe/Paris CEST
END:DAYLIGHT
BEGIN:DAYLIGHT
DTSTART:20220327T030000
RDATE:20221030T020000
TZOFFSETFROM:+0100
TZOFFSETTO:+0200
TZNAME:Europe/Paris CEST
END:DAYLIGHT
BEGIN:DAYLIGHT
DTSTART:20230326T030000
RDATE:20231029T020000
TZOFFSETFROM:+0100
TZOFFSETTO:+0200
TZNAME:Europe/Paris CEST
END:DAYLIGHT
BEGIN:DAYLIGHT
DTSTART:20240331T030000
RDATE:20241027T020000
TZOFFSETFROM:+0100
TZOFFSETTO:+0200
TZNAME:Europe/Paris CEST
END:DAYLIGHT
BEGIN:DAYLIGHT
DTSTART:20250330T030000
RDATE:20251026T020000
TZOFFSETFROM:+0100
TZOFFSETTO:+0200
TZNAME:Europe/Paris CEST
END:DAYLIGHT
BEGIN:DAYLIGHT
DTSTART:20260329T030000
RDATE:20261025T020000
TZOFFSETFROM:+0100
TZOFFSETTO:+0200
TZNAME:Europe/Paris CEST
END:DAYLIGHT
END:VTIMEZONE
BEGIN:VEVENT
UID:3caa908e3b79307e095b5c2babe3d8cf
CATEGORIES:Circuit Massif Adultes (alpin)
CREATED:20201221T155103
SUMMARY:CAM Grand Prix Adultes Grand Prix Techniski
URL;VALUE=URI:https://skivosges.net/agenda/a-venir/detailevenement/1637/-/cam-grand-prix-
 adultes-grand-prix-techniski?tmpl=component
DESCRIPTION:CAM Grand Prix Adultes Grand Prix Techniski\n - Codex évenement AMVT0630\n 
 - Station : LAC BLANC\n - Organisateur : 14077 SKIEURS DE STRASBOURG\n - Co
 urriel : RegularLabs.EmailProtector.unCloak("ep_05d0f5a2");\n - Délégué Tec
 hnique : KOENIG DANIELPériode d'inscription à l'evènement du samedi 06 mars
  2021 à 01:00 au jeudi 11 mars 2021 à 13:00 (Inscriptions impossibles).Insc
 riptions ouvertes aux detenteurs des titres Fédéraux valides suivants : Lic
 enciés Compétiteurs\n - Voir les informations dans l'agenda... (/index.php?
 option=com_jevents&amp;task=icalevent.detail&amp;evid=1632&amp;Itemid=6289)
 Epreuves :\n - Le samedi 13 mars 2021\n - Codex épreuve AMVM0631\n - Slalom
  Geant\n - Catégorie(s) : U16 (Garçons)\n - Le samedi 13 mars 2021\n - Code
 x épreuve AMVF0631\n - Slalom Geant\n - Catégorie(s) : U16 (Filles)\n - Le 
 samedi 13 mars 2021\n - Codex épreuve AMVM0632\n - Slalom Geant\n - Catégor
 ie(s) : U18 a Masters (Hommes)\n - Le samedi 13 mars 2021\n - Codex épreuve
  AMVF0632\n - Slalom Geant\n - Catégorie(s) : U18 a Masters (Dames)\n - Voi
 r les informations dans l'agenda... (/index.php?option=com_jevents&amp;task
 =icalevent.detail&amp;evid=1632&amp;Itemid=6289) Cet évènement a été import
 é depuis :https://skivosges.net/agenda/a-venir/detailevenement/1637/-/cam-g
 rand-prix-adultes-grand-prix-techniski?tmpl=component
X-ALT-DESC;FMTTYPE=text/html:<!-- #gskiepreuve code généré par le plugin jevents pour GskiEpreuves. Ne p
 as modifier cette ligne, ni tout le contenu suivant  #gskiepreuve --><div c
 lass="gski-evenement_infos"><div class="gski-evenement-nom">CAM Grand Prix 
 Adultes Grand Prix Techniski</div><div class="gski-evenement-report"></div>
 <ul class="gski-evenement-liste-infos"><li>Codex évenement AMVT0630</li><li
 >Station : LAC BLANC</li><li>Organisateur : 14077 SKIEURS DE STRASBOURG</li
 ><li>Courriel : <!-- Cette adresse électronique est protégée contre les rob
 ots spammeurs. --><span class="cloaked_email ep_05d0f5a2"><span data-ep-b="
 &#114;" data-ep-a="j&#45;p&#104;"><span data-ep-a=".&#104;&#111;l" data-ep-
 b="g&#101;&#46;&#102;"><span data-ep-a="weg&#64;" data-ep-b="&#111;&#114;a&
 #110;"></span></span></span></span><script>RegularLabs.EmailProtector.unClo
 ak("ep_05d0f5a2");</script></li><li><span class="gski-evenement-obs">Délégu
 é Technique : KOENIG DANIEL</span></li></ul><div class="gski-evenement-info
 s-2"><div class="gski-evenement-info-inscriptions"><div class="gski-eveneme
 nt-inscriptions-periodes">Période d'inscription à l'evènement du samedi 06 
 mars 2021 à 01:00 au jeudi 11 mars 2021 à 13:00 <span class="gski-evenement
 -inscriptions-impossibles">(Inscriptions impossibles).</span><div class="gs
 ki-evenement-inscriptions-types-titres">Inscriptions ouvertes aux detenteur
 s des titres Fédéraux valides suivants : Licenciés Compétiteurs</div></div>
 </div><div class="gskiepreuves-links"><ul><li><a href="https://skivosges.ne
 t/index.php?option=com_jevents&task=icalevent.detail&evid=1632&Itemid=6289"
 >Voir les informations dans l'agenda...</a></li></ul></div><div class="gski
 -evenement-epreuves"><div class="gski-evenement-epreuves-titres">Epreuves :
 </div><ul class="gski-evenement-epreuves-list"><li><div class="gski-epreuve
 -date">Le samedi 13 mars 2021</div><ul class="gski-epreuve-liste-infos"><li
 >Codex épreuve AMVM0631</li><li>Slalom Geant</li><li>Catégorie(s) : U16 (Ga
 rçons)</li></ul></li><li><div class="gski-epreuve-date">Le samedi 13 mars 2
 021</div><ul class="gski-epreuve-liste-infos"><li>Codex épreuve AMVF0631</l
 i><li>Slalom Geant</li><li>Catégorie(s) : U16 (Filles)</li></ul></li><li><d
 iv class="gski-epreuve-date">Le samedi 13 mars 2021</div><ul class="gski-ep
 reuve-liste-infos"><li>Codex épreuve AMVM0632</li><li>Slalom Geant</li><li>
 Catégorie(s) : U18 a Masters (Hommes)</li></ul></li><li><div class="gski-ep
 reuve-date">Le samedi 13 mars 2021</div><ul class="gski-epreuve-liste-infos
 "><li>Codex épreuve AMVF0632</li><li>Slalom Geant</li><li>Catégorie(s) : U1
 8 a Masters (Dames)</li></ul></li></ul></div><div class="gskiepreuves-links
 "><ul><li><a href="https://skivosges.net/index.php?option=com_jevents&task=
 icalevent.detail&evid=1632&Itemid=6289">Voir les informations dans l'agenda
 ...</a></li></ul></div></div"><!-- #/gskiepreuve fin du dode généré par le 
 plugin jevents pour GskiEpreuves. . Ne pas modifier cette ligne, ni tout le
  contenu précedant.  #/gskiepreuve --> <a href="https://skivosges.net/agend
 a/a-venir/detailevenement/1637/-/cam-grand-prix-adultes-grand-prix-technisk
 i?tmpl=component">Cet évènement a été importé depuis :https://skivosges.net
 /agenda/a-venir/detailevenement/1637/-/cam-grand-prix-adultes-grand-prix-te
 chniski?tmpl=component</a>DTSTAMP:20260421T051313
DTSTART;TZID=Europe/Paris;VALUE=DATE:20210313
DTEND;TZID=Europe/Paris;VALUE=DATE:20210314
SEQUENCE:0
TRANSP:OPAQUE
END:VEVENT
END:VCALENDAR