BEGIN:VCALENDAR
VERSION:2.0
PRODID:-//jEvents 2.0 for Joomla//EN
CALSCALE:GREGORIAN
METHOD:PUBLISH
BEGIN:VTIMEZONE
TZID:Europe/Paris
BEGIN:STANDARD
DTSTART:20130304T080000
RDATE:20130331T030000
TZOFFSETFROM:+0200
TZOFFSETTO:+0100
TZNAME:Europe/Paris CET
END:STANDARD
BEGIN:STANDARD
DTSTART:20131027T020000
RDATE:20140330T030000
TZOFFSETFROM:+0200
TZOFFSETTO:+0100
TZNAME:Europe/Paris CET
END:STANDARD
BEGIN:STANDARD
DTSTART:20141026T020000
RDATE:20150329T030000
TZOFFSETFROM:+0200
TZOFFSETTO:+0100
TZNAME:Europe/Paris CET
END:STANDARD
BEGIN:STANDARD
DTSTART:20151025T020000
RDATE:20160327T030000
TZOFFSETFROM:+0200
TZOFFSETTO:+0100
TZNAME:Europe/Paris CET
END:STANDARD
BEGIN:STANDARD
DTSTART:20161030T020000
RDATE:20170326T030000
TZOFFSETFROM:+0200
TZOFFSETTO:+0100
TZNAME:Europe/Paris CET
END:STANDARD
BEGIN:STANDARD
DTSTART:20171029T020000
RDATE:20180325T030000
TZOFFSETFROM:+0200
TZOFFSETTO:+0100
TZNAME:Europe/Paris CET
END:STANDARD
BEGIN:STANDARD
DTSTART:20181028T020000
RDATE:20190331T030000
TZOFFSETFROM:+0200
TZOFFSETTO:+0100
TZNAME:Europe/Paris CET
END:STANDARD
BEGIN:STANDARD
DTSTART:20191027T020000
RDATE:20200329T030000
TZOFFSETFROM:+0200
TZOFFSETTO:+0100
TZNAME:Europe/Paris CET
END:STANDARD
BEGIN:STANDARD
DTSTART:20201025T020000
RDATE:20210328T030000
TZOFFSETFROM:+0200
TZOFFSETTO:+0100
TZNAME:Europe/Paris CET
END:STANDARD
BEGIN:STANDARD
DTSTART:20211031T020000
RDATE:20220327T030000
TZOFFSETFROM:+0200
TZOFFSETTO:+0100
TZNAME:Europe/Paris CET
END:STANDARD
BEGIN:STANDARD
DTSTART:20221030T020000
RDATE:20230326T030000
TZOFFSETFROM:+0200
TZOFFSETTO:+0100
TZNAME:Europe/Paris CET
END:STANDARD
BEGIN:STANDARD
DTSTART:20231029T020000
RDATE:20240331T030000
TZOFFSETFROM:+0200
TZOFFSETTO:+0100
TZNAME:Europe/Paris CET
END:STANDARD
BEGIN:STANDARD
DTSTART:20241027T020000
RDATE:20250330T030000
TZOFFSETFROM:+0200
TZOFFSETTO:+0100
TZNAME:Europe/Paris CET
END:STANDARD
BEGIN:STANDARD
DTSTART:20251026T020000
RDATE:20260329T030000
TZOFFSETFROM:+0200
TZOFFSETTO:+0100
TZNAME:Europe/Paris CET
END:STANDARD
BEGIN:STANDARD
DTSTART:20261025T020000
RDATE:20270328T030000
TZOFFSETFROM:+0200
TZOFFSETTO:+0100
TZNAME:Europe/Paris CET
END:STANDARD
BEGIN:DAYLIGHT
DTSTART:20130331T030000
RDATE:20131027T020000
TZOFFSETFROM:+0100
TZOFFSETTO:+0200
TZNAME:Europe/Paris CEST
END:DAYLIGHT
BEGIN:DAYLIGHT
DTSTART:20140330T030000
RDATE:20141026T020000
TZOFFSETFROM:+0100
TZOFFSETTO:+0200
TZNAME:Europe/Paris CEST
END:DAYLIGHT
BEGIN:DAYLIGHT
DTSTART:20150329T030000
RDATE:20151025T020000
TZOFFSETFROM:+0100
TZOFFSETTO:+0200
TZNAME:Europe/Paris CEST
END:DAYLIGHT
BEGIN:DAYLIGHT
DTSTART:20160327T030000
RDATE:20161030T020000
TZOFFSETFROM:+0100
TZOFFSETTO:+0200
TZNAME:Europe/Paris CEST
END:DAYLIGHT
BEGIN:DAYLIGHT
DTSTART:20170326T030000
RDATE:20171029T020000
TZOFFSETFROM:+0100
TZOFFSETTO:+0200
TZNAME:Europe/Paris CEST
END:DAYLIGHT
BEGIN:DAYLIGHT
DTSTART:20180325T030000
RDATE:20181028T020000
TZOFFSETFROM:+0100
TZOFFSETTO:+0200
TZNAME:Europe/Paris CEST
END:DAYLIGHT
BEGIN:DAYLIGHT
DTSTART:20190331T030000
RDATE:20191027T020000
TZOFFSETFROM:+0100
TZOFFSETTO:+0200
TZNAME:Europe/Paris CEST
END:DAYLIGHT
BEGIN:DAYLIGHT
DTSTART:20200329T030000
RDATE:20201025T020000
TZOFFSETFROM:+0100
TZOFFSETTO:+0200
TZNAME:Europe/Paris CEST
END:DAYLIGHT
BEGIN:DAYLIGHT
DTSTART:20210328T030000
RDATE:20211031T020000
TZOFFSETFROM:+0100
TZOFFSETTO:+0200
TZNAME:Europe/Paris CEST
END:DAYLIGHT
BEGIN:DAYLIGHT
DTSTART:20220327T030000
RDATE:20221030T020000
TZOFFSETFROM:+0100
TZOFFSETTO:+0200
TZNAME:Europe/Paris CEST
END:DAYLIGHT
BEGIN:DAYLIGHT
DTSTART:20230326T030000
RDATE:20231029T020000
TZOFFSETFROM:+0100
TZOFFSETTO:+0200
TZNAME:Europe/Paris CEST
END:DAYLIGHT
BEGIN:DAYLIGHT
DTSTART:20240331T030000
RDATE:20241027T020000
TZOFFSETFROM:+0100
TZOFFSETTO:+0200
TZNAME:Europe/Paris CEST
END:DAYLIGHT
BEGIN:DAYLIGHT
DTSTART:20250330T030000
RDATE:20251026T020000
TZOFFSETFROM:+0100
TZOFFSETTO:+0200
TZNAME:Europe/Paris CEST
END:DAYLIGHT
BEGIN:DAYLIGHT
DTSTART:20260329T030000
RDATE:20261025T020000
TZOFFSETFROM:+0100
TZOFFSETTO:+0200
TZNAME:Europe/Paris CEST
END:DAYLIGHT
END:VTIMEZONE
BEGIN:VEVENT
UID:2e3c34d296589552eebd6cb545e2b373
CATEGORIES:Compétition Ski de Fond
CREATED:20131203T122100
SUMMARY:Foyer Alsace
URL;VALUE=URI:https://skivosges.net/agenda/a-venir/detailevenement/164/-/foyer-alsace?tmp
 l=component
DESCRIPTION:Foyer Alsace\n\nLieu : LAC BLANC \nOrganisateur : LAC BLANC SKI NORDIQUE CV
  ORBEY  (14379 LAC BLANC SKI NORDIQUE CV ORBEY)\n  Organisateur:LAC BLANC S
 KI NORDIQUE CV ORBE\n - FMVF0251  D?part Individuel Poussin Filles\n  Foyer
  Alsace\n  Organisateur:LAC BLANC SKI NORDIQUE CV ORBE\n - FMVF0252  D?part
  Individuel Benjamin Filles\n  Foyer Alsace\n  Organisateur:LAC BLANC SKI N
 ORDIQUE CV ORBE\n - FMVM0251  D?part Individuel Poussin Garçons\n  Foyer Al
 sace\n  Organisateur:LAC BLANC SKI NORDIQUE CV ORBE\n - FMVM0252  D?part In
 dividuel Benjamin Garçons\n  Foyer Alsace Cet évènement a été importé depui
 s :https://skivosges.net/agenda/a-venir/detailevenement/164/-/foyer-alsace?
 tmpl=component
X-ALT-DESC;FMTTYPE=text/html:<strong>Foyer Alsace</strong><br /><br />Lieu : LAC BLANC <br />Organisateu
 r : LAC BLANC SKI NORDIQUE CV ORBEY  <small>(14379 LAC BLANC SKI NORDIQUE C
 V ORBEY)</small><ul type="disc"><br />&nbsp;&nbsp;Organisateur:LAC BLANC SK
 I NORDIQUE CV ORBE<li>FMVF0251  D?part Individuel <nobr>Poussin</nobr> Fill
 es<br />&nbsp;&nbsp;Foyer Alsace</li><br />&nbsp;&nbsp;Organisateur:LAC BLA
 NC SKI NORDIQUE CV ORBE<li>FMVF0252  D?part Individuel <nobr>Benjamin</nobr
 > Filles<br />&nbsp;&nbsp;Foyer Alsace</li><br />&nbsp;&nbsp;Organisateur:L
 AC BLANC SKI NORDIQUE CV ORBE<li>FMVM0251  D?part Individuel <nobr>Poussin<
 /nobr> Garçons<br />&nbsp;&nbsp;Foyer Alsace</li><br />&nbsp;&nbsp;Organisa
 teur:LAC BLANC SKI NORDIQUE CV ORBE<li>FMVM0252  D?part Individuel <nobr>Be
 njamin</nobr> Garçons<br />&nbsp;&nbsp;Foyer Alsace</li></ul> <a href="http
 s://skivosges.net/agenda/a-venir/detailevenement/164/-/foyer-alsace?tmpl=co
 mponent">Cet évènement a été importé depuis :https://skivosges.net/agenda/a
 -venir/detailevenement/164/-/foyer-alsace?tmpl=component</a>DTSTAMP:20260424T030459
DTSTART;TZID=Europe/Paris:20140305T080000
DTEND;TZID=Europe/Paris:20140305T170000
SEQUENCE:0
TRANSP:OPAQUE
END:VEVENT
END:VCALENDAR