BEGIN:VCALENDAR
VERSION:2.0
PRODID:-//jEvents 2.0 for Joomla//EN
CALSCALE:GREGORIAN
METHOD:PUBLISH
BEGIN:VTIMEZONE
TZID:Europe/Paris
BEGIN:STANDARD
DTSTART:20200313T000000
RDATE:20200329T030000
TZOFFSETFROM:+0200
TZOFFSETTO:+0100
TZNAME:Europe/Paris CET
END:STANDARD
BEGIN:STANDARD
DTSTART:20201025T020000
RDATE:20210328T030000
TZOFFSETFROM:+0200
TZOFFSETTO:+0100
TZNAME:Europe/Paris CET
END:STANDARD
BEGIN:STANDARD
DTSTART:20211031T020000
RDATE:20220327T030000
TZOFFSETFROM:+0200
TZOFFSETTO:+0100
TZNAME:Europe/Paris CET
END:STANDARD
BEGIN:STANDARD
DTSTART:20221030T020000
RDATE:20230326T030000
TZOFFSETFROM:+0200
TZOFFSETTO:+0100
TZNAME:Europe/Paris CET
END:STANDARD
BEGIN:STANDARD
DTSTART:20231029T020000
RDATE:20240331T030000
TZOFFSETFROM:+0200
TZOFFSETTO:+0100
TZNAME:Europe/Paris CET
END:STANDARD
BEGIN:STANDARD
DTSTART:20241027T020000
RDATE:20250330T030000
TZOFFSETFROM:+0200
TZOFFSETTO:+0100
TZNAME:Europe/Paris CET
END:STANDARD
BEGIN:STANDARD
DTSTART:20251026T020000
RDATE:20260329T030000
TZOFFSETFROM:+0200
TZOFFSETTO:+0100
TZNAME:Europe/Paris CET
END:STANDARD
BEGIN:STANDARD
DTSTART:20261025T020000
RDATE:20270328T030000
TZOFFSETFROM:+0200
TZOFFSETTO:+0100
TZNAME:Europe/Paris CET
END:STANDARD
BEGIN:DAYLIGHT
DTSTART:20200329T030000
RDATE:20201025T020000
TZOFFSETFROM:+0100
TZOFFSETTO:+0200
TZNAME:Europe/Paris CEST
END:DAYLIGHT
BEGIN:DAYLIGHT
DTSTART:20210328T030000
RDATE:20211031T020000
TZOFFSETFROM:+0100
TZOFFSETTO:+0200
TZNAME:Europe/Paris CEST
END:DAYLIGHT
BEGIN:DAYLIGHT
DTSTART:20220327T030000
RDATE:20221030T020000
TZOFFSETFROM:+0100
TZOFFSETTO:+0200
TZNAME:Europe/Paris CEST
END:DAYLIGHT
BEGIN:DAYLIGHT
DTSTART:20230326T030000
RDATE:20231029T020000
TZOFFSETFROM:+0100
TZOFFSETTO:+0200
TZNAME:Europe/Paris CEST
END:DAYLIGHT
BEGIN:DAYLIGHT
DTSTART:20240331T030000
RDATE:20241027T020000
TZOFFSETFROM:+0100
TZOFFSETTO:+0200
TZNAME:Europe/Paris CEST
END:DAYLIGHT
BEGIN:DAYLIGHT
DTSTART:20250330T030000
RDATE:20251026T020000
TZOFFSETFROM:+0100
TZOFFSETTO:+0200
TZNAME:Europe/Paris CEST
END:DAYLIGHT
BEGIN:DAYLIGHT
DTSTART:20260329T030000
RDATE:20261025T020000
TZOFFSETFROM:+0100
TZOFFSETTO:+0200
TZNAME:Europe/Paris CEST
END:DAYLIGHT
END:VTIMEZONE
BEGIN:VEVENT
UID:f1e5a42b2918a1c3fa0c6bec2dbb7d31
CATEGORIES:Circuit Massif Jeunes (alpin)
CREATED:20201221T155416
SUMMARY:CJM Coupe d'Argent U12
URL;VALUE=URI:https://skivosges.net/agenda/a-venir/detailevenement/1644/-/cjm-coupe-darge
 nt-u12?tmpl=component
DESCRIPTION:CJM Coupe d'Argent U12\n - Codex évenement AMVT0870\n - Station : LAC BLANC
 \n - Organisateur : 14128 A.S ELECTRICITE STRASBOURG\n - Courriel : Regular
 Labs.EmailProtector.unCloak("ep_25f6726f");\n - Délégué Technique : DODIN Y
 VESPériode d'inscription à l'evènement du dimanche 07 mars 2021 à 01:00 au 
 vendredi 12 mars 2021 à 13:00 (Inscriptions impossibles).Inscriptions ouver
 tes aux detenteurs des titres Fédéraux valides suivants : Licenciés Compéti
 teurs\n - Voir les informations dans l'agenda... (/index.php?option=com_jev
 ents&amp;task=icalevent.detail&amp;evid=1639&amp;Itemid=6289)Epreuves :\n -
  Le dimanche 14 mars 2021\n - Codex épreuve AMVM0871\n - Slalom Geant\n - C
 atégorie(s) : U12 (Garçons)\n - Le dimanche 14 mars 2021\n - Codex épreuve 
 AMVF0871\n - Slalom Geant\n - Catégorie(s) : U12 (Filles)\n - Voir les info
 rmations dans l'agenda... (/index.php?option=com_jevents&amp;task=icalevent
 .detail&amp;evid=1639&amp;Itemid=6289) Cet évènement a été importé depuis :
 https://skivosges.net/agenda/a-venir/detailevenement/1644/-/cjm-coupe-darge
 nt-u12?tmpl=component
X-ALT-DESC;FMTTYPE=text/html:<!-- #gskiepreuve code généré par le plugin jevents pour GskiEpreuves. Ne p
 as modifier cette ligne, ni tout le contenu suivant  #gskiepreuve --><div c
 lass="gski-evenement_infos"><div class="gski-evenement-nom">CJM Coupe d'Arg
 ent U12</div><div class="gski-evenement-report"></div><ul class="gski-evene
 ment-liste-infos"><li>Codex évenement AMVT0870</li><li>Station : LAC BLANC<
 /li><li>Organisateur : 14128 A.S ELECTRICITE STRASBOURG</li><li>Courriel : 
 <!-- Cette adresse électronique est protégée contre les robots spammeurs. -
 -><span class="cloaked_email ep_25f6726f"><span data-ep-b="" data-ep-a="w&#
 105;&#101;&#115;."><span data-ep-b="l.&#99;&#111;m" data-ep-a="c&#104;r&#10
 5;s"><span data-ep-a="&#116;&#111;&#112;&#104;e" data-ep-b="&#64;gm&#97;i">
 </span></span></span></span><script>RegularLabs.EmailProtector.unCloak("ep_
 25f6726f");</script></li><li><span class="gski-evenement-obs">Délégué Techn
 ique : DODIN YVES</span></li></ul><div class="gski-evenement-infos-2"><div 
 class="gski-evenement-info-inscriptions"><div class="gski-evenement-inscrip
 tions-periodes">Période d'inscription à l'evènement du dimanche 07 mars 202
 1 à 01:00 au vendredi 12 mars 2021 à 13:00 <span class="gski-evenement-insc
 riptions-impossibles">(Inscriptions impossibles).</span><div class="gski-ev
 enement-inscriptions-types-titres">Inscriptions ouvertes aux detenteurs des
  titres Fédéraux valides suivants : Licenciés Compétiteurs</div></div></div
 ><div class="gskiepreuves-links"><ul><li><a href="https://skivosges.net/ind
 ex.php?option=com_jevents&task=icalevent.detail&evid=1639&Itemid=6289">Voir
  les informations dans l'agenda...</a></li></ul></div><div class="gski-even
 ement-epreuves"><div class="gski-evenement-epreuves-titres">Epreuves :</div
 ><ul class="gski-evenement-epreuves-list"><li><div class="gski-epreuve-date
 ">Le dimanche 14 mars 2021</div><ul class="gski-epreuve-liste-infos"><li>Co
 dex épreuve AMVM0871</li><li>Slalom Geant</li><li>Catégorie(s) : U12 (Garço
 ns)</li></ul></li><li><div class="gski-epreuve-date">Le dimanche 14 mars 20
 21</div><ul class="gski-epreuve-liste-infos"><li>Codex épreuve AMVF0871</li
 ><li>Slalom Geant</li><li>Catégorie(s) : U12 (Filles)</li></ul></li></ul></
 div><div class="gskiepreuves-links"><ul><li><a href="https://skivosges.net/
 index.php?option=com_jevents&task=icalevent.detail&evid=1639&Itemid=6289">V
 oir les informations dans l'agenda...</a></li></ul></div></div"><!-- #/gski
 epreuve fin du dode généré par le plugin jevents pour GskiEpreuves. . Ne pa
 s modifier cette ligne, ni tout le contenu précedant.  #/gskiepreuve --> <a
  href="https://skivosges.net/agenda/a-venir/detailevenement/1644/-/cjm-coup
 e-dargent-u12?tmpl=component">Cet évènement a été importé depuis :https://s
 kivosges.net/agenda/a-venir/detailevenement/1644/-/cjm-coupe-dargent-u12?tm
 pl=component</a>DTSTAMP:20260421T051313
DTSTART;TZID=Europe/Paris;VALUE=DATE:20210314
DTEND;TZID=Europe/Paris;VALUE=DATE:20210315
SEQUENCE:0
TRANSP:OPAQUE
END:VEVENT
END:VCALENDAR