BEGIN:VCALENDAR
VERSION:2.0
PRODID:-//jEvents 2.0 for Joomla//EN
CALSCALE:GREGORIAN
METHOD:PUBLISH
BEGIN:VTIMEZONE
TZID:Europe/Paris
BEGIN:STANDARD
DTSTART:20200318T000000
RDATE:20200329T030000
TZOFFSETFROM:+0200
TZOFFSETTO:+0100
TZNAME:Europe/Paris CET
END:STANDARD
BEGIN:STANDARD
DTSTART:20201025T020000
RDATE:20210328T030000
TZOFFSETFROM:+0200
TZOFFSETTO:+0100
TZNAME:Europe/Paris CET
END:STANDARD
BEGIN:STANDARD
DTSTART:20211031T020000
RDATE:20220327T030000
TZOFFSETFROM:+0200
TZOFFSETTO:+0100
TZNAME:Europe/Paris CET
END:STANDARD
BEGIN:STANDARD
DTSTART:20221030T020000
RDATE:20230326T030000
TZOFFSETFROM:+0200
TZOFFSETTO:+0100
TZNAME:Europe/Paris CET
END:STANDARD
BEGIN:STANDARD
DTSTART:20231029T020000
RDATE:20240331T030000
TZOFFSETFROM:+0200
TZOFFSETTO:+0100
TZNAME:Europe/Paris CET
END:STANDARD
BEGIN:STANDARD
DTSTART:20241027T020000
RDATE:20250330T030000
TZOFFSETFROM:+0200
TZOFFSETTO:+0100
TZNAME:Europe/Paris CET
END:STANDARD
BEGIN:STANDARD
DTSTART:20251026T020000
RDATE:20260329T030000
TZOFFSETFROM:+0200
TZOFFSETTO:+0100
TZNAME:Europe/Paris CET
END:STANDARD
BEGIN:STANDARD
DTSTART:20261025T020000
RDATE:20270328T030000
TZOFFSETFROM:+0200
TZOFFSETTO:+0100
TZNAME:Europe/Paris CET
END:STANDARD
BEGIN:DAYLIGHT
DTSTART:20200329T030000
RDATE:20201025T020000
TZOFFSETFROM:+0100
TZOFFSETTO:+0200
TZNAME:Europe/Paris CEST
END:DAYLIGHT
BEGIN:DAYLIGHT
DTSTART:20210328T030000
RDATE:20211031T020000
TZOFFSETFROM:+0100
TZOFFSETTO:+0200
TZNAME:Europe/Paris CEST
END:DAYLIGHT
BEGIN:DAYLIGHT
DTSTART:20220327T030000
RDATE:20221030T020000
TZOFFSETFROM:+0100
TZOFFSETTO:+0200
TZNAME:Europe/Paris CEST
END:DAYLIGHT
BEGIN:DAYLIGHT
DTSTART:20230326T030000
RDATE:20231029T020000
TZOFFSETFROM:+0100
TZOFFSETTO:+0200
TZNAME:Europe/Paris CEST
END:DAYLIGHT
BEGIN:DAYLIGHT
DTSTART:20240331T030000
RDATE:20241027T020000
TZOFFSETFROM:+0100
TZOFFSETTO:+0200
TZNAME:Europe/Paris CEST
END:DAYLIGHT
BEGIN:DAYLIGHT
DTSTART:20250330T030000
RDATE:20251026T020000
TZOFFSETFROM:+0100
TZOFFSETTO:+0200
TZNAME:Europe/Paris CEST
END:DAYLIGHT
BEGIN:DAYLIGHT
DTSTART:20260329T030000
RDATE:20261025T020000
TZOFFSETFROM:+0100
TZOFFSETTO:+0200
TZNAME:Europe/Paris CEST
END:DAYLIGHT
END:VTIMEZONE
BEGIN:VEVENT
UID:f8a05af775be793f4a3a5a02b02a6a89
CATEGORIES:Opens et Promos (alpin)
CREATED:20201221T175155
SUMMARY:PROMO CHALLENGES DES CADRES
URL;VALUE=URI:https://skivosges.net/agenda/a-venir/detailevenement/1646/-/promo-challenge
 s-des-cadres?tmpl=component
DESCRIPTION:PROMO CHALLENGES DES CADRES\n - Codex évenement AMVT0690\n - Station : CHAM
 P DU FEU\n - Organisateur : 14003 SKI CLUB BARR\n - Courriel : RegularLabs.
 EmailProtector.unCloak("ep_7dad7796");\n - Délégué Technique : WIES CHRISTO
 PHEPériode d'inscription à l'evènement du vendredi 12 mars 2021 à 01:00 au 
 mercredi 17 mars 2021 à 13:00 (Inscriptions impossibles).Inscriptions ouver
 tes aux detenteurs des titres Fédéraux valides suivants : Licenciés Compéti
 teurs et Titres Loisirs et Dirigeants\n - Voir les informations dans l'agen
 da... (/index.php?option=com_jevents&amp;task=icalevent.detail&amp;evid=164
 1&amp;Itemid=6289)Epreuves :\n - Le vendredi 19 mars 2021\n - Codex épreuve
  AMVM0691\n - Slalom Geant\n - Catégorie(s) : U18 a Masters (Hommes)\n - Le
  vendredi 19 mars 2021\n - Codex épreuve AMVF0691\n - Slalom Geant\n - Caté
 gorie(s) : U18 a Masters (Dames)\n - Voir les informations dans l'agenda...
  (/index.php?option=com_jevents&amp;task=icalevent.detail&amp;evid=1641&amp
 ;Itemid=6289) Cet évènement a été importé depuis :https://skivosges.net/age
 nda/a-venir/detailevenement/1646/-/promo-challenges-des-cadres?tmpl=compone
 nt
X-ALT-DESC;FMTTYPE=text/html:<!-- #gskiepreuve code généré par le plugin jevents pour GskiEpreuves. Ne p
 as modifier cette ligne, ni tout le contenu suivant  #gskiepreuve --><div c
 lass="gski-evenement_infos"><div class="gski-evenement-nom">PROMO CHALLENGE
 S DES CADRES</div><div class="gski-evenement-report"></div><ul class="gski-
 evenement-liste-infos"><li>Codex évenement AMVT0690</li><li>Station : CHAMP
  DU FEU</li><li>Organisateur : 14003 SKI CLUB BARR</li><li>Courriel : <!-- 
 Cette adresse électronique est protégée contre les robots spammeurs. --><sp
 an class="cloaked_email ep_7dad7796"><span data-ep-b="" data-ep-a="&#119;&#
 105;es&#46;"><span data-ep-b="&#108;.c&#111;m" data-ep-a="&#99;&#104;&#114;
 i&#115;"><span data-ep-b="&#64;&#103;&#109;&#97;&#105;" data-ep-a="&#116;&#
 111;&#112;h&#101;"></span></span></span></span><script>RegularLabs.EmailPro
 tector.unCloak("ep_7dad7796");</script></li><li><span class="gski-evenement
 -obs">Délégué Technique : WIES CHRISTOPHE</span></li></ul><div class="gski-
 evenement-infos-2"><div class="gski-evenement-info-inscriptions"><div class
 ="gski-evenement-inscriptions-periodes">Période d'inscription à l'evènement
  du vendredi 12 mars 2021 à 01:00 au mercredi 17 mars 2021 à 13:00 <span cl
 ass="gski-evenement-inscriptions-impossibles">(Inscriptions impossibles).</
 span><div class="gski-evenement-inscriptions-types-titres">Inscriptions ouv
 ertes aux detenteurs des titres Fédéraux valides suivants : Licenciés Compé
 titeurs et Titres Loisirs et Dirigeants</div></div></div><div class="gskiep
 reuves-links"><ul><li><a href="https://skivosges.net/index.php?option=com_j
 events&task=icalevent.detail&evid=1641&Itemid=6289">Voir les informations d
 ans l'agenda...</a></li></ul></div><div class="gski-evenement-epreuves"><di
 v class="gski-evenement-epreuves-titres">Epreuves :</div><ul class="gski-ev
 enement-epreuves-list"><li><div class="gski-epreuve-date">Le vendredi 19 ma
 rs 2021</div><ul class="gski-epreuve-liste-infos"><li>Codex épreuve AMVM069
 1</li><li>Slalom Geant</li><li>Catégorie(s) : U18 a Masters (Hommes)</li></
 ul></li><li><div class="gski-epreuve-date">Le vendredi 19 mars 2021</div><u
 l class="gski-epreuve-liste-infos"><li>Codex épreuve AMVF0691</li><li>Slalo
 m Geant</li><li>Catégorie(s) : U18 a Masters (Dames)</li></ul></li></ul></d
 iv><div class="gskiepreuves-links"><ul><li><a href="https://skivosges.net/i
 ndex.php?option=com_jevents&task=icalevent.detail&evid=1641&Itemid=6289">Vo
 ir les informations dans l'agenda...</a></li></ul></div></div"><!-- #/gskie
 preuve fin du dode généré par le plugin jevents pour GskiEpreuves. . Ne pas
  modifier cette ligne, ni tout le contenu précedant.  #/gskiepreuve --> <a 
 href="https://skivosges.net/agenda/a-venir/detailevenement/1646/-/promo-cha
 llenges-des-cadres?tmpl=component">Cet évènement a été importé depuis :http
 s://skivosges.net/agenda/a-venir/detailevenement/1646/-/promo-challenges-de
 s-cadres?tmpl=component</a>DTSTAMP:20260421T051309
DTSTART;TZID=Europe/Paris;VALUE=DATE:20210319
DTEND;TZID=Europe/Paris;VALUE=DATE:20210320
SEQUENCE:0
TRANSP:OPAQUE
END:VEVENT
END:VCALENDAR