BEGIN:VCALENDAR
VERSION:2.0
PRODID:-//jEvents 2.0 for Joomla//EN
CALSCALE:GREGORIAN
METHOD:PUBLISH
BEGIN:VTIMEZONE
TZID:Europe/Paris
BEGIN:STANDARD
DTSTART:20200319T000000
RDATE:20200329T030000
TZOFFSETFROM:+0200
TZOFFSETTO:+0100
TZNAME:Europe/Paris CET
END:STANDARD
BEGIN:STANDARD
DTSTART:20201025T020000
RDATE:20210328T030000
TZOFFSETFROM:+0200
TZOFFSETTO:+0100
TZNAME:Europe/Paris CET
END:STANDARD
BEGIN:STANDARD
DTSTART:20211031T020000
RDATE:20220327T030000
TZOFFSETFROM:+0200
TZOFFSETTO:+0100
TZNAME:Europe/Paris CET
END:STANDARD
BEGIN:STANDARD
DTSTART:20221030T020000
RDATE:20230326T030000
TZOFFSETFROM:+0200
TZOFFSETTO:+0100
TZNAME:Europe/Paris CET
END:STANDARD
BEGIN:STANDARD
DTSTART:20231029T020000
RDATE:20240331T030000
TZOFFSETFROM:+0200
TZOFFSETTO:+0100
TZNAME:Europe/Paris CET
END:STANDARD
BEGIN:STANDARD
DTSTART:20241027T020000
RDATE:20250330T030000
TZOFFSETFROM:+0200
TZOFFSETTO:+0100
TZNAME:Europe/Paris CET
END:STANDARD
BEGIN:STANDARD
DTSTART:20251026T020000
RDATE:20260329T030000
TZOFFSETFROM:+0200
TZOFFSETTO:+0100
TZNAME:Europe/Paris CET
END:STANDARD
BEGIN:STANDARD
DTSTART:20261025T020000
RDATE:20270328T030000
TZOFFSETFROM:+0200
TZOFFSETTO:+0100
TZNAME:Europe/Paris CET
END:STANDARD
BEGIN:DAYLIGHT
DTSTART:20200329T030000
RDATE:20201025T020000
TZOFFSETFROM:+0100
TZOFFSETTO:+0200
TZNAME:Europe/Paris CEST
END:DAYLIGHT
BEGIN:DAYLIGHT
DTSTART:20210328T030000
RDATE:20211031T020000
TZOFFSETFROM:+0100
TZOFFSETTO:+0200
TZNAME:Europe/Paris CEST
END:DAYLIGHT
BEGIN:DAYLIGHT
DTSTART:20220327T030000
RDATE:20221030T020000
TZOFFSETFROM:+0100
TZOFFSETTO:+0200
TZNAME:Europe/Paris CEST
END:DAYLIGHT
BEGIN:DAYLIGHT
DTSTART:20230326T030000
RDATE:20231029T020000
TZOFFSETFROM:+0100
TZOFFSETTO:+0200
TZNAME:Europe/Paris CEST
END:DAYLIGHT
BEGIN:DAYLIGHT
DTSTART:20240331T030000
RDATE:20241027T020000
TZOFFSETFROM:+0100
TZOFFSETTO:+0200
TZNAME:Europe/Paris CEST
END:DAYLIGHT
BEGIN:DAYLIGHT
DTSTART:20250330T030000
RDATE:20251026T020000
TZOFFSETFROM:+0100
TZOFFSETTO:+0200
TZNAME:Europe/Paris CEST
END:DAYLIGHT
BEGIN:DAYLIGHT
DTSTART:20260329T030000
RDATE:20261025T020000
TZOFFSETFROM:+0100
TZOFFSETTO:+0200
TZNAME:Europe/Paris CEST
END:DAYLIGHT
END:VTIMEZONE
BEGIN:VEVENT
UID:6e39a3338cae7bc2718d5f085888ffd7
CATEGORIES:Opens et Promos (alpin)
CREATED:20201221T175221
SUMMARY:PROMO Prix du Conseil Départemental du Bas-Rhin
URL;VALUE=URI:https://skivosges.net/agenda/a-venir/detailevenement/1647/-/promo-prix-du-c
 onseil-departemental-du-bas-rhin?tmpl=component
DESCRIPTION:PROMO Prix du Conseil Départemental du Bas-Rhin\n - Codex évenement AMVT070
 0\n - Station : CHAMP DU FEU\n - Organisateur : 14077 SKIEURS DE STRASBOURG
 \n - Courriel : RegularLabs.EmailProtector.unCloak("ep_27e2964e");\n - Délé
 gué Technique : SILBER JEAN-GEORGESPériode d'inscription à l'evènement du s
 amedi 13 mars 2021 à 01:00 au jeudi 18 mars 2021 à 13:00 (Inscriptions impo
 ssibles).Inscriptions ouvertes aux detenteurs des titres Fédéraux valides s
 uivants : Licenciés Compétiteurs et Titres Loisirs et Dirigeants\n - Voir l
 es informations dans l'agenda... (/index.php?option=com_jevents&amp;task=ic
 alevent.detail&amp;evid=1642&amp;Itemid=6289)Epreuves :\n - Le samedi 20 ma
 rs 2021\n - Codex épreuve AMVM0701\n - Slalom Geant\n - Catégorie(s) : U8/U
 10 (Garçons)\n - Le samedi 20 mars 2021\n - Codex épreuve AMVF0701\n - Slal
 om Geant\n - Catégorie(s) : U8/U10 (Filles)\n - Le samedi 20 mars 2021\n - 
 Codex épreuve AMVM0702\n - Slalom Geant\n - Catégorie(s) : U12 a U16 (Garço
 ns)\n - Le samedi 20 mars 2021\n - Codex épreuve AMVF0702\n - Slalom Geant\
 n - Catégorie(s) : U12 a U16 (Filles)\n - Voir les informations dans l'agen
 da... (/index.php?option=com_jevents&amp;task=icalevent.detail&amp;evid=164
 2&amp;Itemid=6289) Cet évènement a été importé depuis :https://skivosges.ne
 t/agenda/a-venir/detailevenement/1647/-/promo-prix-du-conseil-departemental
 -du-bas-rhin?tmpl=component
X-ALT-DESC;FMTTYPE=text/html:<!-- #gskiepreuve code généré par le plugin jevents pour GskiEpreuves. Ne p
 as modifier cette ligne, ni tout le contenu suivant  #gskiepreuve --><div c
 lass="gski-evenement_infos"><div class="gski-evenement-nom">PROMO Prix du C
 onseil Départemental du Bas-Rhin</div><div class="gski-evenement-report"></
 div><ul class="gski-evenement-liste-infos"><li>Codex évenement AMVT0700</li
 ><li>Station : CHAMP DU FEU</li><li>Organisateur : 14077 SKIEURS DE STRASBO
 URG</li><li>Courriel : <!-- Cette adresse électronique est protégée contre 
 les robots spammeurs. --><span class="cloaked_email ep_27e2964e"><span data
 -ep-b="" data-ep-a="&#119;i&#101;&#115;&#46;"><span data-ep-b="&#108;&#46;&
 #99;om" data-ep-a="c&#104;&#114;&#105;&#115;"><span data-ep-a="t&#111;p&#10
 4;&#101;" data-ep-b="&#64;&#103;&#109;&#97;&#105;"></span></span></span></s
 pan><script>RegularLabs.EmailProtector.unCloak("ep_27e2964e");</script></li
 ><li><span class="gski-evenement-obs">Délégué Technique : SILBER JEAN-GEORG
 ES</span></li></ul><div class="gski-evenement-infos-2"><div class="gski-eve
 nement-info-inscriptions"><div class="gski-evenement-inscriptions-periodes"
 >Période d'inscription à l'evènement du samedi 13 mars 2021 à 01:00 au jeud
 i 18 mars 2021 à 13:00 <span class="gski-evenement-inscriptions-impossibles
 ">(Inscriptions impossibles).</span><div class="gski-evenement-inscriptions
 -types-titres">Inscriptions ouvertes aux detenteurs des titres Fédéraux val
 ides suivants : Licenciés Compétiteurs et Titres Loisirs et Dirigeants</div
 ></div></div><div class="gskiepreuves-links"><ul><li><a href="https://skivo
 sges.net/index.php?option=com_jevents&task=icalevent.detail&evid=1642&Itemi
 d=6289">Voir les informations dans l'agenda...</a></li></ul></div><div clas
 s="gski-evenement-epreuves"><div class="gski-evenement-epreuves-titres">Epr
 euves :</div><ul class="gski-evenement-epreuves-list"><li><div class="gski-
 epreuve-date">Le samedi 20 mars 2021</div><ul class="gski-epreuve-liste-inf
 os"><li>Codex épreuve AMVM0701</li><li>Slalom Geant</li><li>Catégorie(s) : 
 U8/U10 (Garçons)</li></ul></li><li><div class="gski-epreuve-date">Le samedi
  20 mars 2021</div><ul class="gski-epreuve-liste-infos"><li>Codex épreuve A
 MVF0701</li><li>Slalom Geant</li><li>Catégorie(s) : U8/U10 (Filles)</li></u
 l></li><li><div class="gski-epreuve-date">Le samedi 20 mars 2021</div><ul c
 lass="gski-epreuve-liste-infos"><li>Codex épreuve AMVM0702</li><li>Slalom G
 eant</li><li>Catégorie(s) : U12 a U16 (Garçons)</li></ul></li><li><div clas
 s="gski-epreuve-date">Le samedi 20 mars 2021</div><ul class="gski-epreuve-l
 iste-infos"><li>Codex épreuve AMVF0702</li><li>Slalom Geant</li><li>Catégor
 ie(s) : U12 a U16 (Filles)</li></ul></li></ul></div><div class="gskiepreuve
 s-links"><ul><li><a href="https://skivosges.net/index.php?option=com_jevent
 s&task=icalevent.detail&evid=1642&Itemid=6289">Voir les informations dans l
 'agenda...</a></li></ul></div></div"><!-- #/gskiepreuve fin du dode généré 
 par le plugin jevents pour GskiEpreuves. . Ne pas modifier cette ligne, ni 
 tout le contenu précedant.  #/gskiepreuve --> <a href="https://skivosges.ne
 t/agenda/a-venir/detailevenement/1647/-/promo-prix-du-conseil-departemental
 -du-bas-rhin?tmpl=component">Cet évènement a été importé depuis :https://sk
 ivosges.net/agenda/a-venir/detailevenement/1647/-/promo-prix-du-conseil-dep
 artemental-du-bas-rhin?tmpl=component</a>DTSTAMP:20260421T015603
DTSTART;TZID=Europe/Paris;VALUE=DATE:20210320
DTEND;TZID=Europe/Paris;VALUE=DATE:20210321
SEQUENCE:0
TRANSP:OPAQUE
END:VEVENT
END:VCALENDAR