BEGIN:VCALENDAR
VERSION:2.0
PRODID:-//jEvents 2.0 for Joomla//EN
CALSCALE:GREGORIAN
METHOD:PUBLISH
BEGIN:VTIMEZONE
TZID:Europe/Paris
BEGIN:STANDARD
DTSTART:20200319T000000
RDATE:20200329T030000
TZOFFSETFROM:+0200
TZOFFSETTO:+0100
TZNAME:Europe/Paris CET
END:STANDARD
BEGIN:STANDARD
DTSTART:20201025T020000
RDATE:20210328T030000
TZOFFSETFROM:+0200
TZOFFSETTO:+0100
TZNAME:Europe/Paris CET
END:STANDARD
BEGIN:STANDARD
DTSTART:20211031T020000
RDATE:20220327T030000
TZOFFSETFROM:+0200
TZOFFSETTO:+0100
TZNAME:Europe/Paris CET
END:STANDARD
BEGIN:STANDARD
DTSTART:20221030T020000
RDATE:20230326T030000
TZOFFSETFROM:+0200
TZOFFSETTO:+0100
TZNAME:Europe/Paris CET
END:STANDARD
BEGIN:STANDARD
DTSTART:20231029T020000
RDATE:20240331T030000
TZOFFSETFROM:+0200
TZOFFSETTO:+0100
TZNAME:Europe/Paris CET
END:STANDARD
BEGIN:STANDARD
DTSTART:20241027T020000
RDATE:20250330T030000
TZOFFSETFROM:+0200
TZOFFSETTO:+0100
TZNAME:Europe/Paris CET
END:STANDARD
BEGIN:STANDARD
DTSTART:20251026T020000
RDATE:20260329T030000
TZOFFSETFROM:+0200
TZOFFSETTO:+0100
TZNAME:Europe/Paris CET
END:STANDARD
BEGIN:STANDARD
DTSTART:20261025T020000
RDATE:20270328T030000
TZOFFSETFROM:+0200
TZOFFSETTO:+0100
TZNAME:Europe/Paris CET
END:STANDARD
BEGIN:DAYLIGHT
DTSTART:20200329T030000
RDATE:20201025T020000
TZOFFSETFROM:+0100
TZOFFSETTO:+0200
TZNAME:Europe/Paris CEST
END:DAYLIGHT
BEGIN:DAYLIGHT
DTSTART:20210328T030000
RDATE:20211031T020000
TZOFFSETFROM:+0100
TZOFFSETTO:+0200
TZNAME:Europe/Paris CEST
END:DAYLIGHT
BEGIN:DAYLIGHT
DTSTART:20220327T030000
RDATE:20221030T020000
TZOFFSETFROM:+0100
TZOFFSETTO:+0200
TZNAME:Europe/Paris CEST
END:DAYLIGHT
BEGIN:DAYLIGHT
DTSTART:20230326T030000
RDATE:20231029T020000
TZOFFSETFROM:+0100
TZOFFSETTO:+0200
TZNAME:Europe/Paris CEST
END:DAYLIGHT
BEGIN:DAYLIGHT
DTSTART:20240331T030000
RDATE:20241027T020000
TZOFFSETFROM:+0100
TZOFFSETTO:+0200
TZNAME:Europe/Paris CEST
END:DAYLIGHT
BEGIN:DAYLIGHT
DTSTART:20250330T030000
RDATE:20251026T020000
TZOFFSETFROM:+0100
TZOFFSETTO:+0200
TZNAME:Europe/Paris CEST
END:DAYLIGHT
BEGIN:DAYLIGHT
DTSTART:20260329T030000
RDATE:20261025T020000
TZOFFSETFROM:+0100
TZOFFSETTO:+0200
TZNAME:Europe/Paris CEST
END:DAYLIGHT
END:VTIMEZONE
BEGIN:VEVENT
UID:1b2aa1198801b54cfd9faffe153dc37c
CATEGORIES:Compétition Ski de Fond
CREATED:20201221T175314
SUMMARY:GRAND PRIX DES COMMERCANTS Crédit Mutuel N°11 Bigmat Atomic N°13 U13(9)
URL;VALUE=URI:https://skivosges.net/agenda/a-venir/detailevenement/1649/-/grand-prix-des-
 commercants-credit-mutuel-n-11-bigmat-atomic-n-13-u13-9?tmpl=component
DESCRIPTION:GRAND PRIX DES COMMERCANTS Crédit Mutuel N°11 Bigmat Atomic N°13 U13(9)\n -
  Codex évenement FMVT0250\n - Station : MARKSTEIN\n - Organisateur : 14053 
 S.C MARKSTEIN RANSPACH\n - Courriel : RegularLabs.EmailProtector.unCloak("e
 p_e3ac84d4");\n - Délégué Technique : SIMON ROBERTPériode d'inscription à l
 'evènement du samedi 13 mars 2021 à 01:00 au jeudi 18 mars 2021 à 13:00 (In
 scriptions impossibles).Inscriptions ouvertes aux detenteurs des titres Féd
 éraux valides suivants : Licenciés Compétiteurs\n - Voir les informations d
 ans l'agenda... (/index.php?option=com_jevents&amp;task=icalevent.detail&am
 p;evid=1644&amp;Itemid=6289)Epreuves :\n - Le samedi 20 mars 2021\n - Codex
  épreuve FMVF0251\n - Mass Start (Depart ligne)\n - Catégorie(s) : U13 (Fil
 les)\n - Le samedi 20 mars 2021\n - Codex épreuve FMVM0251\n - Mass Start (
 Depart ligne)\n - Catégorie(s) : U13 (Garçons)\n - Le samedi 20 mars 2021\n
  - Codex épreuve FMVF0252\n - Relais\n - Catégorie(s) : U15/U17 (Filles)\n 
 - Le samedi 20 mars 2021\n - Codex épreuve FMVM0252\n - Relais\n - Catégori
 e(s) : U15/U17 (Garçons)\n - Le samedi 20 mars 2021\n - Codex épreuve FMVF0
 253\n - Relais\n - Catégorie(s) : U20/SEN (Dames)\n - Le samedi 20 mars 202
 1\n - Codex épreuve FMVM0253\n - Relais\n - Catégorie(s) : U20/SEN (Hommes)
 \n - Voir les informations dans l'agenda... (/index.php?option=com_jevents&
 amp;task=icalevent.detail&amp;evid=1644&amp;Itemid=6289) Cet évènement a ét
 é importé depuis :https://skivosges.net/agenda/a-venir/detailevenement/1649
 /-/grand-prix-des-commercants-credit-mutuel-n-11-bigmat-atomic-n-13-u13-9?t
 mpl=component
X-ALT-DESC;FMTTYPE=text/html:<!-- #gskiepreuve code généré par le plugin jevents pour GskiEpreuves. Ne p
 as modifier cette ligne, ni tout le contenu suivant  #gskiepreuve --><div c
 lass="gski-evenement_infos"><div class="gski-evenement-nom">GRAND PRIX DES 
 COMMERCANTS Crédit Mutuel N°11 Bigmat Atomic N°13 U13(9)</div><div class="g
 ski-evenement-report"></div><ul class="gski-evenement-liste-infos"><li>Code
 x évenement FMVT0250</li><li>Station : MARKSTEIN</li><li>Organisateur : 140
 53 S.C MARKSTEIN RANSPACH</li><li>Courriel : <!-- Cette adresse électroniqu
 e est protégée contre les robots spammeurs. --><span class="cloaked_email e
 p_e3ac84d4"><span data-ep-b="&#99;&#111;m" data-ep-a="&#83;&#67;&#82;"><spa
 n data-ep-b="o&#108;." data-ep-a="A&#78;&#83;"><span data-ep-b="H&#64;&#97;
 " data-ep-a="&#80;&#65;&#67;"></span></span></span></span><script>RegularLa
 bs.EmailProtector.unCloak("ep_e3ac84d4");</script></li><li><span class="gsk
 i-evenement-obs">Délégué Technique : SIMON ROBERT</span></li></ul><div clas
 s="gski-evenement-infos-2"><div class="gski-evenement-info-inscriptions"><d
 iv class="gski-evenement-inscriptions-periodes">Période d'inscription à l'e
 vènement du samedi 13 mars 2021 à 01:00 au jeudi 18 mars 2021 à 13:00 <span
  class="gski-evenement-inscriptions-impossibles">(Inscriptions impossibles)
 .</span><div class="gski-evenement-inscriptions-types-titres">Inscriptions 
 ouvertes aux detenteurs des titres Fédéraux valides suivants : Licenciés Co
 mpétiteurs</div></div></div><div class="gskiepreuves-links"><ul><li><a href
 ="https://skivosges.net/index.php?option=com_jevents&task=icalevent.detail&
 evid=1644&Itemid=6289">Voir les informations dans l'agenda...</a></li></ul>
 </div><div class="gski-evenement-epreuves"><div class="gski-evenement-epreu
 ves-titres">Epreuves :</div><ul class="gski-evenement-epreuves-list"><li><d
 iv class="gski-epreuve-date">Le samedi 20 mars 2021</div><ul class="gski-ep
 reuve-liste-infos"><li>Codex épreuve FMVF0251</li><li>Mass Start (Depart li
 gne)</li><li>Catégorie(s) : U13 (Filles)</li></ul></li><li><div class="gski
 -epreuve-date">Le samedi 20 mars 2021</div><ul class="gski-epreuve-liste-in
 fos"><li>Codex épreuve FMVM0251</li><li>Mass Start (Depart ligne)</li><li>C
 atégorie(s) : U13 (Garçons)</li></ul></li><li><div class="gski-epreuve-date
 ">Le samedi 20 mars 2021</div><ul class="gski-epreuve-liste-infos"><li>Code
 x épreuve FMVF0252</li><li>Relais</li><li>Catégorie(s) : U15/U17 (Filles)</
 li></ul></li><li><div class="gski-epreuve-date">Le samedi 20 mars 2021</div
 ><ul class="gski-epreuve-liste-infos"><li>Codex épreuve FMVM0252</li><li>Re
 lais</li><li>Catégorie(s) : U15/U17 (Garçons)</li></ul></li><li><div class=
 "gski-epreuve-date">Le samedi 20 mars 2021</div><ul class="gski-epreuve-lis
 te-infos"><li>Codex épreuve FMVF0253</li><li>Relais</li><li>Catégorie(s) : 
 U20/SEN (Dames)</li></ul></li><li><div class="gski-epreuve-date">Le samedi 
 20 mars 2021</div><ul class="gski-epreuve-liste-infos"><li>Codex épreuve FM
 VM0253</li><li>Relais</li><li>Catégorie(s) : U20/SEN (Hommes)</li></ul></li
 ></ul></div><div class="gskiepreuves-links"><ul><li><a href="https://skivos
 ges.net/index.php?option=com_jevents&task=icalevent.detail&evid=1644&Itemid
 =6289">Voir les informations dans l'agenda...</a></li></ul></div></div"><!-
 - #/gskiepreuve fin du dode généré par le plugin jevents pour GskiEpreuves.
  . Ne pas modifier cette ligne, ni tout le contenu précedant.  #/gskiepreuv
 e --> <a href="https://skivosges.net/agenda/a-venir/detailevenement/1649/-/
 grand-prix-des-commercants-credit-mutuel-n-11-bigmat-atomic-n-13-u13-9?tmpl
 =component">Cet évènement a été importé depuis :https://skivosges.net/agend
 a/a-venir/detailevenement/1649/-/grand-prix-des-commercants-credit-mutuel-n
 -11-bigmat-atomic-n-13-u13-9?tmpl=component</a>DTSTAMP:20260421T015602
DTSTART;TZID=Europe/Paris;VALUE=DATE:20210320
DTEND;TZID=Europe/Paris;VALUE=DATE:20210321
SEQUENCE:0
TRANSP:OPAQUE
END:VEVENT
END:VCALENDAR