BEGIN:VCALENDAR
VERSION:2.0
PRODID:-//jEvents 2.0 for Joomla//EN
CALSCALE:GREGORIAN
METHOD:PUBLISH
BEGIN:VTIMEZONE
TZID:Europe/Paris
BEGIN:STANDARD
DTSTART:20200320T000000
RDATE:20200329T030000
TZOFFSETFROM:+0200
TZOFFSETTO:+0100
TZNAME:Europe/Paris CET
END:STANDARD
BEGIN:STANDARD
DTSTART:20201025T020000
RDATE:20210328T030000
TZOFFSETFROM:+0200
TZOFFSETTO:+0100
TZNAME:Europe/Paris CET
END:STANDARD
BEGIN:STANDARD
DTSTART:20211031T020000
RDATE:20220327T030000
TZOFFSETFROM:+0200
TZOFFSETTO:+0100
TZNAME:Europe/Paris CET
END:STANDARD
BEGIN:STANDARD
DTSTART:20221030T020000
RDATE:20230326T030000
TZOFFSETFROM:+0200
TZOFFSETTO:+0100
TZNAME:Europe/Paris CET
END:STANDARD
BEGIN:STANDARD
DTSTART:20231029T020000
RDATE:20240331T030000
TZOFFSETFROM:+0200
TZOFFSETTO:+0100
TZNAME:Europe/Paris CET
END:STANDARD
BEGIN:STANDARD
DTSTART:20241027T020000
RDATE:20250330T030000
TZOFFSETFROM:+0200
TZOFFSETTO:+0100
TZNAME:Europe/Paris CET
END:STANDARD
BEGIN:STANDARD
DTSTART:20251026T020000
RDATE:20260329T030000
TZOFFSETFROM:+0200
TZOFFSETTO:+0100
TZNAME:Europe/Paris CET
END:STANDARD
BEGIN:STANDARD
DTSTART:20261025T020000
RDATE:20270328T030000
TZOFFSETFROM:+0200
TZOFFSETTO:+0100
TZNAME:Europe/Paris CET
END:STANDARD
BEGIN:DAYLIGHT
DTSTART:20200329T030000
RDATE:20201025T020000
TZOFFSETFROM:+0100
TZOFFSETTO:+0200
TZNAME:Europe/Paris CEST
END:DAYLIGHT
BEGIN:DAYLIGHT
DTSTART:20210328T030000
RDATE:20211031T020000
TZOFFSETFROM:+0100
TZOFFSETTO:+0200
TZNAME:Europe/Paris CEST
END:DAYLIGHT
BEGIN:DAYLIGHT
DTSTART:20220327T030000
RDATE:20221030T020000
TZOFFSETFROM:+0100
TZOFFSETTO:+0200
TZNAME:Europe/Paris CEST
END:DAYLIGHT
BEGIN:DAYLIGHT
DTSTART:20230326T030000
RDATE:20231029T020000
TZOFFSETFROM:+0100
TZOFFSETTO:+0200
TZNAME:Europe/Paris CEST
END:DAYLIGHT
BEGIN:DAYLIGHT
DTSTART:20240331T030000
RDATE:20241027T020000
TZOFFSETFROM:+0100
TZOFFSETTO:+0200
TZNAME:Europe/Paris CEST
END:DAYLIGHT
BEGIN:DAYLIGHT
DTSTART:20250330T030000
RDATE:20251026T020000
TZOFFSETFROM:+0100
TZOFFSETTO:+0200
TZNAME:Europe/Paris CEST
END:DAYLIGHT
BEGIN:DAYLIGHT
DTSTART:20260329T030000
RDATE:20261025T020000
TZOFFSETFROM:+0100
TZOFFSETTO:+0200
TZNAME:Europe/Paris CEST
END:DAYLIGHT
END:VTIMEZONE
BEGIN:VEVENT
UID:2f6ebd3e8baa78726d9063b05d7ab920
CATEGORIES:Compétition Ski Alpin
CREATED:20201221T175434
SUMMARY:CMJ Mic micro coupe Prix du Rouge gazon
URL;VALUE=URI:https://skivosges.net/agenda/a-venir/detailevenement/1652/-/cmj-mic-micro-c
 oupe-prix-du-rouge-gazon?tmpl=component
DESCRIPTION:<!-- #gskiepreuve code généré par le plugin jevents pour GskiEpreuves. Ne p
 as modifier cette ligne, ni tout le contenu suivant  #gskiepreuve --><div c
 lass="gski-evenement_infos"><div class="gski-evenement-nom">CMJ Mic micro c
 oupe Prix du Rouge gazon</div><div class="gski-evenement-report"></div><ul 
 class="gski-evenement-liste-infos"><li>Codex évenement AMVT0740</li><li>Sta
 tion : ROUGE GAZON</li><li>Organisateur : 14063 SKIEURS DE ST MAURICE/MOSEL
 LE</li><li>Courriel : <!-- Cette adresse électronique est protégée contre l
 es robots spammeurs. --><span class="cloaked_email ep_7a3fb0fd"><span data-
 ep-a="d&#97;&#110;&#105;" data-ep-b=""><span data-ep-a="e&#108;&#46;&#109;"
  data-ep-b="&#114;&#46;&#102;&#114;"><span data-ep-b="&#53;&#64;&#115;&#102
 ;" data-ep-a="&#111;rel"></span></span></span></span><script>RegularLabs.Em
 ailProtector.unCloak("ep_7a3fb0fd");</script></li><li><span class="gski-eve
 nement-obs">Délégué Technique : RUER ALAIN</span></li></ul><div class="gski
 -evenement-infos-2"><div class="gski-evenement-info-inscriptions"><div clas
 s="gski-evenement-inscriptions-periodes">Période d'inscription à l'evènemen
 t du dimanche 14 mars 2021 à 01:00 au vendredi 19 mars 2021 à 13:00 <span c
 lass="gski-evenement-inscriptions-impossibles">(Inscriptions impossibles).<
 /span><div class="gski-evenement-inscriptions-types-titres">Inscriptions ou
 vertes aux detenteurs des titres Fédéraux valides suivants : Licenciés Comp
 étiteurs</div></div></div><div class="gskiepreuves-links"><ul><li><a href="
 /index.php?option=com_jevents&task=icalevent.detail&evid=1647&Itemid=6289">
 Voir les informations dans l'agenda...</a></li></ul></div><div class="gski-
 evenement-epreuves"><div class="gski-evenement-epreuves-titres">Epreuves :<
 /div><ul class="gski-evenement-epreuves-list"><li><div class="gski-epreuve-
 date">Le dimanche 21 mars 2021</div><ul class="gski-epreuve-liste-infos"><l
 i>Codex épreuve AMVM0741</li><li>Combine Race</li><li>Catégorie(s) : U8/U10
  (Garçons)</li></ul></li><li><div class="gski-epreuve-date">Le dimanche 21 
 mars 2021</div><ul class="gski-epreuve-liste-infos"><li>Codex épreuve AMVF0
 741</li><li>Combine Race</li><li>Catégorie(s) : U8/U10 (Filles)</li></ul></
 li></ul></div><div class="gskiepreuves-links"><ul><li><a href="/index.php?o
 ption=com_jevents&task=icalevent.detail&evid=1647&Itemid=6289">Voir les inf
 ormations dans l'agenda...</a></li></ul></div></div"><!-- #/gskiepreuve fin
  du dode généré par le plugin jevents pour GskiEpreuves. . Ne pas modifier 
 cette ligne, ni tout le contenu précedant.  #/gskiepreuve --> <a href="http
 s://skivosges.net/agenda/a-venir/detailevenement/1652/-/cmj-mic-micro-coupe
 -prix-du-rouge-gazon?tmpl=component">Cet évènement a été importé depuis :ht
 tps://skivosges.net/agenda/a-venir/detailevenement/1652/-/cmj-mic-micro-cou
 pe-prix-du-rouge-gazon?tmpl=component</a>
X-ALT-DESC;FMTTYPE=text/html:<!-- #gskiepreuve code généré par le plugin jevents pour GskiEpreuves. Ne p
 as modifier cette ligne, ni tout le contenu suivant  #gskiepreuve --><div c
 lass="gski-evenement_infos"><div class="gski-evenement-nom">CMJ Mic micro c
 oupe Prix du Rouge gazon</div><div class="gski-evenement-report"></div><ul 
 class="gski-evenement-liste-infos"><li>Codex évenement AMVT0740</li><li>Sta
 tion : ROUGE GAZON</li><li>Organisateur : 14063 SKIEURS DE ST MAURICE/MOSEL
 LE</li><li>Courriel : <!-- Cette adresse électronique est protégée contre l
 es robots spammeurs. --><span class="cloaked_email ep_7a3fb0fd"><span data-
 ep-a="d&#97;&#110;&#105;" data-ep-b=""><span data-ep-a="e&#108;&#46;&#109;"
  data-ep-b="&#114;&#46;&#102;&#114;"><span data-ep-b="&#53;&#64;&#115;&#102
 ;" data-ep-a="&#111;rel"></span></span></span></span><script>RegularLabs.Em
 ailProtector.unCloak("ep_7a3fb0fd");</script></li><li><span class="gski-eve
 nement-obs">Délégué Technique : RUER ALAIN</span></li></ul><div class="gski
 -evenement-infos-2"><div class="gski-evenement-info-inscriptions"><div clas
 s="gski-evenement-inscriptions-periodes">Période d'inscription à l'evènemen
 t du dimanche 14 mars 2021 à 01:00 au vendredi 19 mars 2021 à 13:00 <span c
 lass="gski-evenement-inscriptions-impossibles">(Inscriptions impossibles).<
 /span><div class="gski-evenement-inscriptions-types-titres">Inscriptions ou
 vertes aux detenteurs des titres Fédéraux valides suivants : Licenciés Comp
 étiteurs</div></div></div><div class="gskiepreuves-links"><ul><li><a href="
 https://skivosges.net/index.php?option=com_jevents&task=icalevent.detail&ev
 id=1647&Itemid=6289">Voir les informations dans l'agenda...</a></li></ul></
 div><div class="gski-evenement-epreuves"><div class="gski-evenement-epreuve
 s-titres">Epreuves :</div><ul class="gski-evenement-epreuves-list"><li><div
  class="gski-epreuve-date">Le dimanche 21 mars 2021</div><ul class="gski-ep
 reuve-liste-infos"><li>Codex épreuve AMVM0741</li><li>Combine Race</li><li>
 Catégorie(s) : U8/U10 (Garçons)</li></ul></li><li><div class="gski-epreuve-
 date">Le dimanche 21 mars 2021</div><ul class="gski-epreuve-liste-infos"><l
 i>Codex épreuve AMVF0741</li><li>Combine Race</li><li>Catégorie(s) : U8/U10
  (Filles)</li></ul></li></ul></div><div class="gskiepreuves-links"><ul><li>
 <a href="https://skivosges.net/index.php?option=com_jevents&task=icalevent.
 detail&evid=1647&Itemid=6289">Voir les informations dans l'agenda...</a></l
 i></ul></div></div"><!-- #/gskiepreuve fin du dode généré par le plugin jev
 ents pour GskiEpreuves. . Ne pas modifier cette ligne, ni tout le contenu p
 récedant.  #/gskiepreuve --> <a href="https://skivosges.net/agenda/a-venir/
 detailevenement/1652/-/cmj-mic-micro-coupe-prix-du-rouge-gazon?tmpl=compone
 nt">Cet évènement a été importé depuis :https://skivosges.net/agenda/a-veni
 r/detailevenement/1652/-/cmj-mic-micro-coupe-prix-du-rouge-gazon?tmpl=compo
 nent</a>DTSTAMP:20260421T051505
DTSTART;TZID=Europe/Paris;VALUE=DATE:20210321
DTEND;TZID=Europe/Paris;VALUE=DATE:20210322
SEQUENCE:0
TRANSP:OPAQUE
END:VEVENT
END:VCALENDAR