BEGIN:VCALENDAR
VERSION:2.0
PRODID:-//jEvents 2.0 for Joomla//EN
CALSCALE:GREGORIAN
METHOD:PUBLISH
BEGIN:VTIMEZONE
TZID:Europe/Paris
BEGIN:STANDARD
DTSTART:20200326T000000
RDATE:20200329T030000
TZOFFSETFROM:+0200
TZOFFSETTO:+0100
TZNAME:Europe/Paris CET
END:STANDARD
BEGIN:STANDARD
DTSTART:20201025T020000
RDATE:20210328T030000
TZOFFSETFROM:+0200
TZOFFSETTO:+0100
TZNAME:Europe/Paris CET
END:STANDARD
BEGIN:STANDARD
DTSTART:20211031T020000
RDATE:20220327T030000
TZOFFSETFROM:+0200
TZOFFSETTO:+0100
TZNAME:Europe/Paris CET
END:STANDARD
BEGIN:STANDARD
DTSTART:20221030T020000
RDATE:20230326T030000
TZOFFSETFROM:+0200
TZOFFSETTO:+0100
TZNAME:Europe/Paris CET
END:STANDARD
BEGIN:STANDARD
DTSTART:20231029T020000
RDATE:20240331T030000
TZOFFSETFROM:+0200
TZOFFSETTO:+0100
TZNAME:Europe/Paris CET
END:STANDARD
BEGIN:STANDARD
DTSTART:20241027T020000
RDATE:20250330T030000
TZOFFSETFROM:+0200
TZOFFSETTO:+0100
TZNAME:Europe/Paris CET
END:STANDARD
BEGIN:STANDARD
DTSTART:20251026T020000
RDATE:20260329T030000
TZOFFSETFROM:+0200
TZOFFSETTO:+0100
TZNAME:Europe/Paris CET
END:STANDARD
BEGIN:STANDARD
DTSTART:20261025T020000
RDATE:20270328T030000
TZOFFSETFROM:+0200
TZOFFSETTO:+0100
TZNAME:Europe/Paris CET
END:STANDARD
BEGIN:DAYLIGHT
DTSTART:20200329T030000
RDATE:20201025T020000
TZOFFSETFROM:+0100
TZOFFSETTO:+0200
TZNAME:Europe/Paris CEST
END:DAYLIGHT
BEGIN:DAYLIGHT
DTSTART:20210328T030000
RDATE:20211031T020000
TZOFFSETFROM:+0100
TZOFFSETTO:+0200
TZNAME:Europe/Paris CEST
END:DAYLIGHT
BEGIN:DAYLIGHT
DTSTART:20220327T030000
RDATE:20221030T020000
TZOFFSETFROM:+0100
TZOFFSETTO:+0200
TZNAME:Europe/Paris CEST
END:DAYLIGHT
BEGIN:DAYLIGHT
DTSTART:20230326T030000
RDATE:20231029T020000
TZOFFSETFROM:+0100
TZOFFSETTO:+0200
TZNAME:Europe/Paris CEST
END:DAYLIGHT
BEGIN:DAYLIGHT
DTSTART:20240331T030000
RDATE:20241027T020000
TZOFFSETFROM:+0100
TZOFFSETTO:+0200
TZNAME:Europe/Paris CEST
END:DAYLIGHT
BEGIN:DAYLIGHT
DTSTART:20250330T030000
RDATE:20251026T020000
TZOFFSETFROM:+0100
TZOFFSETTO:+0200
TZNAME:Europe/Paris CEST
END:DAYLIGHT
BEGIN:DAYLIGHT
DTSTART:20260329T030000
RDATE:20261025T020000
TZOFFSETFROM:+0100
TZOFFSETTO:+0200
TZNAME:Europe/Paris CEST
END:DAYLIGHT
END:VTIMEZONE
BEGIN:VEVENT
UID:f42d06a90d3292c428226770e39a50f2
CATEGORIES:Compétition Ski de Fond
CREATED:20201221T175620
SUMMARY:RELAIS PRE CLUBS
URL;VALUE=URI:https://skivosges.net/agenda/a-venir/detailevenement/1656/-/relais-pre-club
 s?tmpl=component
DESCRIPTION:<!-- #gskiepreuve code généré par le plugin jevents pour GskiEpreuves. Ne p
 as modifier cette ligne, ni tout le contenu suivant  #gskiepreuve --><div c
 lass="gski-evenement_infos"><div class="gski-evenement-nom">RELAIS PRE CLUB
 S</div><div class="gski-evenement-report"></div><ul class="gski-evenement-l
 iste-infos"><li>Codex évenement FMVT0260</li><li>Station : STOSSWIHR</li><l
 i>Organisateur : 14199 SKIEURS DU TANET</li><li>Courriel : <!-- Cette adres
 se électronique est protégée contre les robots spammeurs. --><span class="c
 loaked_email ep_ccc84d86"><span data-ep-a="sc&#104;i&#108;" data-ep-b="&#11
 1;&#46;f&#114;"><span data-ep-a="l&#105;&#110;g&#101;" data-ep-b="a&#110;&#
 97;&#100;&#111;"><span data-ep-a="&#114;.&#100;i&#100;" data-ep-b="&#105;&#
 101;r&#64;&#119;"></span></span></span></span><script>RegularLabs.EmailProt
 ector.unCloak("ep_ccc84d86");</script></li></ul><div class="gski-evenement-
 infos-2"><div class="gski-evenement-info-inscriptions"><div class="gski-eve
 nement-inscriptions-periodes">Période d'inscription à l'evènement du samedi
  20 mars 2021 à 01:00 au jeudi 25 mars 2021 à 13:00 <span class="gski-evene
 ment-inscriptions-impossibles">(Inscriptions impossibles).</span><div class
 ="gski-evenement-inscriptions-types-titres">Inscriptions ouvertes aux deten
 teurs des titres Fédéraux valides suivants : Licenciés Compétiteurs et Titr
 es Loisirs et Dirigeants</div></div></div><div class="gskiepreuves-links"><
 ul><li><a href="/index.php?option=com_jevents&task=icalevent.detail&evid=16
 51&Itemid=6289">Voir les informations dans l'agenda...</a></li></ul></div><
 div class="gski-evenement-epreuves"><div class="gski-evenement-epreuves-tit
 res">Epreuves :</div><ul class="gski-evenement-epreuves-list"><li><div clas
 s="gski-epreuve-date">Le samedi 27 mars 2021</div><ul class="gski-epreuve-l
 iste-infos"><li>Codex épreuve FMVF0261</li><li>Relais</li><li>Catégorie(s) 
 : U9 (Filles)</li></ul></li><li><div class="gski-epreuve-date">Le samedi 27
  mars 2021</div><ul class="gski-epreuve-liste-infos"><li>Codex épreuve FMVM
 0261</li><li>Relais</li><li>Catégorie(s) : U9 (Garçons)</li></ul></li><li><
 div class="gski-epreuve-date">Le samedi 27 mars 2021</div><ul class="gski-e
 preuve-liste-infos"><li>Codex épreuve FMVF0262</li><li>Relais</li><li>Catég
 orie(s) : U11 (Filles)</li></ul></li><li><div class="gski-epreuve-date">Le 
 samedi 27 mars 2021</div><ul class="gski-epreuve-liste-infos"><li>Codex épr
 euve FMVM0262</li><li>Relais</li><li>Catégorie(s) : U11 (Garçons)</li></ul>
 </li><li><div class="gski-epreuve-date">Le samedi 27 mars 2021</div><ul cla
 ss="gski-epreuve-liste-infos"><li>Codex épreuve FMVF0263</li><li>Relais</li
 ><li>Catégorie(s) : U13 (Filles)</li></ul></li><li><div class="gski-epreuve
 -date">Le samedi 27 mars 2021</div><ul class="gski-epreuve-liste-infos"><li
 >Codex épreuve FMVM0263</li><li>Relais</li><li>Catégorie(s) : U13 (Garçons)
 </li></ul></li></ul></div><div class="gskiepreuves-links"><ul><li><a href="
 /index.php?option=com_jevents&task=icalevent.detail&evid=1651&Itemid=6289">
 Voir les informations dans l'agenda...</a></li></ul></div></div"><!-- #/gsk
 iepreuve fin du dode généré par le plugin jevents pour GskiEpreuves. . Ne p
 as modifier cette ligne, ni tout le contenu précedant.  #/gskiepreuve --> <
 a href="https://skivosges.net/agenda/a-venir/detailevenement/1656/-/relais-
 pre-clubs?tmpl=component">Cet évènement a été importé depuis :https://skivo
 sges.net/agenda/a-venir/detailevenement/1656/-/relais-pre-clubs?tmpl=compon
 ent</a>
X-ALT-DESC;FMTTYPE=text/html:<!-- #gskiepreuve code généré par le plugin jevents pour GskiEpreuves. Ne p
 as modifier cette ligne, ni tout le contenu suivant  #gskiepreuve --><div c
 lass="gski-evenement_infos"><div class="gski-evenement-nom">RELAIS PRE CLUB
 S</div><div class="gski-evenement-report"></div><ul class="gski-evenement-l
 iste-infos"><li>Codex évenement FMVT0260</li><li>Station : STOSSWIHR</li><l
 i>Organisateur : 14199 SKIEURS DU TANET</li><li>Courriel : <!-- Cette adres
 se électronique est protégée contre les robots spammeurs. --><span class="c
 loaked_email ep_ccc84d86"><span data-ep-a="sc&#104;i&#108;" data-ep-b="&#11
 1;&#46;f&#114;"><span data-ep-a="l&#105;&#110;g&#101;" data-ep-b="a&#110;&#
 97;&#100;&#111;"><span data-ep-a="&#114;.&#100;i&#100;" data-ep-b="&#105;&#
 101;r&#64;&#119;"></span></span></span></span><script>RegularLabs.EmailProt
 ector.unCloak("ep_ccc84d86");</script></li></ul><div class="gski-evenement-
 infos-2"><div class="gski-evenement-info-inscriptions"><div class="gski-eve
 nement-inscriptions-periodes">Période d'inscription à l'evènement du samedi
  20 mars 2021 à 01:00 au jeudi 25 mars 2021 à 13:00 <span class="gski-evene
 ment-inscriptions-impossibles">(Inscriptions impossibles).</span><div class
 ="gski-evenement-inscriptions-types-titres">Inscriptions ouvertes aux deten
 teurs des titres Fédéraux valides suivants : Licenciés Compétiteurs et Titr
 es Loisirs et Dirigeants</div></div></div><div class="gskiepreuves-links"><
 ul><li><a href="https://skivosges.net/index.php?option=com_jevents&task=ica
 levent.detail&evid=1651&Itemid=6289">Voir les informations dans l'agenda...
 </a></li></ul></div><div class="gski-evenement-epreuves"><div class="gski-e
 venement-epreuves-titres">Epreuves :</div><ul class="gski-evenement-epreuve
 s-list"><li><div class="gski-epreuve-date">Le samedi 27 mars 2021</div><ul 
 class="gski-epreuve-liste-infos"><li>Codex épreuve FMVF0261</li><li>Relais<
 /li><li>Catégorie(s) : U9 (Filles)</li></ul></li><li><div class="gski-epreu
 ve-date">Le samedi 27 mars 2021</div><ul class="gski-epreuve-liste-infos"><
 li>Codex épreuve FMVM0261</li><li>Relais</li><li>Catégorie(s) : U9 (Garçons
 )</li></ul></li><li><div class="gski-epreuve-date">Le samedi 27 mars 2021</
 div><ul class="gski-epreuve-liste-infos"><li>Codex épreuve FMVF0262</li><li
 >Relais</li><li>Catégorie(s) : U11 (Filles)</li></ul></li><li><div class="g
 ski-epreuve-date">Le samedi 27 mars 2021</div><ul class="gski-epreuve-liste
 -infos"><li>Codex épreuve FMVM0262</li><li>Relais</li><li>Catégorie(s) : U1
 1 (Garçons)</li></ul></li><li><div class="gski-epreuve-date">Le samedi 27 m
 ars 2021</div><ul class="gski-epreuve-liste-infos"><li>Codex épreuve FMVF02
 63</li><li>Relais</li><li>Catégorie(s) : U13 (Filles)</li></ul></li><li><di
 v class="gski-epreuve-date">Le samedi 27 mars 2021</div><ul class="gski-epr
 euve-liste-infos"><li>Codex épreuve FMVM0263</li><li>Relais</li><li>Catégor
 ie(s) : U13 (Garçons)</li></ul></li></ul></div><div class="gskiepreuves-lin
 ks"><ul><li><a href="https://skivosges.net/index.php?option=com_jevents&tas
 k=icalevent.detail&evid=1651&Itemid=6289">Voir les informations dans l'agen
 da...</a></li></ul></div></div"><!-- #/gskiepreuve fin du dode généré par l
 e plugin jevents pour GskiEpreuves. . Ne pas modifier cette ligne, ni tout 
 le contenu précedant.  #/gskiepreuve --> <a href="https://skivosges.net/age
 nda/a-venir/detailevenement/1656/-/relais-pre-clubs?tmpl=component">Cet évè
 nement a été importé depuis :https://skivosges.net/agenda/a-venir/detaileve
 nement/1656/-/relais-pre-clubs?tmpl=component</a>DTSTAMP:20260421T051501
DTSTART;TZID=Europe/Paris;VALUE=DATE:20210327
DTEND;TZID=Europe/Paris;VALUE=DATE:20210328
SEQUENCE:0
TRANSP:OPAQUE
END:VEVENT
END:VCALENDAR