BEGIN:VCALENDAR
VERSION:2.0
PRODID:-//jEvents 2.0 for Joomla//EN
CALSCALE:GREGORIAN
METHOD:PUBLISH
BEGIN:VTIMEZONE
TZID:Europe/Paris
BEGIN:STANDARD
DTSTART:20130307T080000
RDATE:20130331T030000
TZOFFSETFROM:+0200
TZOFFSETTO:+0100
TZNAME:Europe/Paris CET
END:STANDARD
BEGIN:STANDARD
DTSTART:20131027T020000
RDATE:20140330T030000
TZOFFSETFROM:+0200
TZOFFSETTO:+0100
TZNAME:Europe/Paris CET
END:STANDARD
BEGIN:STANDARD
DTSTART:20141026T020000
RDATE:20150329T030000
TZOFFSETFROM:+0200
TZOFFSETTO:+0100
TZNAME:Europe/Paris CET
END:STANDARD
BEGIN:STANDARD
DTSTART:20151025T020000
RDATE:20160327T030000
TZOFFSETFROM:+0200
TZOFFSETTO:+0100
TZNAME:Europe/Paris CET
END:STANDARD
BEGIN:STANDARD
DTSTART:20161030T020000
RDATE:20170326T030000
TZOFFSETFROM:+0200
TZOFFSETTO:+0100
TZNAME:Europe/Paris CET
END:STANDARD
BEGIN:STANDARD
DTSTART:20171029T020000
RDATE:20180325T030000
TZOFFSETFROM:+0200
TZOFFSETTO:+0100
TZNAME:Europe/Paris CET
END:STANDARD
BEGIN:STANDARD
DTSTART:20181028T020000
RDATE:20190331T030000
TZOFFSETFROM:+0200
TZOFFSETTO:+0100
TZNAME:Europe/Paris CET
END:STANDARD
BEGIN:STANDARD
DTSTART:20191027T020000
RDATE:20200329T030000
TZOFFSETFROM:+0200
TZOFFSETTO:+0100
TZNAME:Europe/Paris CET
END:STANDARD
BEGIN:STANDARD
DTSTART:20201025T020000
RDATE:20210328T030000
TZOFFSETFROM:+0200
TZOFFSETTO:+0100
TZNAME:Europe/Paris CET
END:STANDARD
BEGIN:STANDARD
DTSTART:20211031T020000
RDATE:20220327T030000
TZOFFSETFROM:+0200
TZOFFSETTO:+0100
TZNAME:Europe/Paris CET
END:STANDARD
BEGIN:STANDARD
DTSTART:20221030T020000
RDATE:20230326T030000
TZOFFSETFROM:+0200
TZOFFSETTO:+0100
TZNAME:Europe/Paris CET
END:STANDARD
BEGIN:STANDARD
DTSTART:20231029T020000
RDATE:20240331T030000
TZOFFSETFROM:+0200
TZOFFSETTO:+0100
TZNAME:Europe/Paris CET
END:STANDARD
BEGIN:STANDARD
DTSTART:20241027T020000
RDATE:20250330T030000
TZOFFSETFROM:+0200
TZOFFSETTO:+0100
TZNAME:Europe/Paris CET
END:STANDARD
BEGIN:STANDARD
DTSTART:20251026T020000
RDATE:20260329T030000
TZOFFSETFROM:+0200
TZOFFSETTO:+0100
TZNAME:Europe/Paris CET
END:STANDARD
BEGIN:STANDARD
DTSTART:20261025T020000
RDATE:20270328T030000
TZOFFSETFROM:+0200
TZOFFSETTO:+0100
TZNAME:Europe/Paris CET
END:STANDARD
BEGIN:DAYLIGHT
DTSTART:20130331T030000
RDATE:20131027T020000
TZOFFSETFROM:+0100
TZOFFSETTO:+0200
TZNAME:Europe/Paris CEST
END:DAYLIGHT
BEGIN:DAYLIGHT
DTSTART:20140330T030000
RDATE:20141026T020000
TZOFFSETFROM:+0100
TZOFFSETTO:+0200
TZNAME:Europe/Paris CEST
END:DAYLIGHT
BEGIN:DAYLIGHT
DTSTART:20150329T030000
RDATE:20151025T020000
TZOFFSETFROM:+0100
TZOFFSETTO:+0200
TZNAME:Europe/Paris CEST
END:DAYLIGHT
BEGIN:DAYLIGHT
DTSTART:20160327T030000
RDATE:20161030T020000
TZOFFSETFROM:+0100
TZOFFSETTO:+0200
TZNAME:Europe/Paris CEST
END:DAYLIGHT
BEGIN:DAYLIGHT
DTSTART:20170326T030000
RDATE:20171029T020000
TZOFFSETFROM:+0100
TZOFFSETTO:+0200
TZNAME:Europe/Paris CEST
END:DAYLIGHT
BEGIN:DAYLIGHT
DTSTART:20180325T030000
RDATE:20181028T020000
TZOFFSETFROM:+0100
TZOFFSETTO:+0200
TZNAME:Europe/Paris CEST
END:DAYLIGHT
BEGIN:DAYLIGHT
DTSTART:20190331T030000
RDATE:20191027T020000
TZOFFSETFROM:+0100
TZOFFSETTO:+0200
TZNAME:Europe/Paris CEST
END:DAYLIGHT
BEGIN:DAYLIGHT
DTSTART:20200329T030000
RDATE:20201025T020000
TZOFFSETFROM:+0100
TZOFFSETTO:+0200
TZNAME:Europe/Paris CEST
END:DAYLIGHT
BEGIN:DAYLIGHT
DTSTART:20210328T030000
RDATE:20211031T020000
TZOFFSETFROM:+0100
TZOFFSETTO:+0200
TZNAME:Europe/Paris CEST
END:DAYLIGHT
BEGIN:DAYLIGHT
DTSTART:20220327T030000
RDATE:20221030T020000
TZOFFSETFROM:+0100
TZOFFSETTO:+0200
TZNAME:Europe/Paris CEST
END:DAYLIGHT
BEGIN:DAYLIGHT
DTSTART:20230326T030000
RDATE:20231029T020000
TZOFFSETFROM:+0100
TZOFFSETTO:+0200
TZNAME:Europe/Paris CEST
END:DAYLIGHT
BEGIN:DAYLIGHT
DTSTART:20240331T030000
RDATE:20241027T020000
TZOFFSETFROM:+0100
TZOFFSETTO:+0200
TZNAME:Europe/Paris CEST
END:DAYLIGHT
BEGIN:DAYLIGHT
DTSTART:20250330T030000
RDATE:20251026T020000
TZOFFSETFROM:+0100
TZOFFSETTO:+0200
TZNAME:Europe/Paris CEST
END:DAYLIGHT
BEGIN:DAYLIGHT
DTSTART:20260329T030000
RDATE:20261025T020000
TZOFFSETFROM:+0100
TZOFFSETTO:+0200
TZNAME:Europe/Paris CEST
END:DAYLIGHT
END:VTIMEZONE
BEGIN:VEVENT
UID:5890dc0b7f356701c886799cb02c16fe
CATEGORIES:Compétition Ski de Fond
CREATED:20131203T122100
SUMMARY:Coupe Hahnenbrunen-Roedelen Crédit Mutuel BigMat Relais
URL;VALUE=URI:https://skivosges.net/agenda/a-venir/detailevenement/167/-/coupe-hahnenbrun
 en-roedelen-credit-mutuel-bigmat-relais?tmpl=component
DESCRIPTION:Coupe Hahnenbrunen-Roedelen Crédit Mutuel BigMat Relais\n\nLieu : MARKSTEIN
  \nPiste : Nordic Parc\nOrganisateur : TOURING CLUB MULHOUSE  (14044 TOURIN
 G CLUB MULHOUSE)\nTelecopie : 03 89 59 55 56\n\nAttention, une équipe mixte
  pour relai Mi/Ca et pour relai Je,Ju,Se et ce, par club. Envoyer par mail 
 la composition de vos relais\n\nInscriptions en cours sur ce site\n - FMVF0
 261  Relais Minime Filles\n  Coupe Hanenbrunen-Roedelen Crédit Mutuel BigMa
 t Relais\n - FMVM0261  Relais Minime Garçons\n  Coupe Hanenbrunen-Roedelen 
 Crédit Mutuel BigMat Relais\n - FMVF0262  Relais Cadet Filles\n  Coupe Hane
 nbrunen-Roedelen Crédit Mutuel BigMat Relais\n - FMVM0262  Relais Cadet Gar
 çons\n  Coupe Hanenbrunen-Roedelen Crédit Mutuel BigMat Relais\n - FMVF0263
   Relais Jeune a Senior Dames\n  Coupe Hanenbrunen-Roedelen Crédit Mutuel B
 igMat Relais\n - FMVM0263  Relais Jeune a Senior Hommes\n  Coupe Hanenbrune
 n-Roedelen Crédit Mutuel BigMat Relais Cet évènement a été importé depuis :
 https://skivosges.net/agenda/a-venir/detailevenement/167/-/coupe-hahnenbrun
 en-roedelen-credit-mutuel-bigmat-relais?tmpl=component
X-ALT-DESC;FMTTYPE=text/html:<strong>Coupe Hahnenbrunen-Roedelen Crédit Mutuel BigMat Relais</strong><br
  /><br />Lieu : MARKSTEIN <br />Piste : Nordic Parc<br />Organisateur : TOU
 RING CLUB MULHOUSE  <small>(14044 TOURING CLUB MULHOUSE)</small><br />Telec
 opie : 03 89 59 55 56<br /><br />Attention, une équipe mixte pour relai Mi/
 Ca et pour relai Je,Ju,Se et ce, par club. Envoyer par mail la composition 
 de vos relais<br /><br />Inscriptions en cours sur ce site<ul type="disc"><
 li>FMVF0261  Relais <nobr>Minime</nobr> Filles<br />&nbsp;&nbsp;Coupe Hanen
 brunen-Roedelen Crédit Mutuel BigMat Relais</li><li>FMVM0261  Relais <nobr>
 Minime</nobr> Garçons<br />&nbsp;&nbsp;Coupe Hanenbrunen-Roedelen Crédit Mu
 tuel BigMat Relais</li><li>FMVF0262  Relais <nobr>Cadet</nobr> Filles<br />
 &nbsp;&nbsp;Coupe Hanenbrunen-Roedelen Crédit Mutuel BigMat Relais</li><li>
 FMVM0262  Relais <nobr>Cadet</nobr> Garçons<br />&nbsp;&nbsp;Coupe Hanenbru
 nen-Roedelen Crédit Mutuel BigMat Relais</li><li>FMVF0263  Relais <nobr>Jeu
 ne a Senior</nobr> Dames<br />&nbsp;&nbsp;Coupe Hanenbrunen-Roedelen Crédit
  Mutuel BigMat Relais</li><li>FMVM0263  Relais <nobr>Jeune a Senior</nobr> 
 Hommes<br />&nbsp;&nbsp;Coupe Hanenbrunen-Roedelen Crédit Mutuel BigMat Rel
 ais</li></ul> <a href="https://skivosges.net/agenda/a-venir/detailevenement
 /167/-/coupe-hahnenbrunen-roedelen-credit-mutuel-bigmat-relais?tmpl=compone
 nt">Cet évènement a été importé depuis :https://skivosges.net/agenda/a-veni
 r/detailevenement/167/-/coupe-hahnenbrunen-roedelen-credit-mutuel-bigmat-re
 lais?tmpl=component</a>DTSTAMP:20260424T073910
DTSTART;TZID=Europe/Paris:20140308T080000
DTEND;TZID=Europe/Paris:20140308T170000
SEQUENCE:0
TRANSP:OPAQUE
END:VEVENT
END:VCALENDAR