BEGIN:VCALENDAR
VERSION:2.0
PRODID:-//jEvents 2.0 for Joomla//EN
CALSCALE:GREGORIAN
METHOD:PUBLISH
BEGIN:VTIMEZONE
TZID:Europe/Paris
BEGIN:STANDARD
DTSTART:20201025T020000
RDATE:20210328T030000
TZOFFSETFROM:+0200
TZOFFSETTO:+0100
TZNAME:Europe/Paris CET
END:STANDARD
BEGIN:STANDARD
DTSTART:20211031T020000
RDATE:20220327T030000
TZOFFSETFROM:+0200
TZOFFSETTO:+0100
TZNAME:Europe/Paris CET
END:STANDARD
BEGIN:STANDARD
DTSTART:20221030T020000
RDATE:20230326T030000
TZOFFSETFROM:+0200
TZOFFSETTO:+0100
TZNAME:Europe/Paris CET
END:STANDARD
BEGIN:STANDARD
DTSTART:20231029T020000
RDATE:20240331T030000
TZOFFSETFROM:+0200
TZOFFSETTO:+0100
TZNAME:Europe/Paris CET
END:STANDARD
BEGIN:STANDARD
DTSTART:20241027T020000
RDATE:20250330T030000
TZOFFSETFROM:+0200
TZOFFSETTO:+0100
TZNAME:Europe/Paris CET
END:STANDARD
BEGIN:STANDARD
DTSTART:20251026T020000
RDATE:20260329T030000
TZOFFSETFROM:+0200
TZOFFSETTO:+0100
TZNAME:Europe/Paris CET
END:STANDARD
BEGIN:STANDARD
DTSTART:20261025T020000
RDATE:20270328T030000
TZOFFSETFROM:+0200
TZOFFSETTO:+0100
TZNAME:Europe/Paris CET
END:STANDARD
BEGIN:DAYLIGHT
DTSTART:20200702T000000
RDATE:20201025T020000
TZOFFSETFROM:+0100
TZOFFSETTO:+0200
TZNAME:Europe/Paris CEST
END:DAYLIGHT
BEGIN:DAYLIGHT
DTSTART:20210328T030000
RDATE:20211031T020000
TZOFFSETFROM:+0100
TZOFFSETTO:+0200
TZNAME:Europe/Paris CEST
END:DAYLIGHT
BEGIN:DAYLIGHT
DTSTART:20220327T030000
RDATE:20221030T020000
TZOFFSETFROM:+0100
TZOFFSETTO:+0200
TZNAME:Europe/Paris CEST
END:DAYLIGHT
BEGIN:DAYLIGHT
DTSTART:20230326T030000
RDATE:20231029T020000
TZOFFSETFROM:+0100
TZOFFSETTO:+0200
TZNAME:Europe/Paris CEST
END:DAYLIGHT
BEGIN:DAYLIGHT
DTSTART:20240331T030000
RDATE:20241027T020000
TZOFFSETFROM:+0100
TZOFFSETTO:+0200
TZNAME:Europe/Paris CEST
END:DAYLIGHT
BEGIN:DAYLIGHT
DTSTART:20250330T030000
RDATE:20251026T020000
TZOFFSETFROM:+0100
TZOFFSETTO:+0200
TZNAME:Europe/Paris CEST
END:DAYLIGHT
BEGIN:DAYLIGHT
DTSTART:20260329T030000
RDATE:20261025T020000
TZOFFSETFROM:+0100
TZOFFSETTO:+0200
TZNAME:Europe/Paris CEST
END:DAYLIGHT
END:VTIMEZONE
BEGIN:VEVENT
UID:2441eb923641dfc43c8d66df16e7669b
CATEGORIES:Compétition Saut
CREATED:20210618T190003
SUMMARY:SAMSE Summer National Tour U15
URL;VALUE=URI:https://skivosges.net/agenda/a-venir/detailevenement/1671/-/samse-summer-na
 tional-tour-u15?tmpl=component
DESCRIPTION:<!-- #gskiepreuve code généré par le plugin jevents pour GskiEpreuves. Ne p
 as modifier cette ligne, ni tout le contenu suivant  #gskiepreuve --><div c
 lass="gski-evenement_infos"><div class="gski-evenement-nom">SAMSE Summer Na
 tional Tour U15</div><div class="gski-evenement-report"></div><ul class="gs
 ki-evenement-liste-infos"><li>Codex évenement TNAT0130</li><li>Station : LA
  BRESSE</li><li>Organisateur : 14024 LA BRESSAUDE SECTION SKI</li></ul><div
  class="gski-evenement-infos-2"><div class="gski-evenement-info-inscription
 s"><div class="gski-evenement-inscriptions-periodes">Période d'inscription 
 à l'evènement du samedi 26 juin 2021 à 02:00 au jeudi 01 juillet 2021 à 14:
 00 <span class="gski-evenement-inscriptions-impossibles">(Inscriptions impo
 ssibles).</span><div class="gski-evenement-inscriptions-types-titres">Inscr
 iptions ouvertes aux detenteurs des titres Fédéraux valides suivants : Lice
 nciés Compétiteurs</div></div></div><div class="gskiepreuves-links"><ul><li
 ><a href="/index.php?option=com_jevents&task=icalevent.detail&evid=1666&Ite
 mid=6289">Voir les informations dans l'agenda...</a></li></ul></div><div cl
 ass="gski-evenement-epreuves"><div class="gski-evenement-epreuves-titres">E
 preuves :</div><ul class="gski-evenement-epreuves-list"><li><div class="gsk
 i-epreuve-date">Le samedi 03 juillet 2021</div><ul class="gski-epreuve-list
 e-infos"><li>Codex épreuve TNAM0131</li><li>Saut Special</li><li>Catégorie(
 s) : U7 a U15 (Garçons)</li></ul></li><li><div class="gski-epreuve-date">Le
  samedi 03 juillet 2021</div><ul class="gski-epreuve-liste-infos"><li>Codex
  épreuve TNAF0131</li><li>Saut Special</li><li>Catégorie(s) : U7 a U15 (Fil
 les)</li></ul></li><li><div class="gski-epreuve-date">Le samedi 03 juillet 
 2021</div><ul class="gski-epreuve-liste-infos"><li>Codex épreuve TNAF0132</
 li><li>Saut Special</li><li>Catégorie(s) : U7 a U13 (Filles)</li></ul></li>
 <li><div class="gski-epreuve-date">Le samedi 03 juillet 2021</div><ul class
 ="gski-epreuve-liste-infos"><li>Codex épreuve TNAM0132</li><li>Saut Special
 </li><li>Catégorie(s) : U7 a U13 (Garçons)</li></ul></li><li><div class="gs
 ki-epreuve-date">Le dimanche 04 juillet 2021</div><ul class="gski-epreuve-l
 iste-infos"><li>Codex épreuve TNAM0133</li><li>Saut Special</li><li>Catégor
 ie(s) : U7 a U13 (Garçons)</li></ul></li><li><div class="gski-epreuve-date"
 >Le dimanche 04 juillet 2021</div><ul class="gski-epreuve-liste-infos"><li>
 Codex épreuve TNAF0133</li><li>Saut Special</li><li>Catégorie(s) : U7 a U13
  (Filles)</li></ul></li><li><div class="gski-epreuve-date">Le dimanche 04 j
 uillet 2021</div><ul class="gski-epreuve-liste-infos"><li>Codex épreuve TNA
 F0134</li><li>Saut Special</li><li>Catégorie(s) : U7 a U15 (Filles)</li></u
 l></li><li><div class="gski-epreuve-date">Le dimanche 04 juillet 2021</div>
 <ul class="gski-epreuve-liste-infos"><li>Codex épreuve TNAM0134</li><li>Sau
 t Special</li><li>Catégorie(s) : U7 a U15 (Garçons)</li></ul></li><li><div 
 class="gski-epreuve-date">Le dimanche 04 juillet 2021</div><ul class="gski-
 epreuve-liste-infos"><li>Codex épreuve TNAM0135</li><li>Saut Special</li><l
 i>Catégorie(s) : U7 a U15 (Garçons)</li></ul></li></ul></div><div class="gs
 kiepreuves-links"><ul><li><a href="/index.php?option=com_jevents&task=icale
 vent.detail&evid=1666&Itemid=6289">Voir les informations dans l'agenda...</
 a></li></ul></div></div"><!-- #/gskiepreuve fin du dode généré par le plugi
 n jevents pour GskiEpreuves. . Ne pas modifier cette ligne, ni tout le cont
 enu précedant.  #/gskiepreuve --> <a href="https://skivosges.net/agenda/a-v
 enir/detailevenement/1671/-/samse-summer-national-tour-u15?tmpl=component">
 Cet évènement a été importé depuis :https://skivosges.net/agenda/a-venir/de
 tailevenement/1671/-/samse-summer-national-tour-u15?tmpl=component</a>
X-ALT-DESC;FMTTYPE=text/html:<!-- #gskiepreuve code généré par le plugin jevents pour GskiEpreuves. Ne p
 as modifier cette ligne, ni tout le contenu suivant  #gskiepreuve --><div c
 lass="gski-evenement_infos"><div class="gski-evenement-nom">SAMSE Summer Na
 tional Tour U15</div><div class="gski-evenement-report"></div><ul class="gs
 ki-evenement-liste-infos"><li>Codex évenement TNAT0130</li><li>Station : LA
  BRESSE</li><li>Organisateur : 14024 LA BRESSAUDE SECTION SKI</li></ul><div
  class="gski-evenement-infos-2"><div class="gski-evenement-info-inscription
 s"><div class="gski-evenement-inscriptions-periodes">Période d'inscription 
 à l'evènement du samedi 26 juin 2021 à 02:00 au jeudi 01 juillet 2021 à 14:
 00 <span class="gski-evenement-inscriptions-impossibles">(Inscriptions impo
 ssibles).</span><div class="gski-evenement-inscriptions-types-titres">Inscr
 iptions ouvertes aux detenteurs des titres Fédéraux valides suivants : Lice
 nciés Compétiteurs</div></div></div><div class="gskiepreuves-links"><ul><li
 ><a href="https://skivosges.net/index.php?option=com_jevents&task=icalevent
 .detail&evid=1666&Itemid=6289">Voir les informations dans l'agenda...</a></
 li></ul></div><div class="gski-evenement-epreuves"><div class="gski-eveneme
 nt-epreuves-titres">Epreuves :</div><ul class="gski-evenement-epreuves-list
 "><li><div class="gski-epreuve-date">Le samedi 03 juillet 2021</div><ul cla
 ss="gski-epreuve-liste-infos"><li>Codex épreuve TNAM0131</li><li>Saut Speci
 al</li><li>Catégorie(s) : U7 a U15 (Garçons)</li></ul></li><li><div class="
 gski-epreuve-date">Le samedi 03 juillet 2021</div><ul class="gski-epreuve-l
 iste-infos"><li>Codex épreuve TNAF0131</li><li>Saut Special</li><li>Catégor
 ie(s) : U7 a U15 (Filles)</li></ul></li><li><div class="gski-epreuve-date">
 Le samedi 03 juillet 2021</div><ul class="gski-epreuve-liste-infos"><li>Cod
 ex épreuve TNAF0132</li><li>Saut Special</li><li>Catégorie(s) : U7 a U13 (F
 illes)</li></ul></li><li><div class="gski-epreuve-date">Le samedi 03 juille
 t 2021</div><ul class="gski-epreuve-liste-infos"><li>Codex épreuve TNAM0132
 </li><li>Saut Special</li><li>Catégorie(s) : U7 a U13 (Garçons)</li></ul></
 li><li><div class="gski-epreuve-date">Le dimanche 04 juillet 2021</div><ul 
 class="gski-epreuve-liste-infos"><li>Codex épreuve TNAM0133</li><li>Saut Sp
 ecial</li><li>Catégorie(s) : U7 a U13 (Garçons)</li></ul></li><li><div clas
 s="gski-epreuve-date">Le dimanche 04 juillet 2021</div><ul class="gski-epre
 uve-liste-infos"><li>Codex épreuve TNAF0133</li><li>Saut Special</li><li>Ca
 tégorie(s) : U7 a U13 (Filles)</li></ul></li><li><div class="gski-epreuve-d
 ate">Le dimanche 04 juillet 2021</div><ul class="gski-epreuve-liste-infos">
 <li>Codex épreuve TNAF0134</li><li>Saut Special</li><li>Catégorie(s) : U7 a
  U15 (Filles)</li></ul></li><li><div class="gski-epreuve-date">Le dimanche 
 04 juillet 2021</div><ul class="gski-epreuve-liste-infos"><li>Codex épreuve
  TNAM0134</li><li>Saut Special</li><li>Catégorie(s) : U7 a U15 (Garçons)</l
 i></ul></li><li><div class="gski-epreuve-date">Le dimanche 04 juillet 2021<
 /div><ul class="gski-epreuve-liste-infos"><li>Codex épreuve TNAM0135</li><l
 i>Saut Special</li><li>Catégorie(s) : U7 a U15 (Garçons)</li></ul></li></ul
 ></div><div class="gskiepreuves-links"><ul><li><a href="https://skivosges.n
 et/index.php?option=com_jevents&task=icalevent.detail&evid=1666&Itemid=6289
 ">Voir les informations dans l'agenda...</a></li></ul></div></div"><!-- #/g
 skiepreuve fin du dode généré par le plugin jevents pour GskiEpreuves. . Ne
  pas modifier cette ligne, ni tout le contenu précedant.  #/gskiepreuve -->
  <a href="https://skivosges.net/agenda/a-venir/detailevenement/1671/-/samse
 -summer-national-tour-u15?tmpl=component">Cet évènement a été importé depui
 s :https://skivosges.net/agenda/a-venir/detailevenement/1671/-/samse-summer
 -national-tour-u15?tmpl=component</a>DTSTAMP:20260421T051506
DTSTART;TZID=Europe/Paris;VALUE=DATE:20210703
DTEND;TZID=Europe/Paris;VALUE=DATE:20210705
SEQUENCE:0
TRANSP:OPAQUE
END:VEVENT
END:VCALENDAR