BEGIN:VCALENDAR
VERSION:2.0
PRODID:-//jEvents 2.0 for Joomla//EN
CALSCALE:GREGORIAN
METHOD:PUBLISH
BEGIN:VTIMEZONE
TZID:Europe/Paris
BEGIN:STANDARD
DTSTART:20201025T020000
RDATE:20210328T030000
TZOFFSETFROM:+0200
TZOFFSETTO:+0100
TZNAME:Europe/Paris CET
END:STANDARD
BEGIN:STANDARD
DTSTART:20211031T020000
RDATE:20220327T030000
TZOFFSETFROM:+0200
TZOFFSETTO:+0100
TZNAME:Europe/Paris CET
END:STANDARD
BEGIN:STANDARD
DTSTART:20221030T020000
RDATE:20230326T030000
TZOFFSETFROM:+0200
TZOFFSETTO:+0100
TZNAME:Europe/Paris CET
END:STANDARD
BEGIN:STANDARD
DTSTART:20231029T020000
RDATE:20240331T030000
TZOFFSETFROM:+0200
TZOFFSETTO:+0100
TZNAME:Europe/Paris CET
END:STANDARD
BEGIN:STANDARD
DTSTART:20241027T020000
RDATE:20250330T030000
TZOFFSETFROM:+0200
TZOFFSETTO:+0100
TZNAME:Europe/Paris CET
END:STANDARD
BEGIN:STANDARD
DTSTART:20251026T020000
RDATE:20260329T030000
TZOFFSETFROM:+0200
TZOFFSETTO:+0100
TZNAME:Europe/Paris CET
END:STANDARD
BEGIN:STANDARD
DTSTART:20261025T020000
RDATE:20270328T030000
TZOFFSETFROM:+0200
TZOFFSETTO:+0100
TZNAME:Europe/Paris CET
END:STANDARD
BEGIN:DAYLIGHT
DTSTART:20200917T000000
RDATE:20201025T020000
TZOFFSETFROM:+0100
TZOFFSETTO:+0200
TZNAME:Europe/Paris CEST
END:DAYLIGHT
BEGIN:DAYLIGHT
DTSTART:20210328T030000
RDATE:20211031T020000
TZOFFSETFROM:+0100
TZOFFSETTO:+0200
TZNAME:Europe/Paris CEST
END:DAYLIGHT
BEGIN:DAYLIGHT
DTSTART:20220327T030000
RDATE:20221030T020000
TZOFFSETFROM:+0100
TZOFFSETTO:+0200
TZNAME:Europe/Paris CEST
END:DAYLIGHT
BEGIN:DAYLIGHT
DTSTART:20230326T030000
RDATE:20231029T020000
TZOFFSETFROM:+0100
TZOFFSETTO:+0200
TZNAME:Europe/Paris CEST
END:DAYLIGHT
BEGIN:DAYLIGHT
DTSTART:20240331T030000
RDATE:20241027T020000
TZOFFSETFROM:+0100
TZOFFSETTO:+0200
TZNAME:Europe/Paris CEST
END:DAYLIGHT
BEGIN:DAYLIGHT
DTSTART:20250330T030000
RDATE:20251026T020000
TZOFFSETFROM:+0100
TZOFFSETTO:+0200
TZNAME:Europe/Paris CEST
END:DAYLIGHT
BEGIN:DAYLIGHT
DTSTART:20260329T030000
RDATE:20261025T020000
TZOFFSETFROM:+0100
TZOFFSETTO:+0200
TZNAME:Europe/Paris CEST
END:DAYLIGHT
END:VTIMEZONE
BEGIN:VEVENT
UID:f9dfeaa7e2325ee75ea77aab1279cd2a
CATEGORIES:Combiné Nordique
CREATED:20210618T190003
SUMMARY:SAMSE Summer National Tour U15
URL;VALUE=URI:https://skivosges.net/agenda/a-venir/detailevenement/1684/-/samse-summer-na
 tional-tour-u15?tmpl=component
DESCRIPTION:SAMSE Summer National Tour U15\n - Codex évenement CNAT0140\n - Station : L
 A BRESSE\n - Organisateur : 14024 LA BRESSAUDE SECTION SKIPériode d'inscrip
 tion à l'evènement du samedi 11 septembre 2021 à 02:00 au jeudi 16 septembr
 e 2021 à 14:00 (Inscriptions impossibles).Inscriptions ouvertes aux detente
 urs des titres Fédéraux valides suivants : Licenciés Compétiteurs\n - Voir 
 les informations dans l'agenda... (/index.php?option=com_jevents&amp;task=i
 calevent.detail&amp;evid=1679&amp;Itemid=6289)Epreuves :\n - Le samedi 18 s
 eptembre 2021\n - Codex épreuve CNAM0141\n - Fond POURS du Combine Nordique
 \n - Catégorie(s) : U7 a U13 (Garçons)\n - Le samedi 18 septembre 2021\n - 
 Codex épreuve CNAF0141\n - Fond POURS du Combine Nordique\n - Catégorie(s) 
 : U7 a U13 (Filles)\n - Le samedi 18 septembre 2021\n - Codex épreuve CNAM0
 142\n - Fond POURS du Combine Nordique\n - Catégorie(s) : U7 a U15 (Garçons
 )\n - Le samedi 18 septembre 2021\n - Codex épreuve CNAF0142\n - Fond POURS
  du Combine Nordique\n - Catégorie(s) : U7 a U15 (Filles)\n - Le dimanche 1
 9 septembre 2021\n - Codex épreuve CNAF0143\n - Fond POURS du Combine Nordi
 que\n - Catégorie(s) : U7 a U15 (Filles)\n - Le dimanche 19 septembre 2021\
 n - Codex épreuve CNAM0143\n - Fond POURS du Combine Nordique\n - Catégorie
 (s) : U7 a U15 (Garçons)\n - Le dimanche 19 septembre 2021\n - Codex épreuv
 e CNAM0144\n - Fond POURS du Combine Nordique\n - Catégorie(s) : U7 a U13 (
 Garçons)\n - Le dimanche 19 septembre 2021\n - Codex épreuve CNAF0144\n - F
 ond POURS du Combine Nordique\n - Catégorie(s) : U7 a U13 (Filles)\n - Voir
  les informations dans l'agenda... (/index.php?option=com_jevents&amp;task=
 icalevent.detail&amp;evid=1679&amp;Itemid=6289) Cet évènement a été importé
  depuis :https://skivosges.net/agenda/a-venir/detailevenement/1684/-/samse-
 summer-national-tour-u15?tmpl=component
X-ALT-DESC;FMTTYPE=text/html:<!-- #gskiepreuve code généré par le plugin jevents pour GskiEpreuves. Ne p
 as modifier cette ligne, ni tout le contenu suivant  #gskiepreuve --><div c
 lass="gski-evenement_infos"><div class="gski-evenement-nom">SAMSE Summer Na
 tional Tour U15</div><div class="gski-evenement-report"></div><ul class="gs
 ki-evenement-liste-infos"><li>Codex évenement CNAT0140</li><li>Station : LA
  BRESSE</li><li>Organisateur : 14024 LA BRESSAUDE SECTION SKI</li></ul><div
  class="gski-evenement-infos-2"><div class="gski-evenement-info-inscription
 s"><div class="gski-evenement-inscriptions-periodes">Période d'inscription 
 à l'evènement du samedi 11 septembre 2021 à 02:00 au jeudi 16 septembre 202
 1 à 14:00 <span class="gski-evenement-inscriptions-impossibles">(Inscriptio
 ns impossibles).</span><div class="gski-evenement-inscriptions-types-titres
 ">Inscriptions ouvertes aux detenteurs des titres Fédéraux valides suivants
  : Licenciés Compétiteurs</div></div></div><div class="gskiepreuves-links">
 <ul><li><a href="https://skivosges.net/index.php?option=com_jevents&task=ic
 alevent.detail&evid=1679&Itemid=6289">Voir les informations dans l'agenda..
 .</a></li></ul></div><div class="gski-evenement-epreuves"><div class="gski-
 evenement-epreuves-titres">Epreuves :</div><ul class="gski-evenement-epreuv
 es-list"><li><div class="gski-epreuve-date">Le samedi 18 septembre 2021</di
 v><ul class="gski-epreuve-liste-infos"><li>Codex épreuve CNAM0141</li><li>F
 ond POURS du Combine Nordique</li><li>Catégorie(s) : U7 a U13 (Garçons)</li
 ></ul></li><li><div class="gski-epreuve-date">Le samedi 18 septembre 2021</
 div><ul class="gski-epreuve-liste-infos"><li>Codex épreuve CNAF0141</li><li
 >Fond POURS du Combine Nordique</li><li>Catégorie(s) : U7 a U13 (Filles)</l
 i></ul></li><li><div class="gski-epreuve-date">Le samedi 18 septembre 2021<
 /div><ul class="gski-epreuve-liste-infos"><li>Codex épreuve CNAM0142</li><l
 i>Fond POURS du Combine Nordique</li><li>Catégorie(s) : U7 a U15 (Garçons)<
 /li></ul></li><li><div class="gski-epreuve-date">Le samedi 18 septembre 202
 1</div><ul class="gski-epreuve-liste-infos"><li>Codex épreuve CNAF0142</li>
 <li>Fond POURS du Combine Nordique</li><li>Catégorie(s) : U7 a U15 (Filles)
 </li></ul></li><li><div class="gski-epreuve-date">Le dimanche 19 septembre 
 2021</div><ul class="gski-epreuve-liste-infos"><li>Codex épreuve CNAF0143</
 li><li>Fond POURS du Combine Nordique</li><li>Catégorie(s) : U7 a U15 (Fill
 es)</li></ul></li><li><div class="gski-epreuve-date">Le dimanche 19 septemb
 re 2021</div><ul class="gski-epreuve-liste-infos"><li>Codex épreuve CNAM014
 3</li><li>Fond POURS du Combine Nordique</li><li>Catégorie(s) : U7 a U15 (G
 arçons)</li></ul></li><li><div class="gski-epreuve-date">Le dimanche 19 sep
 tembre 2021</div><ul class="gski-epreuve-liste-infos"><li>Codex épreuve CNA
 M0144</li><li>Fond POURS du Combine Nordique</li><li>Catégorie(s) : U7 a U1
 3 (Garçons)</li></ul></li><li><div class="gski-epreuve-date">Le dimanche 19
  septembre 2021</div><ul class="gski-epreuve-liste-infos"><li>Codex épreuve
  CNAF0144</li><li>Fond POURS du Combine Nordique</li><li>Catégorie(s) : U7 
 a U13 (Filles)</li></ul></li></ul></div><div class="gskiepreuves-links"><ul
 ><li><a href="https://skivosges.net/index.php?option=com_jevents&task=icale
 vent.detail&evid=1679&Itemid=6289">Voir les informations dans l'agenda...</
 a></li></ul></div></div"><!-- #/gskiepreuve fin du dode généré par le plugi
 n jevents pour GskiEpreuves. . Ne pas modifier cette ligne, ni tout le cont
 enu précedant.  #/gskiepreuve --> <a href="https://skivosges.net/agenda/a-v
 enir/detailevenement/1684/-/samse-summer-national-tour-u15?tmpl=component">
 Cet évènement a été importé depuis :https://skivosges.net/agenda/a-venir/de
 tailevenement/1684/-/samse-summer-national-tour-u15?tmpl=component</a>DTSTAMP:20260423T174110
DTSTART;TZID=Europe/Paris;VALUE=DATE:20210918
DTEND;TZID=Europe/Paris;VALUE=DATE:20210920
SEQUENCE:0
TRANSP:OPAQUE
END:VEVENT
END:VCALENDAR