BEGIN:VCALENDAR
VERSION:2.0
PRODID:-//jEvents 2.0 for Joomla//EN
CALSCALE:GREGORIAN
METHOD:PUBLISH
BEGIN:VTIMEZONE
TZID:Europe/Paris
BEGIN:STANDARD
DTSTART:20201025T020000
RDATE:20210328T030000
TZOFFSETFROM:+0200
TZOFFSETTO:+0100
TZNAME:Europe/Paris CET
END:STANDARD
BEGIN:STANDARD
DTSTART:20211031T020000
RDATE:20220327T030000
TZOFFSETFROM:+0200
TZOFFSETTO:+0100
TZNAME:Europe/Paris CET
END:STANDARD
BEGIN:STANDARD
DTSTART:20221030T020000
RDATE:20230326T030000
TZOFFSETFROM:+0200
TZOFFSETTO:+0100
TZNAME:Europe/Paris CET
END:STANDARD
BEGIN:STANDARD
DTSTART:20231029T020000
RDATE:20240331T030000
TZOFFSETFROM:+0200
TZOFFSETTO:+0100
TZNAME:Europe/Paris CET
END:STANDARD
BEGIN:STANDARD
DTSTART:20241027T020000
RDATE:20250330T030000
TZOFFSETFROM:+0200
TZOFFSETTO:+0100
TZNAME:Europe/Paris CET
END:STANDARD
BEGIN:STANDARD
DTSTART:20251026T020000
RDATE:20260329T030000
TZOFFSETFROM:+0200
TZOFFSETTO:+0100
TZNAME:Europe/Paris CET
END:STANDARD
BEGIN:STANDARD
DTSTART:20261025T020000
RDATE:20270328T030000
TZOFFSETFROM:+0200
TZOFFSETTO:+0100
TZNAME:Europe/Paris CET
END:STANDARD
BEGIN:DAYLIGHT
DTSTART:20200922T000000
RDATE:20201025T020000
TZOFFSETFROM:+0100
TZOFFSETTO:+0200
TZNAME:Europe/Paris CEST
END:DAYLIGHT
BEGIN:DAYLIGHT
DTSTART:20210328T030000
RDATE:20211031T020000
TZOFFSETFROM:+0100
TZOFFSETTO:+0200
TZNAME:Europe/Paris CEST
END:DAYLIGHT
BEGIN:DAYLIGHT
DTSTART:20220327T030000
RDATE:20221030T020000
TZOFFSETFROM:+0100
TZOFFSETTO:+0200
TZNAME:Europe/Paris CEST
END:DAYLIGHT
BEGIN:DAYLIGHT
DTSTART:20230326T030000
RDATE:20231029T020000
TZOFFSETFROM:+0100
TZOFFSETTO:+0200
TZNAME:Europe/Paris CEST
END:DAYLIGHT
BEGIN:DAYLIGHT
DTSTART:20240331T030000
RDATE:20241027T020000
TZOFFSETFROM:+0100
TZOFFSETTO:+0200
TZNAME:Europe/Paris CEST
END:DAYLIGHT
BEGIN:DAYLIGHT
DTSTART:20250330T030000
RDATE:20251026T020000
TZOFFSETFROM:+0100
TZOFFSETTO:+0200
TZNAME:Europe/Paris CEST
END:DAYLIGHT
BEGIN:DAYLIGHT
DTSTART:20260329T030000
RDATE:20261025T020000
TZOFFSETFROM:+0100
TZOFFSETTO:+0200
TZNAME:Europe/Paris CEST
END:DAYLIGHT
END:VTIMEZONE
BEGIN:VEVENT
UID:9026fae50a525b5d017233db090c3da3
CATEGORIES:Compétition Saut
CREATED:20210618T190003
SUMMARY:Finale coupe des Vosges Saut
URL;VALUE=URI:https://skivosges.net/agenda/a-venir/detailevenement/1685/-/finale-coupe-de
 s-vosges-saut?tmpl=component
DESCRIPTION:Finale coupe des Vosges Saut\n - Codex évenement TMVT0140\n - Lieu : La bre
 sse Tremplin de Lispach\n - Organisateur : 14024 LA BRESSAUDE SECTION SKI\n
  - Courriel : RegularLabs.EmailProtector.unCloak("ep_672bf47a");Période d'i
 nscription à l'evènement du jeudi 16 septembre 2021 à 02:00 au mardi 21 sep
 tembre 2021 à 14:00 (Inscriptions impossibles).Inscriptions ouvertes aux de
 tenteurs des titres Fédéraux valides suivants : Licenciés Compétiteurs\n - 
 Voir les informations dans l'agenda... (/index.php?option=com_jevents&amp;t
 ask=icalevent.detail&amp;evid=1680&amp;Itemid=6289)Epreuves :\n - Le jeudi 
 23 septembre 2021\n - Codex épreuve TMVM0141\n - Saut Special\n - Catégorie
 (s) : Toutes les Categories (Garçons)\n - Le jeudi 23 septembre 2021\n - Co
 dex épreuve TMVF0141\n - Saut Special\n - Catégorie(s) : Toutes les Categor
 ies (Filles)\n - Voir les informations dans l'agenda... (/index.php?option=
 com_jevents&amp;task=icalevent.detail&amp;evid=1680&amp;Itemid=6289) Cet év
 ènement a été importé depuis :https://skivosges.net/agenda/a-venir/detailev
 enement/1685/-/finale-coupe-des-vosges-saut?tmpl=component
X-ALT-DESC;FMTTYPE=text/html:<!-- #gskiepreuve code généré par le plugin jevents pour GskiEpreuves. Ne p
 as modifier cette ligne, ni tout le contenu suivant  #gskiepreuve --><div c
 lass="gski-evenement_infos"><div class="gski-evenement-nom">Finale coupe de
 s Vosges Saut</div><div class="gski-evenement-report"></div><ul class="gski
 -evenement-liste-infos"><li>Codex évenement TMVT0140</li><li>Lieu : La bres
 se Tremplin de Lispach</li><li>Organisateur : 14024 LA BRESSAUDE SECTION SK
 I</li><li>Courriel : <!-- Cette adresse électronique est protégée contre le
 s robots spammeurs. --><span class="cloaked_email ep_672bf47a"><span data-e
 p-b="&#114;" data-ep-a="k&#97;&#114;&#105;n"><span data-ep-b="&#100;o&#111;
 &#46;&#102;" data-ep-a="&#101;&#46;&#102;&#111;u"><span data-ep-b="&#64;wa&
 #110;&#97;" data-ep-a="&#114;&#114;a&#103;e"></span></span></span></span><s
 cript>RegularLabs.EmailProtector.unCloak("ep_672bf47a");</script></li></ul>
 <div class="gski-evenement-infos-2"><div class="gski-evenement-info-inscrip
 tions"><div class="gski-evenement-inscriptions-periodes">Période d'inscript
 ion à l'evènement du jeudi 16 septembre 2021 à 02:00 au mardi 21 septembre 
 2021 à 14:00 <span class="gski-evenement-inscriptions-impossibles">(Inscrip
 tions impossibles).</span><div class="gski-evenement-inscriptions-types-tit
 res">Inscriptions ouvertes aux detenteurs des titres Fédéraux valides suiva
 nts : Licenciés Compétiteurs</div></div></div><div class="gskiepreuves-link
 s"><ul><li><a href="https://skivosges.net/index.php?option=com_jevents&task
 =icalevent.detail&evid=1680&Itemid=6289">Voir les informations dans l'agend
 a...</a></li></ul></div><div class="gski-evenement-epreuves"><div class="gs
 ki-evenement-epreuves-titres">Epreuves :</div><ul class="gski-evenement-epr
 euves-list"><li><div class="gski-epreuve-date">Le jeudi 23 septembre 2021</
 div><ul class="gski-epreuve-liste-infos"><li>Codex épreuve TMVM0141</li><li
 >Saut Special</li><li>Catégorie(s) : Toutes les Categories (Garçons)</li></
 ul></li><li><div class="gski-epreuve-date">Le jeudi 23 septembre 2021</div>
 <ul class="gski-epreuve-liste-infos"><li>Codex épreuve TMVF0141</li><li>Sau
 t Special</li><li>Catégorie(s) : Toutes les Categories (Filles)</li></ul></
 li></ul></div><div class="gskiepreuves-links"><ul><li><a href="https://skiv
 osges.net/index.php?option=com_jevents&task=icalevent.detail&evid=1680&Item
 id=6289">Voir les informations dans l'agenda...</a></li></ul></div></div"><
 !-- #/gskiepreuve fin du dode généré par le plugin jevents pour GskiEpreuve
 s. . Ne pas modifier cette ligne, ni tout le contenu précedant.  #/gskiepre
 uve --> <a href="https://skivosges.net/agenda/a-venir/detailevenement/1685/
 -/finale-coupe-des-vosges-saut?tmpl=component">Cet évènement a été importé 
 depuis :https://skivosges.net/agenda/a-venir/detailevenement/1685/-/finale-
 coupe-des-vosges-saut?tmpl=component</a>DTSTAMP:20260423T142757
DTSTART;TZID=Europe/Paris;VALUE=DATE:20210923
DTEND;TZID=Europe/Paris;VALUE=DATE:20210924
SEQUENCE:0
TRANSP:OPAQUE
END:VEVENT
END:VCALENDAR