BEGIN:VCALENDAR
VERSION:2.0
PRODID:-//jEvents 2.0 for Joomla//EN
CALSCALE:GREGORIAN
METHOD:PUBLISH
BEGIN:VTIMEZONE
TZID:Europe/Paris
BEGIN:STANDARD
DTSTART:20201025T020000
RDATE:20210328T030000
TZOFFSETFROM:+0200
TZOFFSETTO:+0100
TZNAME:Europe/Paris CET
END:STANDARD
BEGIN:STANDARD
DTSTART:20211031T020000
RDATE:20220327T030000
TZOFFSETFROM:+0200
TZOFFSETTO:+0100
TZNAME:Europe/Paris CET
END:STANDARD
BEGIN:STANDARD
DTSTART:20221030T020000
RDATE:20230326T030000
TZOFFSETFROM:+0200
TZOFFSETTO:+0100
TZNAME:Europe/Paris CET
END:STANDARD
BEGIN:STANDARD
DTSTART:20231029T020000
RDATE:20240331T030000
TZOFFSETFROM:+0200
TZOFFSETTO:+0100
TZNAME:Europe/Paris CET
END:STANDARD
BEGIN:STANDARD
DTSTART:20241027T020000
RDATE:20250330T030000
TZOFFSETFROM:+0200
TZOFFSETTO:+0100
TZNAME:Europe/Paris CET
END:STANDARD
BEGIN:STANDARD
DTSTART:20251026T020000
RDATE:20260329T030000
TZOFFSETFROM:+0200
TZOFFSETTO:+0100
TZNAME:Europe/Paris CET
END:STANDARD
BEGIN:STANDARD
DTSTART:20261025T020000
RDATE:20270328T030000
TZOFFSETFROM:+0200
TZOFFSETTO:+0100
TZNAME:Europe/Paris CET
END:STANDARD
BEGIN:DAYLIGHT
DTSTART:20200922T000000
RDATE:20201025T020000
TZOFFSETFROM:+0100
TZOFFSETTO:+0200
TZNAME:Europe/Paris CEST
END:DAYLIGHT
BEGIN:DAYLIGHT
DTSTART:20210328T030000
RDATE:20211031T020000
TZOFFSETFROM:+0100
TZOFFSETTO:+0200
TZNAME:Europe/Paris CEST
END:DAYLIGHT
BEGIN:DAYLIGHT
DTSTART:20220327T030000
RDATE:20221030T020000
TZOFFSETFROM:+0100
TZOFFSETTO:+0200
TZNAME:Europe/Paris CEST
END:DAYLIGHT
BEGIN:DAYLIGHT
DTSTART:20230326T030000
RDATE:20231029T020000
TZOFFSETFROM:+0100
TZOFFSETTO:+0200
TZNAME:Europe/Paris CEST
END:DAYLIGHT
BEGIN:DAYLIGHT
DTSTART:20240331T030000
RDATE:20241027T020000
TZOFFSETFROM:+0100
TZOFFSETTO:+0200
TZNAME:Europe/Paris CEST
END:DAYLIGHT
BEGIN:DAYLIGHT
DTSTART:20250330T030000
RDATE:20251026T020000
TZOFFSETFROM:+0100
TZOFFSETTO:+0200
TZNAME:Europe/Paris CEST
END:DAYLIGHT
BEGIN:DAYLIGHT
DTSTART:20260329T030000
RDATE:20261025T020000
TZOFFSETFROM:+0100
TZOFFSETTO:+0200
TZNAME:Europe/Paris CEST
END:DAYLIGHT
END:VTIMEZONE
BEGIN:VEVENT
UID:d986440331928c0a48acb7e2e93611f4
CATEGORIES:Combiné Nordique
CREATED:20210618T190003
SUMMARY:Finale coupe des Vosges la Bresse CN
URL;VALUE=URI:https://skivosges.net/agenda/a-venir/detailevenement/1686/-/finale-coupe-de
 s-vosges-la-bresse-cn?tmpl=component
DESCRIPTION:Finale coupe des Vosges la Bresse CN\n - Codex évenement CMVT0050\n - Lieu 
 : La bresse Tremplin de Lispach\n - Organisateur : 14024 LA BRESSAUDE SECTI
 ON SKI\n - Courriel : RegularLabs.EmailProtector.unCloak("ep_84da493d");Pér
 iode d'inscription à l'evènement du jeudi 16 septembre 2021 à 02:00 au mard
 i 21 septembre 2021 à 14:00 (Inscriptions impossibles).Inscriptions ouverte
 s aux detenteurs des titres Fédéraux valides suivants : Licenciés Compétite
 urs\n - Voir les informations dans l'agenda... (/index.php?option=com_jeven
 ts&amp;task=icalevent.detail&amp;evid=1681&amp;Itemid=6289)Epreuves :\n - L
 e jeudi 23 septembre 2021\n - Codex épreuve CMVM0051\n - Saut du Combine No
 rdique\n - Catégorie(s) : Toutes les Categories (Garçons)\n - Le jeudi 23 s
 eptembre 2021\n - Codex épreuve CMVF0051\n - Saut du Combine Nordique\n - C
 atégorie(s) : Toutes les Categories (Filles)\n - Voir les informations dans
  l'agenda... (/index.php?option=com_jevents&amp;task=icalevent.detail&amp;e
 vid=1681&amp;Itemid=6289) Cet évènement a été importé depuis :https://skivo
 sges.net/agenda/a-venir/detailevenement/1686/-/finale-coupe-des-vosges-la-b
 resse-cn?tmpl=component
X-ALT-DESC;FMTTYPE=text/html:<!-- #gskiepreuve code généré par le plugin jevents pour GskiEpreuves. Ne p
 as modifier cette ligne, ni tout le contenu suivant  #gskiepreuve --><div c
 lass="gski-evenement_infos"><div class="gski-evenement-nom">Finale coupe de
 s Vosges la Bresse CN</div><div class="gski-evenement-report"></div><ul cla
 ss="gski-evenement-liste-infos"><li>Codex évenement CMVT0050</li><li>Lieu :
  La bresse Tremplin de Lispach</li><li>Organisateur : 14024 LA BRESSAUDE SE
 CTION SKI</li><li>Courriel : <!-- Cette adresse électronique est protégée c
 ontre les robots spammeurs. --><span class="cloaked_email ep_84da493d"><spa
 n data-ep-b="&#114;" data-ep-a="&#107;a&#114;&#105;n"><span data-ep-b="do&#
 111;.&#102;" data-ep-a="e&#46;f&#111;u"><span data-ep-a="&#114;&#114;&#97;&
 #103;&#101;" data-ep-b="&#64;&#119;&#97;&#110;a"></span></span></span></spa
 n><script>RegularLabs.EmailProtector.unCloak("ep_84da493d");</script></li><
 /ul><div class="gski-evenement-infos-2"><div class="gski-evenement-info-ins
 criptions"><div class="gski-evenement-inscriptions-periodes">Période d'insc
 ription à l'evènement du jeudi 16 septembre 2021 à 02:00 au mardi 21 septem
 bre 2021 à 14:00 <span class="gski-evenement-inscriptions-impossibles">(Ins
 criptions impossibles).</span><div class="gski-evenement-inscriptions-types
 -titres">Inscriptions ouvertes aux detenteurs des titres Fédéraux valides s
 uivants : Licenciés Compétiteurs</div></div></div><div class="gskiepreuves-
 links"><ul><li><a href="https://skivosges.net/index.php?option=com_jevents&
 task=icalevent.detail&evid=1681&Itemid=6289">Voir les informations dans l'a
 genda...</a></li></ul></div><div class="gski-evenement-epreuves"><div class
 ="gski-evenement-epreuves-titres">Epreuves :</div><ul class="gski-evenement
 -epreuves-list"><li><div class="gski-epreuve-date">Le jeudi 23 septembre 20
 21</div><ul class="gski-epreuve-liste-infos"><li>Codex épreuve CMVM0051</li
 ><li>Saut du Combine Nordique</li><li>Catégorie(s) : Toutes les Categories 
 (Garçons)</li></ul></li><li><div class="gski-epreuve-date">Le jeudi 23 sept
 embre 2021</div><ul class="gski-epreuve-liste-infos"><li>Codex épreuve CMVF
 0051</li><li>Saut du Combine Nordique</li><li>Catégorie(s) : Toutes les Cat
 egories (Filles)</li></ul></li></ul></div><div class="gskiepreuves-links"><
 ul><li><a href="https://skivosges.net/index.php?option=com_jevents&task=ica
 levent.detail&evid=1681&Itemid=6289">Voir les informations dans l'agenda...
 </a></li></ul></div></div"><!-- #/gskiepreuve fin du dode généré par le plu
 gin jevents pour GskiEpreuves. . Ne pas modifier cette ligne, ni tout le co
 ntenu précedant.  #/gskiepreuve --> <a href="https://skivosges.net/agenda/a
 -venir/detailevenement/1686/-/finale-coupe-des-vosges-la-bresse-cn?tmpl=com
 ponent">Cet évènement a été importé depuis :https://skivosges.net/agenda/a-
 venir/detailevenement/1686/-/finale-coupe-des-vosges-la-bresse-cn?tmpl=comp
 onent</a>DTSTAMP:20260423T142753
DTSTART;TZID=Europe/Paris;VALUE=DATE:20210923
DTEND;TZID=Europe/Paris;VALUE=DATE:20210924
SEQUENCE:0
TRANSP:OPAQUE
END:VEVENT
END:VCALENDAR