BEGIN:VCALENDAR
VERSION:2.0
PRODID:-//jEvents 2.0 for Joomla//EN
CALSCALE:GREGORIAN
METHOD:PUBLISH
BEGIN:VTIMEZONE
TZID:Europe/Paris
BEGIN:STANDARD
DTSTART:20130307T080000
RDATE:20130331T030000
TZOFFSETFROM:+0200
TZOFFSETTO:+0100
TZNAME:Europe/Paris CET
END:STANDARD
BEGIN:STANDARD
DTSTART:20131027T020000
RDATE:20140330T030000
TZOFFSETFROM:+0200
TZOFFSETTO:+0100
TZNAME:Europe/Paris CET
END:STANDARD
BEGIN:STANDARD
DTSTART:20141026T020000
RDATE:20150329T030000
TZOFFSETFROM:+0200
TZOFFSETTO:+0100
TZNAME:Europe/Paris CET
END:STANDARD
BEGIN:STANDARD
DTSTART:20151025T020000
RDATE:20160327T030000
TZOFFSETFROM:+0200
TZOFFSETTO:+0100
TZNAME:Europe/Paris CET
END:STANDARD
BEGIN:STANDARD
DTSTART:20161030T020000
RDATE:20170326T030000
TZOFFSETFROM:+0200
TZOFFSETTO:+0100
TZNAME:Europe/Paris CET
END:STANDARD
BEGIN:STANDARD
DTSTART:20171029T020000
RDATE:20180325T030000
TZOFFSETFROM:+0200
TZOFFSETTO:+0100
TZNAME:Europe/Paris CET
END:STANDARD
BEGIN:STANDARD
DTSTART:20181028T020000
RDATE:20190331T030000
TZOFFSETFROM:+0200
TZOFFSETTO:+0100
TZNAME:Europe/Paris CET
END:STANDARD
BEGIN:STANDARD
DTSTART:20191027T020000
RDATE:20200329T030000
TZOFFSETFROM:+0200
TZOFFSETTO:+0100
TZNAME:Europe/Paris CET
END:STANDARD
BEGIN:STANDARD
DTSTART:20201025T020000
RDATE:20210328T030000
TZOFFSETFROM:+0200
TZOFFSETTO:+0100
TZNAME:Europe/Paris CET
END:STANDARD
BEGIN:STANDARD
DTSTART:20211031T020000
RDATE:20220327T030000
TZOFFSETFROM:+0200
TZOFFSETTO:+0100
TZNAME:Europe/Paris CET
END:STANDARD
BEGIN:STANDARD
DTSTART:20221030T020000
RDATE:20230326T030000
TZOFFSETFROM:+0200
TZOFFSETTO:+0100
TZNAME:Europe/Paris CET
END:STANDARD
BEGIN:STANDARD
DTSTART:20231029T020000
RDATE:20240331T030000
TZOFFSETFROM:+0200
TZOFFSETTO:+0100
TZNAME:Europe/Paris CET
END:STANDARD
BEGIN:STANDARD
DTSTART:20241027T020000
RDATE:20250330T030000
TZOFFSETFROM:+0200
TZOFFSETTO:+0100
TZNAME:Europe/Paris CET
END:STANDARD
BEGIN:STANDARD
DTSTART:20251026T020000
RDATE:20260329T030000
TZOFFSETFROM:+0200
TZOFFSETTO:+0100
TZNAME:Europe/Paris CET
END:STANDARD
BEGIN:STANDARD
DTSTART:20261025T020000
RDATE:20270328T030000
TZOFFSETFROM:+0200
TZOFFSETTO:+0100
TZNAME:Europe/Paris CET
END:STANDARD
BEGIN:DAYLIGHT
DTSTART:20130331T030000
RDATE:20131027T020000
TZOFFSETFROM:+0100
TZOFFSETTO:+0200
TZNAME:Europe/Paris CEST
END:DAYLIGHT
BEGIN:DAYLIGHT
DTSTART:20140330T030000
RDATE:20141026T020000
TZOFFSETFROM:+0100
TZOFFSETTO:+0200
TZNAME:Europe/Paris CEST
END:DAYLIGHT
BEGIN:DAYLIGHT
DTSTART:20150329T030000
RDATE:20151025T020000
TZOFFSETFROM:+0100
TZOFFSETTO:+0200
TZNAME:Europe/Paris CEST
END:DAYLIGHT
BEGIN:DAYLIGHT
DTSTART:20160327T030000
RDATE:20161030T020000
TZOFFSETFROM:+0100
TZOFFSETTO:+0200
TZNAME:Europe/Paris CEST
END:DAYLIGHT
BEGIN:DAYLIGHT
DTSTART:20170326T030000
RDATE:20171029T020000
TZOFFSETFROM:+0100
TZOFFSETTO:+0200
TZNAME:Europe/Paris CEST
END:DAYLIGHT
BEGIN:DAYLIGHT
DTSTART:20180325T030000
RDATE:20181028T020000
TZOFFSETFROM:+0100
TZOFFSETTO:+0200
TZNAME:Europe/Paris CEST
END:DAYLIGHT
BEGIN:DAYLIGHT
DTSTART:20190331T030000
RDATE:20191027T020000
TZOFFSETFROM:+0100
TZOFFSETTO:+0200
TZNAME:Europe/Paris CEST
END:DAYLIGHT
BEGIN:DAYLIGHT
DTSTART:20200329T030000
RDATE:20201025T020000
TZOFFSETFROM:+0100
TZOFFSETTO:+0200
TZNAME:Europe/Paris CEST
END:DAYLIGHT
BEGIN:DAYLIGHT
DTSTART:20210328T030000
RDATE:20211031T020000
TZOFFSETFROM:+0100
TZOFFSETTO:+0200
TZNAME:Europe/Paris CEST
END:DAYLIGHT
BEGIN:DAYLIGHT
DTSTART:20220327T030000
RDATE:20221030T020000
TZOFFSETFROM:+0100
TZOFFSETTO:+0200
TZNAME:Europe/Paris CEST
END:DAYLIGHT
BEGIN:DAYLIGHT
DTSTART:20230326T030000
RDATE:20231029T020000
TZOFFSETFROM:+0100
TZOFFSETTO:+0200
TZNAME:Europe/Paris CEST
END:DAYLIGHT
BEGIN:DAYLIGHT
DTSTART:20240331T030000
RDATE:20241027T020000
TZOFFSETFROM:+0100
TZOFFSETTO:+0200
TZNAME:Europe/Paris CEST
END:DAYLIGHT
BEGIN:DAYLIGHT
DTSTART:20250330T030000
RDATE:20251026T020000
TZOFFSETFROM:+0100
TZOFFSETTO:+0200
TZNAME:Europe/Paris CEST
END:DAYLIGHT
BEGIN:DAYLIGHT
DTSTART:20260329T030000
RDATE:20261025T020000
TZOFFSETFROM:+0100
TZOFFSETTO:+0200
TZNAME:Europe/Paris CEST
END:DAYLIGHT
END:VTIMEZONE
BEGIN:VEVENT
UID:e21e34d376b42ccf7bb8ae7fb05dab31
CATEGORIES:Opens et Promos (alpin)
CREATED:20131203T122100
SUMMARY:OPEN J U8 à U14  AATG Guebwiller
URL;VALUE=URI:https://skivosges.net/agenda/a-venir/detailevenement/169/-/open-j-u8-a-u14-
 aatg-guebwiller?tmpl=component
DESCRIPTION:OPEN J U8 à U14  AATG Guebwiller\n\nLieu : MARKSTEIN \nOrganisateur : S.C.O
 .S.E.G. GUEBWILLER  (14356 S.C.O.S.E.G. GUEBWILLER)\nEmail : RegularLabs.Em
 ailProtector.unCloak("ep_bd4062ce");\nTelecopie : 03 89 76 09 25\n\nPremier
  départ à 9h30\nForfait au bas de la fédérale\nDossards à la cabane d´arriv
 ée\n\nInscriptions en cours sur ce site\n - AMVF0701  Slalom Geant U8+U10 F
 illes\n  OPEN J U8 à U14  AATG Guebwiller\n - AMVM0701  Slalom Geant U8+U10
  Garçons\n  OPEN J U8 à U14  AATG Guebwiller\n - AMVF0702  Slalom Geant de 
 10 a 13ans au 31/12/2012 (Pou/Ben) Filles\n  OPEN J U8 à U14  AATG Guebwill
 er\n - AMVM0702  Slalom Geant de 10 a 13ans au 31/12/2012 (Pou/Ben) Garçons
 \n  OPEN J U8 à U14  AATG Guebwiller Cet évènement a été importé depuis :ht
 tps://skivosges.net/agenda/a-venir/detailevenement/169/-/open-j-u8-a-u14-aa
 tg-guebwiller?tmpl=component
X-ALT-DESC;FMTTYPE=text/html:<strong>OPEN J U8 à U14  AATG Guebwiller</strong><br /><br />Lieu : MARKSTE
 IN <br />Organisateur : S.C.O.S.E.G. GUEBWILLER  <small>(14356 S.C.O.S.E.G.
  GUEBWILLER)</small><br />Email : <!-- Cette adresse électronique est proté
 gée contre les robots spammeurs. --><span class="cloaked_email ep_bd4062ce"
 ><span data-ep-b="f&#114;" data-ep-a="s&#99;o"><span data-ep-b="&#111;&#111
 ;&#46;" data-ep-a="s&#101;&#103;"><span data-ep-b="&#110;&#97;&#100;" data-
 ep-a="&#64;wa"></span></span></span></span><script>RegularLabs.EmailProtect
 or.unCloak("ep_bd4062ce");</script><br />Telecopie : 03 89 76 09 25<br /><b
 r />Premier départ à 9h30<br>Forfait au bas de la fédérale<br>Dossards à la
  cabane d´arrivée<br /><br />Inscriptions en cours sur ce site<ul type="dis
 c"><li>AMVF0701  Slalom Geant <nobr>U8+U10</nobr> Filles<br />&nbsp;&nbsp;O
 PEN J U8 à U14  AATG Guebwiller</li><li>AMVM0701  Slalom Geant <nobr>U8+U10
 </nobr> Garçons<br />&nbsp;&nbsp;OPEN J U8 à U14  AATG Guebwiller</li><li>A
 MVF0702  Slalom Geant <nobr>de 10 a 13ans au 31/12/2012 (Pou/Ben)</nobr> Fi
 lles<br />&nbsp;&nbsp;OPEN J U8 à U14  AATG Guebwiller</li><li>AMVM0702  Sl
 alom Geant <nobr>de 10 a 13ans au 31/12/2012 (Pou/Ben)</nobr> Garçons<br />
 &nbsp;&nbsp;OPEN J U8 à U14  AATG Guebwiller</li></ul> <a href="https://ski
 vosges.net/agenda/a-venir/detailevenement/169/-/open-j-u8-a-u14-aatg-guebwi
 ller?tmpl=component">Cet évènement a été importé depuis :https://skivosges.
 net/agenda/a-venir/detailevenement/169/-/open-j-u8-a-u14-aatg-guebwiller?tm
 pl=component</a>DTSTAMP:20260424T012508
DTSTART;TZID=Europe/Paris:20140308T080000
DTEND;TZID=Europe/Paris:20140308T170000
SEQUENCE:0
TRANSP:OPAQUE
END:VEVENT
END:VCALENDAR