BEGIN:VCALENDAR
VERSION:2.0
PRODID:-//jEvents 2.0 for Joomla//EN
CALSCALE:GREGORIAN
METHOD:PUBLISH
BEGIN:VTIMEZONE
TZID:Europe/Paris
BEGIN:STANDARD
DTSTART:20201025T020000
RDATE:20210328T030000
TZOFFSETFROM:+0200
TZOFFSETTO:+0100
TZNAME:Europe/Paris CET
END:STANDARD
BEGIN:STANDARD
DTSTART:20211031T020000
RDATE:20220327T030000
TZOFFSETFROM:+0200
TZOFFSETTO:+0100
TZNAME:Europe/Paris CET
END:STANDARD
BEGIN:STANDARD
DTSTART:20221030T020000
RDATE:20230326T030000
TZOFFSETFROM:+0200
TZOFFSETTO:+0100
TZNAME:Europe/Paris CET
END:STANDARD
BEGIN:STANDARD
DTSTART:20231029T020000
RDATE:20240331T030000
TZOFFSETFROM:+0200
TZOFFSETTO:+0100
TZNAME:Europe/Paris CET
END:STANDARD
BEGIN:STANDARD
DTSTART:20241027T020000
RDATE:20250330T030000
TZOFFSETFROM:+0200
TZOFFSETTO:+0100
TZNAME:Europe/Paris CET
END:STANDARD
BEGIN:STANDARD
DTSTART:20251026T020000
RDATE:20260329T030000
TZOFFSETFROM:+0200
TZOFFSETTO:+0100
TZNAME:Europe/Paris CET
END:STANDARD
BEGIN:STANDARD
DTSTART:20261025T020000
RDATE:20270328T030000
TZOFFSETFROM:+0200
TZOFFSETTO:+0100
TZNAME:Europe/Paris CET
END:STANDARD
BEGIN:DAYLIGHT
DTSTART:20200703T000000
RDATE:20201025T020000
TZOFFSETFROM:+0100
TZOFFSETTO:+0200
TZNAME:Europe/Paris CEST
END:DAYLIGHT
BEGIN:DAYLIGHT
DTSTART:20210328T030000
RDATE:20211031T020000
TZOFFSETFROM:+0100
TZOFFSETTO:+0200
TZNAME:Europe/Paris CEST
END:DAYLIGHT
BEGIN:DAYLIGHT
DTSTART:20220327T030000
RDATE:20221030T020000
TZOFFSETFROM:+0100
TZOFFSETTO:+0200
TZNAME:Europe/Paris CEST
END:DAYLIGHT
BEGIN:DAYLIGHT
DTSTART:20230326T030000
RDATE:20231029T020000
TZOFFSETFROM:+0100
TZOFFSETTO:+0200
TZNAME:Europe/Paris CEST
END:DAYLIGHT
BEGIN:DAYLIGHT
DTSTART:20240331T030000
RDATE:20241027T020000
TZOFFSETFROM:+0100
TZOFFSETTO:+0200
TZNAME:Europe/Paris CEST
END:DAYLIGHT
BEGIN:DAYLIGHT
DTSTART:20250330T030000
RDATE:20251026T020000
TZOFFSETFROM:+0100
TZOFFSETTO:+0200
TZNAME:Europe/Paris CEST
END:DAYLIGHT
BEGIN:DAYLIGHT
DTSTART:20260329T030000
RDATE:20261025T020000
TZOFFSETFROM:+0100
TZOFFSETTO:+0200
TZNAME:Europe/Paris CEST
END:DAYLIGHT
END:VTIMEZONE
BEGIN:VEVENT
UID:42ed795ad099f812c1e851a3d84ff761
CATEGORIES:Compétition Saut
CREATED:20210707T190003
SUMMARY:SAMSE Summer National Tour U15
URL;VALUE=URI:https://skivosges.net/agenda/a-venir/detailevenement/1690/-/samse-summer-na
 tional-tour-u15?tmpl=component
DESCRIPTION:<!-- #gskiepreuve code généré par le plugin jevents pour GskiEpreuves. Ne p
 as modifier cette ligne, ni tout le contenu suivant  #gskiepreuve --><div c
 lass="gski-evenement_infos"><div class="gski-evenement-nom">SAMSE Summer Na
 tional Tour U15</div><div class="gski-evenement-report"></div><ul class="gs
 ki-evenement-liste-infos"><li>Codex évenement TNAT0230</li><li>Station : LA
  BRESSE</li><li>Organisateur : 14024 LA BRESSAUDE SECTION SKI</li></ul><div
  class="gski-evenement-infos-2"><div class="gski-evenement-info-inscription
 s"><div class="gski-evenement-inscriptions-periodes">Période d'inscription 
 à l'evènement du dimanche 27 juin 2021 à 02:00 au vendredi 02 juillet 2021 
 à 14:00 <span class="gski-evenement-inscriptions-impossibles">(Inscriptions
  impossibles).</span><div class="gski-evenement-inscriptions-types-titres">
 Inscriptions ouvertes aux detenteurs des titres Fédéraux valides suivants :
  Licenciés Compétiteurs</div></div></div><div class="gskiepreuves-links"><u
 l><li><a href="/index.php?option=com_jevents&task=icalevent.detail&evid=168
 5&Itemid=6289">Voir les informations dans l'agenda...</a></li></ul></div><d
 iv class="gski-evenement-epreuves"><div class="gski-evenement-epreuves-titr
 es">Epreuves :</div><ul class="gski-evenement-epreuves-list"><li><div class
 ="gski-epreuve-date">Le dimanche 04 juillet 2021</div><ul class="gski-epreu
 ve-liste-infos"><li>Codex épreuve TNAM0231</li><li>Saut Special</li><li>Cat
 égorie(s) : U7 a U15 (Garçons)</li></ul></li><li><div class="gski-epreuve-d
 ate">Le dimanche 04 juillet 2021</div><ul class="gski-epreuve-liste-infos">
 <li>Codex épreuve TNAF0231</li><li>Saut Special</li><li>Catégorie(s) : U7 a
  U15 (Filles)</li></ul></li></ul></div><div class="gskiepreuves-links"><ul>
 <li><a href="/index.php?option=com_jevents&task=icalevent.detail&evid=1685&
 Itemid=6289">Voir les informations dans l'agenda...</a></li></ul></div></di
 v"><!-- #/gskiepreuve fin du dode généré par le plugin jevents pour GskiEpr
 euves. . Ne pas modifier cette ligne, ni tout le contenu précedant.  #/gski
 epreuve --> <a href="https://skivosges.net/agenda/a-venir/detailevenement/1
 690/-/samse-summer-national-tour-u15?tmpl=component">Cet évènement a été im
 porté depuis :https://skivosges.net/agenda/a-venir/detailevenement/1690/-/s
 amse-summer-national-tour-u15?tmpl=component</a>
X-ALT-DESC;FMTTYPE=text/html:<!-- #gskiepreuve code généré par le plugin jevents pour GskiEpreuves. Ne p
 as modifier cette ligne, ni tout le contenu suivant  #gskiepreuve --><div c
 lass="gski-evenement_infos"><div class="gski-evenement-nom">SAMSE Summer Na
 tional Tour U15</div><div class="gski-evenement-report"></div><ul class="gs
 ki-evenement-liste-infos"><li>Codex évenement TNAT0230</li><li>Station : LA
  BRESSE</li><li>Organisateur : 14024 LA BRESSAUDE SECTION SKI</li></ul><div
  class="gski-evenement-infos-2"><div class="gski-evenement-info-inscription
 s"><div class="gski-evenement-inscriptions-periodes">Période d'inscription 
 à l'evènement du dimanche 27 juin 2021 à 02:00 au vendredi 02 juillet 2021 
 à 14:00 <span class="gski-evenement-inscriptions-impossibles">(Inscriptions
  impossibles).</span><div class="gski-evenement-inscriptions-types-titres">
 Inscriptions ouvertes aux detenteurs des titres Fédéraux valides suivants :
  Licenciés Compétiteurs</div></div></div><div class="gskiepreuves-links"><u
 l><li><a href="https://skivosges.net/index.php?option=com_jevents&task=ical
 event.detail&evid=1685&Itemid=6289">Voir les informations dans l'agenda...<
 /a></li></ul></div><div class="gski-evenement-epreuves"><div class="gski-ev
 enement-epreuves-titres">Epreuves :</div><ul class="gski-evenement-epreuves
 -list"><li><div class="gski-epreuve-date">Le dimanche 04 juillet 2021</div>
 <ul class="gski-epreuve-liste-infos"><li>Codex épreuve TNAM0231</li><li>Sau
 t Special</li><li>Catégorie(s) : U7 a U15 (Garçons)</li></ul></li><li><div 
 class="gski-epreuve-date">Le dimanche 04 juillet 2021</div><ul class="gski-
 epreuve-liste-infos"><li>Codex épreuve TNAF0231</li><li>Saut Special</li><l
 i>Catégorie(s) : U7 a U15 (Filles)</li></ul></li></ul></div><div class="gsk
 iepreuves-links"><ul><li><a href="https://skivosges.net/index.php?option=co
 m_jevents&task=icalevent.detail&evid=1685&Itemid=6289">Voir les information
 s dans l'agenda...</a></li></ul></div></div"><!-- #/gskiepreuve fin du dode
  généré par le plugin jevents pour GskiEpreuves. . Ne pas modifier cette li
 gne, ni tout le contenu précedant.  #/gskiepreuve --> <a href="https://skiv
 osges.net/agenda/a-venir/detailevenement/1690/-/samse-summer-national-tour-
 u15?tmpl=component">Cet évènement a été importé depuis :https://skivosges.n
 et/agenda/a-venir/detailevenement/1690/-/samse-summer-national-tour-u15?tmp
 l=component</a>DTSTAMP:20260421T051505
DTSTART;TZID=Europe/Paris;VALUE=DATE:20210704
DTEND;TZID=Europe/Paris;VALUE=DATE:20210705
SEQUENCE:0
TRANSP:OPAQUE
END:VEVENT
END:VCALENDAR