BEGIN:VCALENDAR
VERSION:2.0
PRODID:-//jEvents 2.0 for Joomla//EN
CALSCALE:GREGORIAN
METHOD:PUBLISH
BEGIN:VTIMEZONE
TZID:Europe/Paris
BEGIN:STANDARD
DTSTART:20201025T020000
RDATE:20210328T030000
TZOFFSETFROM:+0200
TZOFFSETTO:+0100
TZNAME:Europe/Paris CET
END:STANDARD
BEGIN:STANDARD
DTSTART:20211031T020000
RDATE:20220327T030000
TZOFFSETFROM:+0200
TZOFFSETTO:+0100
TZNAME:Europe/Paris CET
END:STANDARD
BEGIN:STANDARD
DTSTART:20221030T020000
RDATE:20230326T030000
TZOFFSETFROM:+0200
TZOFFSETTO:+0100
TZNAME:Europe/Paris CET
END:STANDARD
BEGIN:STANDARD
DTSTART:20231029T020000
RDATE:20240331T030000
TZOFFSETFROM:+0200
TZOFFSETTO:+0100
TZNAME:Europe/Paris CET
END:STANDARD
BEGIN:STANDARD
DTSTART:20241027T020000
RDATE:20250330T030000
TZOFFSETFROM:+0200
TZOFFSETTO:+0100
TZNAME:Europe/Paris CET
END:STANDARD
BEGIN:STANDARD
DTSTART:20251026T020000
RDATE:20260329T030000
TZOFFSETFROM:+0200
TZOFFSETTO:+0100
TZNAME:Europe/Paris CET
END:STANDARD
BEGIN:STANDARD
DTSTART:20261025T020000
RDATE:20270328T030000
TZOFFSETFROM:+0200
TZOFFSETTO:+0100
TZNAME:Europe/Paris CET
END:STANDARD
BEGIN:DAYLIGHT
DTSTART:20200910T000000
RDATE:20201025T020000
TZOFFSETFROM:+0100
TZOFFSETTO:+0200
TZNAME:Europe/Paris CEST
END:DAYLIGHT
BEGIN:DAYLIGHT
DTSTART:20210328T030000
RDATE:20211031T020000
TZOFFSETFROM:+0100
TZOFFSETTO:+0200
TZNAME:Europe/Paris CEST
END:DAYLIGHT
BEGIN:DAYLIGHT
DTSTART:20220327T030000
RDATE:20221030T020000
TZOFFSETFROM:+0100
TZOFFSETTO:+0200
TZNAME:Europe/Paris CEST
END:DAYLIGHT
BEGIN:DAYLIGHT
DTSTART:20230326T030000
RDATE:20231029T020000
TZOFFSETFROM:+0100
TZOFFSETTO:+0200
TZNAME:Europe/Paris CEST
END:DAYLIGHT
BEGIN:DAYLIGHT
DTSTART:20240331T030000
RDATE:20241027T020000
TZOFFSETFROM:+0100
TZOFFSETTO:+0200
TZNAME:Europe/Paris CEST
END:DAYLIGHT
BEGIN:DAYLIGHT
DTSTART:20250330T030000
RDATE:20251026T020000
TZOFFSETFROM:+0100
TZOFFSETTO:+0200
TZNAME:Europe/Paris CEST
END:DAYLIGHT
BEGIN:DAYLIGHT
DTSTART:20260329T030000
RDATE:20261025T020000
TZOFFSETFROM:+0100
TZOFFSETTO:+0200
TZNAME:Europe/Paris CEST
END:DAYLIGHT
END:VTIMEZONE
BEGIN:VEVENT
UID:6d89ce8ea860567af0b4fb35c99ae702
CATEGORIES:Compétition Biathlon
CREATED:20210723T190004
SUMMARY:Coupe des Vosges Crédit Mutuel/TGL/Comptoir de l'ours
URL;VALUE=URI:https://skivosges.net/agenda/a-venir/detailevenement/1696/-/coupe-des-vosge
 s-credit-mutuel-tgl-comptoir-de-lours?tmpl=component
DESCRIPTION:Coupe des Vosges Crédit Mutuel/TGL/Comptoir de l'ours\n - Codex évenement B
 MVT0090\n - Lieu : LA TENINE LA BRESSE\n - Organisateur : 14024 LA BRESSAUD
 E SECTION SKI\n - Courriel : RegularLabs.EmailProtector.unCloak("ep_ad576d2
 1");\n - Téléphone : 06 76 78 27 66\n - Délégué Technique : LEJEUNE DAMIENP
 ériode d'inscription à l'evènement du samedi 04 septembre 2021 à 02:00 au j
 eudi 09 septembre 2021 à 14:00 (Inscriptions impossibles).Inscriptions ouve
 rtes aux detenteurs des titres Fédéraux valides suivants : Licenciés Compét
 iteurs\n - Voir les informations dans l'agenda... (/index.php?option=com_je
 vents&amp;task=icalevent.detail&amp;evid=1691&amp;Itemid=6289)Epreuves :\n 
 - Le samedi 11 septembre 2021\n - Codex épreuve BMVF0091\n - Mass start\n -
  Catégorie(s) : U15 (Filles)\n - Le samedi 11 septembre 2021\n - Codex épre
 uve BMVM0091\n - Mass start\n - Catégorie(s) : U15 (Garçons)\n - Le samedi 
 11 septembre 2021\n - Codex épreuve BMVF0092\n - Mass start\n - Catégorie(s
 ) : U17 (Filles)\n - Le samedi 11 septembre 2021\n - Codex épreuve BMVM0092
 \n - Mass start\n - Catégorie(s) : U17 (Garçons)\n - Le samedi 11 septembre
  2021\n - Codex épreuve BMVF0093\n - Mass start\n - Catégorie(s) : U19 a SE
 N (Dames)\n - Le samedi 11 septembre 2021\n - Codex épreuve BMVM0093\n - Ma
 ss start\n - Catégorie(s) : U19 a SEN (Hommes)\n - Voir les informations da
 ns l'agenda... (/index.php?option=com_jevents&amp;task=icalevent.detail&amp
 ;evid=1691&amp;Itemid=6289) Cet évènement a été importé depuis :https://ski
 vosges.net/agenda/a-venir/detailevenement/1696/-/coupe-des-vosges-credit-mu
 tuel-tgl-comptoir-de-lours?tmpl=component
X-ALT-DESC;FMTTYPE=text/html:<!-- #gskiepreuve code généré par le plugin jevents pour GskiEpreuves. Ne p
 as modifier cette ligne, ni tout le contenu suivant  #gskiepreuve --><div c
 lass="gski-evenement_infos"><div class="gski-evenement-nom">Coupe des Vosge
 s Crédit Mutuel/TGL/Comptoir de l'ours</div><div class="gski-evenement-repo
 rt"></div><ul class="gski-evenement-liste-infos"><li>Codex évenement BMVT00
 90</li><li>Lieu : LA TENINE LA BRESSE</li><li>Organisateur : 14024 LA BRESS
 AUDE SECTION SKI</li><li>Courriel : <!-- Cette adresse électronique est pro
 tégée contre les robots spammeurs. --><span class="cloaked_email ep_ad576d2
 1"><span data-ep-b="" data-ep-a="tha&#98;"><span data-ep-b="c&#111;&#109;" 
 data-ep-a="r&#97;&#110;&#54;"><span data-ep-a="&#51;&#64;g&#109;" data-ep-b
 ="&#97;&#105;l&#46;"></span></span></span></span><script>RegularLabs.EmailP
 rotector.unCloak("ep_ad576d21");</script></li><li>Téléphone : 06 76 78 27 6
 6</li><li><span class="gski-evenement-obs">Délégué Technique : LEJEUNE DAMI
 EN</span></li></ul><div class="gski-evenement-infos-2"><div class="gski-eve
 nement-info-inscriptions"><div class="gski-evenement-inscriptions-periodes"
 >Période d'inscription à l'evènement du samedi 04 septembre 2021 à 02:00 au
  jeudi 09 septembre 2021 à 14:00 <span class="gski-evenement-inscriptions-i
 mpossibles">(Inscriptions impossibles).</span><div class="gski-evenement-in
 scriptions-types-titres">Inscriptions ouvertes aux detenteurs des titres Fé
 déraux valides suivants : Licenciés Compétiteurs</div></div></div><div clas
 s="gskiepreuves-links"><ul><li><a href="https://skivosges.net/index.php?opt
 ion=com_jevents&task=icalevent.detail&evid=1691&Itemid=6289">Voir les infor
 mations dans l'agenda...</a></li></ul></div><div class="gski-evenement-epre
 uves"><div class="gski-evenement-epreuves-titres">Epreuves :</div><ul class
 ="gski-evenement-epreuves-list"><li><div class="gski-epreuve-date">Le samed
 i 11 septembre 2021</div><ul class="gski-epreuve-liste-infos"><li>Codex épr
 euve BMVF0091</li><li>Mass start</li><li>Catégorie(s) : U15 (Filles)</li></
 ul></li><li><div class="gski-epreuve-date">Le samedi 11 septembre 2021</div
 ><ul class="gski-epreuve-liste-infos"><li>Codex épreuve BMVM0091</li><li>Ma
 ss start</li><li>Catégorie(s) : U15 (Garçons)</li></ul></li><li><div class=
 "gski-epreuve-date">Le samedi 11 septembre 2021</div><ul class="gski-epreuv
 e-liste-infos"><li>Codex épreuve BMVF0092</li><li>Mass start</li><li>Catégo
 rie(s) : U17 (Filles)</li></ul></li><li><div class="gski-epreuve-date">Le s
 amedi 11 septembre 2021</div><ul class="gski-epreuve-liste-infos"><li>Codex
  épreuve BMVM0092</li><li>Mass start</li><li>Catégorie(s) : U17 (Garçons)</
 li></ul></li><li><div class="gski-epreuve-date">Le samedi 11 septembre 2021
 </div><ul class="gski-epreuve-liste-infos"><li>Codex épreuve BMVF0093</li><
 li>Mass start</li><li>Catégorie(s) : U19 a SEN (Dames)</li></ul></li><li><d
 iv class="gski-epreuve-date">Le samedi 11 septembre 2021</div><ul class="gs
 ki-epreuve-liste-infos"><li>Codex épreuve BMVM0093</li><li>Mass start</li><
 li>Catégorie(s) : U19 a SEN (Hommes)</li></ul></li></ul></div><div class="g
 skiepreuves-links"><ul><li><a href="https://skivosges.net/index.php?option=
 com_jevents&task=icalevent.detail&evid=1691&Itemid=6289">Voir les informati
 ons dans l'agenda...</a></li></ul></div></div"><!-- #/gskiepreuve fin du do
 de généré par le plugin jevents pour GskiEpreuves. . Ne pas modifier cette 
 ligne, ni tout le contenu précedant.  #/gskiepreuve --> <a href="https://sk
 ivosges.net/agenda/a-venir/detailevenement/1696/-/coupe-des-vosges-credit-m
 utuel-tgl-comptoir-de-lours?tmpl=component">Cet évènement a été importé dep
 uis :https://skivosges.net/agenda/a-venir/detailevenement/1696/-/coupe-des-
 vosges-credit-mutuel-tgl-comptoir-de-lours?tmpl=component</a>DTSTAMP:20260423T174112
DTSTART;TZID=Europe/Paris;VALUE=DATE:20210911
DTEND;TZID=Europe/Paris;VALUE=DATE:20210912
SEQUENCE:0
TRANSP:OPAQUE
END:VEVENT
END:VCALENDAR